PDS_VERSION_ID = PDS3
/* FILE DATA ELEMENTS */
RECORD_TYPE = UNDEFINED
/* POINTERS TO DATA OBJECTS */
^IMAGE = ("HH992_0000_RE4.TIF")
/* IDENTIFICATION DATA ELEMENTS */
DATA_SET_ID = "MEX-M-HRSC-4-REFDR-MAPPROJECT-EXT6-V4.0"
DATA_SET_NAME = "MARS EXPRESS HRSC MAP PROJECTED REFDR EXTENSION6 V4.0"
DETECTOR_ID = MEX_HRSC_RED
EVENT_TYPE = "MARS-REGIONAL-MAPPING-Vo-Te-Pf"
INSTRUMENT_HOST_ID = MEX
INSTRUMENT_HOST_NAME = "MARS EXPRESS"
INSTRUMENT_ID = HRSC
INSTRUMENT_NAME = "HIGH RESOLUTION STEREO CAMERA"
MISSION_NAME = "MARS EXPRESS"
MISSION_PHASE_NAME = ME_Phase_38
PROCESSING_LEVEL_ID = 4
PRODUCT_CREATION_TIME = 2023-01-28T19:29:54.000Z
PRODUCT_ID = "HH992_0000_RE4.TIF"
RELEASE_ID = 0003
REVISION_ID = 0000
/* QUALITY DATA ELEMENTS */
DATA_QUALITY_ID = 1
DATA_QUALITY_DESC = "Data calculated based on original SPICE kernels"
/* TIME DATA ELEMENTS */
SPACECRAFT_CLOCK_START_COUNT = "1/0469655098.09052"
SPACECRAFT_CLOCK_STOP_COUNT = "1/0469655303.09964"
START_TIME = 2018-03-20T19:46:12.788Z
STOP_TIME = 2018-03-20T19:48:24.501Z
/* ORBITAL DATA ELEMENTS */
ASCENDING_NODE_LONGITUDE = 236.38
MAXIMUM_RESOLUTION = 0.0638
FOOTPRINT_POINT_LATITUDE = (66.2832,66.2555,66.2327,66.2118, 66.1542,66.1528,66.25,66.082,65.914, 65.7457,65.5776,65.3255,65.1573,64.9898 ,64.8218,64.6536,64.4036,64.2332, 64.0657,63.8979,63.7301,63.562,63.3102, 63.1424,62.9747,62.8071,62.6395,62.4717 ,62.2201,62.0525,61.8849,61.7172, 61.4662,61.2988,61.1314,60.964,60.7131, 60.546,60.2954,60.1282,59.7944,59.3773, 59.0439,58.7939,58.3776,57.9618,57.8785 ,57.8365,57.8544,57.8686,57.8808, 57.9036,57.9195,57.9201,57.9213,58.1717 ,58.5061,58.8408,59.0082,59.1757, 59.3434,59.511,59.7627,59.9305,60.0984, 60.2662,60.5183,60.6864,60.8543,61.0225 ,61.1909,61.3593,61.5276,61.6957, 61.8644,62.1176,62.2863,62.4553,62.7086 ,62.9617,63.1308,63.2998,63.4687, 63.7222,63.8912,64.0606,64.3144,64.4836 ,64.6528,64.8222,64.9915,65.1609, 65.3304,65.5844,65.7538,65.9233,66.093, 66.2626,66.3474,66.2832)
FOOTPRINT_POINT_LONGITUDE = (236.346,235.547,234.955,234.454, 233.217,233.188,233.056,233.113,233.169 ,233.224,233.278,233.358,233.41,233.46, 233.51,233.559,233.63,233.68,233.726, 233.771,233.816,233.861,233.926,233.968 ,234.01,234.051,234.091,234.131,234.19, 234.228,234.266,234.304,234.358,234.394 ,234.429,234.463,234.514,234.547, 234.596,234.628,234.69,234.766,234.824, 234.867,234.935,235.001,235.014,235.021 ,235.468,235.845,236.199,236.931, 237.522,237.546,237.554,237.53,237.498, 237.465,237.448,237.431,237.413,237.396 ,237.369,237.351,237.333,237.314, 237.285,237.266,237.246,237.227,237.206 ,237.186,237.165,237.144,237.123, 237.091,237.069,237.046,237.012,236.977 ,236.954,236.929,236.905,236.868, 236.842,236.817,236.777,236.751,236.723 ,236.696,236.668,236.639,236.611, 236.566,236.536,236.506,236.475,236.443 ,236.427,236.346)
ORBIT_NUMBER = 17992
ORBITAL_ECCENTRICITY = 0.572
ORBITAL_INCLINATION = 86.98
ORBITAL_SEMIMAJOR_AXIS = 8774.56
PERIAPSIS_ALTITUDE = 378.52
PERIAPSIS_ARGUMENT_ANGLE = 119.23
PERIAPSIS_TIME = 2018-03-20T19:47:13.000Z
SPACECRAFT_ORIENTATION = (0.0,-1.0,0.0)
^MEX_ORIENTATION_DESC = "MEX_ORIENTATION_DESC.TXT"
SPACECRAFT_POINTING_MODE = NADIR
^MEX_POINTING_DESC = "MEX_POINTING_DESC.TXT"
RIGHT_ASCENSION = -1e+32
DECLINATION = -1e+32
OFFSET_ANGLE = -1e+32
SPACECRAFT_SOLAR_DISTANCE = 2.31423e+08
TARGET_NAME = MARS
/* CAMERA DATA ELEMENTS */
DETECTOR_TEMPERATURE = 18.3705
FOCAL_PLANE_TEMPERATURE = 8.7872
INST_CMPRS_NAME = "DISCRETE COSINE TRANSFORMATION (DCT)"
INST_CMPRS_RATIO = 28.6907
INST_CMPRS_QUALITY = 0
INST_CMPRS_QUANTZ_TBL_ID = 0
INSTRUMENT_TEMPERATURE = 11.6418
LENS_TEMPERATURE = 9.195
MACROPIXEL_SIZE = 4
MISSING_FRAMES = 0
PIXEL_SUBSAMPLING_FLAG = N
SIGNAL_CHAIN_ID = 2
/* RADIOMETRIC DATA ELEMENTS */
BANDWIDTH = 48.0
CENTER_FILTER_WAVELENGTH = 748.0
RADIANCE_OFFSET = 0.826812
RADIANCE_SCALING_FACTOR = 0.00489539
REFLECTANCE_SCALING_FACTOR = 0.000598314
MEX:REFLECTANCE_OFFSET = 0.101053
/* IMAGE OBJECT DEFINITIONS */
OBJECT = IMAGE
  INTERCHANGE_FORMAT = BINARY
  LINES = 10152
  LINE_SAMPLES = 2383
  SAMPLE_TYPE = UNSIGNED_INTEGER
  SAMPLE_BITS = 8
  BANDS = 1
  BAND_STORAGE_TYPE = BAND_SEQUENTIAL
  MAXIMUM = 255
  MEAN = 159.698
  MINIMUM = 1
  STANDARD_DEVIATION = 25.3182
END_OBJECT = IMAGE
/* MAP OBJECT DEFINITIONS */
OBJECT = IMAGE_MAP_PROJECTION
  ^DATA_SET_MAP_PROJECTION_CATALOG= "DSMAP.CAT"
  A_AXIS_RADIUS = 3396.0
  B_AXIS_RADIUS = 3396.0
  C_AXIS_RADIUS = 3396.0
  CENTER_LATITUDE = 0.0
  CENTER_LONGITUDE = 236.0
  COORDINATE_SYSTEM_NAME = PLANETOGRAPHIC
  COORDINATE_SYSTEM_TYPE = "BODY-FIXED ROTATING"
  EASTERNMOST_LONGITUDE = 237.554
  FIRST_STANDARD_PARALLEL = "N/A"
  LINE_FIRST_PIXEL = 1
  LINE_LAST_PIXEL = 10152
  LINE_PROJECTION_OFFSET = 78700.375
  MAP_PROJECTION_ROTATION = 0.0
  MAP_PROJECTION_TYPE = SINUSOIDAL
  MAP_RESOLUTION = 1185.42760773333
  MAP_SCALE = 0.05
  MAXIMUM_LATITUDE = 66.34739999999999
  MINIMUM_LATITUDE = 57.8365
  POSITIVE_LONGITUDE_DIRECTION = EAST
  REFERENCE_LATITUDE = "N/A"
  REFERENCE_LONGITUDE = "N/A"
  SAMPLE_FIRST_PIXEL = 1
  SAMPLE_LAST_PIXEL = 2383
  SAMPLE_PROJECTION_OFFSET = 1414.875
  SECOND_STANDARD_PARALLEL = "N/A"
  WESTERNMOST_LONGITUDE = 233.056
END_OBJECT = IMAGE_MAP_PROJECTION
END
