PDS_VERSION_ID = PDS3
/* FILE DATA ELEMENTS */
RECORD_TYPE = UNDEFINED
/* POINTERS TO DATA OBJECTS */
^IMAGE = ("HH994_0000_BL4.TIF")
/* IDENTIFICATION DATA ELEMENTS */
DATA_SET_ID = "MEX-M-HRSC-4-REFDR-MAPPROJECT-EXT6-V4.0"
DATA_SET_NAME = "MARS EXPRESS HRSC MAP PROJECTED REFDR EXTENSION6 V4.0"
DETECTOR_ID = MEX_HRSC_BLUE
EVENT_TYPE = "MARS-REGIONAL-MAPPING-Im-Gl-Pf"
INSTRUMENT_HOST_ID = MEX
INSTRUMENT_HOST_NAME = "MARS EXPRESS"
INSTRUMENT_ID = HRSC
INSTRUMENT_NAME = "HIGH RESOLUTION STEREO CAMERA"
MISSION_NAME = "MARS EXPRESS"
MISSION_PHASE_NAME = ME_Phase_38
PROCESSING_LEVEL_ID = 4
PRODUCT_CREATION_TIME = 2023-01-28T19:29:54.000Z
PRODUCT_ID = "HH994_0000_BL4.TIF"
RELEASE_ID = 0003
REVISION_ID = 0000
/* QUALITY DATA ELEMENTS */
DATA_QUALITY_ID = 1
DATA_QUALITY_DESC = "Data calculated based on original SPICE kernels"
/* TIME DATA ELEMENTS */
SPACECRAFT_CLOCK_START_COUNT = "1/0469705410.09079"
SPACECRAFT_CLOCK_STOP_COUNT = "1/0469705649.00235"
START_TIME = 2018-03-21T09:44:21.051Z
STOP_TIME = 2018-03-21T09:47:06.107Z
/* ORBITAL DATA ELEMENTS */
ASCENDING_NODE_LONGITUDE = 236.33
MAXIMUM_RESOLUTION = 0.0612
FOOTPRINT_POINT_LATITUDE = (64.5521,64.5358,64.5094,64.488,64.4329 ,64.4315,64.4477,64.2385,64.0292, 63.8197,63.5055,63.2961,63.0865,62.877, 62.5626,62.2481,62.0384,61.8287,61.5142 ,61.3044,61.0947,60.8849,60.6752, 60.3605,60.1507,59.8361,59.5215,59.3118 ,59.1021,58.7875,58.5778,58.3682, 58.1586,57.949,57.7394,57.5299,57.3204, 57.1109,56.9014,56.6921,56.4827,56.2735 ,56.0643,55.8551,55.6459,55.2279, 54.8102,54.3927,54.0798,53.9754,53.9213 ,53.9513,53.9793,53.9914,53.9919, 53.9931,54.3071,54.7261,54.9356,55.1455 ,55.3551,55.5651,55.775,55.985,56.3001, 56.6154,56.8257,57.036,57.2464,57.4568, 57.7726,57.9831,58.1937,58.4043,58.7203 ,58.9309,59.2472,59.458,59.6689,59.8799 ,60.0907,60.3016,60.618,60.829,61.1455, 61.3566,61.5676,61.7787,61.9897,62.2008 ,62.5173,62.8339,63.1504,63.3615,63.678 ,63.889,64.2054,64.4164,64.5218, 64.5521)
FOOTPRINT_POINT_LONGITUDE = (32.3786,31.8826,31.1673,30.6456, 29.4678,29.4405,29.3448,29.404,29.4623, 29.5199,29.6038,29.6581,29.7115,29.7639 ,29.8405,29.9148,29.9633,30.0107, 30.0801,30.1254,30.1696,30.2133,30.2559 ,30.3183,30.359,30.4186,30.4765,30.5141 ,30.551,30.6051,30.6403,30.6749,30.7089 ,30.7422,30.7749,30.8069,30.8383, 30.8693,30.8997,30.9294,30.9585,30.9869 ,31.0151,31.0425,31.0696,31.122,31.1722 ,31.2205,31.2557,31.2674,31.2733, 32.0924,33.044,33.5635,33.5851,33.5923, 33.5702,33.5394,33.5237,33.5082,33.4919 ,33.4757,33.4591,33.4423,33.4167, 33.3904,33.3725,33.3545,33.336,33.3173, 33.2886,33.2691,33.2493,33.2291,33.1981 ,33.1768,33.1449,33.1231,33.101,33.0787 ,33.0555,33.0321,32.9962,32.9716, 32.9344,32.909,32.8831,32.857,32.8302, 32.803,32.7611,32.7182,32.6742,32.6441, 32.598,32.5665,32.5182,32.4853,32.4686, 32.3786)
ORBIT_NUMBER = 17994
ORBITAL_ECCENTRICITY = 0.572
ORBITAL_INCLINATION = 86.97
ORBITAL_SEMIMAJOR_AXIS = 8776.54
PERIAPSIS_ALTITUDE = 379.74
PERIAPSIS_ARGUMENT_ANGLE = 118.91
PERIAPSIS_TIME = 2018-03-21T09:45:11.000Z
SPACECRAFT_ORIENTATION = (0.0,-1.0,0.0)
^MEX_ORIENTATION_DESC = "MEX_ORIENTATION_DESC.TXT"
SPACECRAFT_POINTING_MODE = NADIR
^MEX_POINTING_DESC = "MEX_POINTING_DESC.TXT"
RIGHT_ASCENSION = -1e+32
DECLINATION = -1e+32
OFFSET_ANGLE = -1e+32
SPACECRAFT_SOLAR_DISTANCE = 2.31313e+08
TARGET_NAME = MARS
/* CAMERA DATA ELEMENTS */
DETECTOR_TEMPERATURE = 18.3705
FOCAL_PLANE_TEMPERATURE = 7.7677
INST_CMPRS_NAME = "DISCRETE COSINE TRANSFORMATION (DCT)"
INST_CMPRS_RATIO = 8.98771
INST_CMPRS_QUALITY = 0
INST_CMPRS_QUANTZ_TBL_ID = 0
INSTRUMENT_TEMPERATURE = 9.8067
LENS_TEMPERATURE = 8.7872
MACROPIXEL_SIZE = 4
MISSING_FRAMES = 0
PIXEL_SUBSAMPLING_FLAG = N
SIGNAL_CHAIN_ID = 2
/* RADIOMETRIC DATA ELEMENTS */
BANDWIDTH = 76.0
CENTER_FILTER_WAVELENGTH = 444.0
RADIANCE_OFFSET = 0.544352
RADIANCE_SCALING_FACTOR = 0.000866261
REFLECTANCE_SCALING_FACTOR = 4.76218e-05
MEX:REFLECTANCE_OFFSET = 0.0299252
/* IMAGE OBJECT DEFINITIONS */
OBJECT = IMAGE
  INTERCHANGE_FORMAT = BINARY
  LINES = 12638
  LINE_SAMPLES = 2477
  SAMPLE_TYPE = UNSIGNED_INTEGER
  SAMPLE_BITS = 8
  BANDS = 1
  BAND_STORAGE_TYPE = BAND_SEQUENTIAL
  MAXIMUM = 255
  MEAN = 116.955
  MINIMUM = 1
  STANDARD_DEVIATION = 20.2972
END_OBJECT = IMAGE
/* MAP OBJECT DEFINITIONS */
OBJECT = IMAGE_MAP_PROJECTION
  ^DATA_SET_MAP_PROJECTION_CATALOG= "DSMAP.CAT"
  A_AXIS_RADIUS = 3396.0
  B_AXIS_RADIUS = 3396.0
  C_AXIS_RADIUS = 3396.0
  CENTER_LATITUDE = 0.0
  CENTER_LONGITUDE = 32.0
  COORDINATE_SYSTEM_NAME = PLANETOGRAPHIC
  COORDINATE_SYSTEM_TYPE = "BODY-FIXED ROTATING"
  EASTERNMOST_LONGITUDE = 33.5923
  FIRST_STANDARD_PARALLEL = "N/A"
  LINE_FIRST_PIXEL = 1
  LINE_LAST_PIXEL = 12638
  LINE_PROJECTION_OFFSET = 76551.875
  MAP_PROJECTION_ROTATION = 0.0
  MAP_PROJECTION_TYPE = SINUSOIDAL
  MAP_RESOLUTION = 1185.42760773333
  MAP_SCALE = 0.05
  MAXIMUM_LATITUDE = 64.5521
  MINIMUM_LATITUDE = 53.9213
  POSITIVE_LONGITUDE_DIRECTION = EAST
  REFERENCE_LATITUDE = "N/A"
  REFERENCE_LONGITUDE = "N/A"
  SAMPLE_FIRST_PIXEL = 1
  SAMPLE_LAST_PIXEL = 2477
  SAMPLE_PROJECTION_OFFSET = 1368.625
  SECOND_STANDARD_PARALLEL = "N/A"
  WESTERNMOST_LONGITUDE = 29.3448
END_OBJECT = IMAGE_MAP_PROJECTION
END
