PDS_VERSION_ID = PDS3
/* FILE DATA ELEMENTS */
RECORD_TYPE = UNDEFINED
/* POINTERS TO DATA OBJECTS */
^IMAGE = ("HH994_0000_RE4.TIF")
/* IDENTIFICATION DATA ELEMENTS */
DATA_SET_ID = "MEX-M-HRSC-4-REFDR-MAPPROJECT-EXT6-V4.0"
DATA_SET_NAME = "MARS EXPRESS HRSC MAP PROJECTED REFDR EXTENSION6 V4.0"
DETECTOR_ID = MEX_HRSC_RED
EVENT_TYPE = "MARS-REGIONAL-MAPPING-Im-Gl-Pf"
INSTRUMENT_HOST_ID = MEX
INSTRUMENT_HOST_NAME = "MARS EXPRESS"
INSTRUMENT_ID = HRSC
INSTRUMENT_NAME = "HIGH RESOLUTION STEREO CAMERA"
MISSION_NAME = "MARS EXPRESS"
MISSION_PHASE_NAME = ME_Phase_38
PROCESSING_LEVEL_ID = 4
PRODUCT_CREATION_TIME = 2023-01-28T19:29:54.000Z
PRODUCT_ID = "HH994_0000_RE4.TIF"
RELEASE_ID = 0003
REVISION_ID = 0000
/* QUALITY DATA ELEMENTS */
DATA_QUALITY_ID = 1
DATA_QUALITY_DESC = "Data calculated based on original SPICE kernels"
/* TIME DATA ELEMENTS */
SPACECRAFT_CLOCK_START_COUNT = "1/0469705410.09079"
SPACECRAFT_CLOCK_STOP_COUNT = "1/0469705649.00235"
START_TIME = 2018-03-21T09:44:43.911Z
STOP_TIME = 2018-03-21T09:47:29.977Z
/* ORBITAL DATA ELEMENTS */
ASCENDING_NODE_LONGITUDE = 236.33
MAXIMUM_RESOLUTION = 0.0641
FOOTPRINT_POINT_LATITUDE = (64.4865,64.4616,64.4223,64.3705, 64.3691,64.4659,64.2541,64.0419,63.8295 ,63.5113,63.1934,62.9814,62.7695, 62.5578,62.346,62.1342,61.9226,61.711, 61.4996,61.1827,60.9712,60.7601,60.4434 ,60.127,59.916,59.7053,59.4948,59.179, 58.9686,58.7583,58.5482,58.2331,58.0231 ,57.8133,57.6036,57.3941,57.1844, 56.9752,56.7657,56.5569,56.3481,56.1392 ,55.7221,55.3056,54.8903,54.4753, 54.0605,53.9566,53.9388,53.9596,53.9714 ,53.9885,54.0072,54.0076,54.0087, 54.3209,54.7368,55.1541,55.5716,55.8855 ,56.0949,56.3045,56.514,56.724,56.934, 57.1442,57.3547,57.565,57.7757,57.9863, 58.1973,58.408,58.619,58.9353,59.1467, 59.4645,59.6764,59.8886,60.1002,60.3122 ,60.5242,60.7363,60.9487,61.1616, 61.3741,61.587,61.7997,62.0127,62.2254, 62.4387,62.6516,62.8649,63.0781,63.2917 ,63.6118,63.8254,64.1458,64.4665, 64.5733,64.4865)
FOOTPRINT_POINT_LONGITUDE = (32.3921,31.6474,30.6297,29.4772, 29.4497,29.3309,29.3905,29.4492,29.5072 ,29.5915,29.673,29.7261,29.7781,29.8288 ,29.8788,29.9278,29.9757,30.0227, 30.0686,30.1358,30.1797,30.2226,30.2854 ,30.3463,30.3861,30.4249,30.4629, 30.5186,30.555,30.5905,30.6253,30.6764, 30.7097,30.7422,30.7742,30.8055,30.8364 ,30.8664,30.8963,30.9251,30.9534, 30.9813,31.0354,31.0873,31.1368,31.1846 ,31.2309,31.2424,31.2443,31.8168, 32.1921,32.7888,33.5851,33.6072,33.6146 ,33.5921,33.5608,33.5289,33.4959, 33.4706,33.4533,33.4358,33.4179,33.4, 33.3816,33.363,33.3442,33.3249,33.3053, 33.2854,33.2653,33.2446,33.2236,33.1913 ,33.1695,33.1364,33.1138,33.091,33.0672 ,33.0433,33.0189,32.9941,32.9689, 32.9435,32.9174,32.891,32.864,32.8366, 32.8084,32.78,32.7509,32.7214,32.6913, 32.6607,32.6136,32.5815,32.5321,32.4814 ,32.4641,32.3921)
ORBIT_NUMBER = 17994
ORBITAL_ECCENTRICITY = 0.572
ORBITAL_INCLINATION = 86.97
ORBITAL_SEMIMAJOR_AXIS = 8776.54
PERIAPSIS_ALTITUDE = 379.74
PERIAPSIS_ARGUMENT_ANGLE = 118.91
PERIAPSIS_TIME = 2018-03-21T09:45:11.000Z
SPACECRAFT_ORIENTATION = (0.0,-1.0,0.0)
^MEX_ORIENTATION_DESC = "MEX_ORIENTATION_DESC.TXT"
SPACECRAFT_POINTING_MODE = NADIR
^MEX_POINTING_DESC = "MEX_POINTING_DESC.TXT"
RIGHT_ASCENSION = -1e+32
DECLINATION = -1e+32
OFFSET_ANGLE = -1e+32
SPACECRAFT_SOLAR_DISTANCE = 2.31313e+08
TARGET_NAME = MARS
/* CAMERA DATA ELEMENTS */
DETECTOR_TEMPERATURE = 18.3705
FOCAL_PLANE_TEMPERATURE = 7.7677
INST_CMPRS_NAME = "DISCRETE COSINE TRANSFORMATION (DCT)"
INST_CMPRS_RATIO = 22.286
INST_CMPRS_QUALITY = 0
INST_CMPRS_QUANTZ_TBL_ID = 0
INSTRUMENT_TEMPERATURE = 9.8067
LENS_TEMPERATURE = 8.7872
MACROPIXEL_SIZE = 4
MISSING_FRAMES = 0
PIXEL_SUBSAMPLING_FLAG = N
SIGNAL_CHAIN_ID = 2
/* RADIOMETRIC DATA ELEMENTS */
BANDWIDTH = 48.0
CENTER_FILTER_WAVELENGTH = 748.0
RADIANCE_OFFSET = 1.06999
RADIANCE_SCALING_FACTOR = 0.00349671
REFLECTANCE_SCALING_FACTOR = 0.00042696
MEX:REFLECTANCE_OFFSET = 0.13065
/* IMAGE OBJECT DEFINITIONS */
OBJECT = IMAGE
  INTERCHANGE_FORMAT = BINARY
  LINES = 12638
  LINE_SAMPLES = 2477
  SAMPLE_TYPE = UNSIGNED_INTEGER
  SAMPLE_BITS = 8
  BANDS = 1
  BAND_STORAGE_TYPE = BAND_SEQUENTIAL
  MAXIMUM = 255
  MEAN = 110.688
  MINIMUM = 1
  STANDARD_DEVIATION = 31.4033
END_OBJECT = IMAGE
/* MAP OBJECT DEFINITIONS */
OBJECT = IMAGE_MAP_PROJECTION
  ^DATA_SET_MAP_PROJECTION_CATALOG= "DSMAP.CAT"
  A_AXIS_RADIUS = 3396.0
  B_AXIS_RADIUS = 3396.0
  C_AXIS_RADIUS = 3396.0
  CENTER_LATITUDE = 0.0
  CENTER_LONGITUDE = 32.0
  COORDINATE_SYSTEM_NAME = PLANETOGRAPHIC
  COORDINATE_SYSTEM_TYPE = "BODY-FIXED ROTATING"
  EASTERNMOST_LONGITUDE = 33.6146
  FIRST_STANDARD_PARALLEL = "N/A"
  LINE_FIRST_PIXEL = 1
  LINE_LAST_PIXEL = 12638
  LINE_PROJECTION_OFFSET = 76551.875
  MAP_PROJECTION_ROTATION = 0.0
  MAP_PROJECTION_TYPE = SINUSOIDAL
  MAP_RESOLUTION = 1185.42760773333
  MAP_SCALE = 0.05
  MAXIMUM_LATITUDE = 64.5733
  MINIMUM_LATITUDE = 53.9388
  POSITIVE_LONGITUDE_DIRECTION = EAST
  REFERENCE_LATITUDE = "N/A"
  REFERENCE_LONGITUDE = "N/A"
  SAMPLE_FIRST_PIXEL = 1
  SAMPLE_LAST_PIXEL = 2477
  SAMPLE_PROJECTION_OFFSET = 1368.625
  SECOND_STANDARD_PARALLEL = "N/A"
  WESTERNMOST_LONGITUDE = 29.3309
END_OBJECT = IMAGE_MAP_PROJECTION
END
