PDS_VERSION_ID = PDS3
/* FILE DATA ELEMENTS */
RECORD_TYPE = UNDEFINED
/* POINTERS TO DATA OBJECTS */
^IMAGE = ("HH995_0000_IR4.TIF")
/* IDENTIFICATION DATA ELEMENTS */
DATA_SET_ID = "MEX-M-HRSC-4-REFDR-MAPPROJECT-EXT6-V4.0"
DATA_SET_NAME = "MARS EXPRESS HRSC MAP PROJECTED REFDR EXTENSION6 V4.0"
DETECTOR_ID = MEX_HRSC_IR
EVENT_TYPE = "MARS-REGIONAL-MAPPING-Im-Pf"
INSTRUMENT_HOST_ID = MEX
INSTRUMENT_HOST_NAME = "MARS EXPRESS"
INSTRUMENT_ID = HRSC
INSTRUMENT_NAME = "HIGH RESOLUTION STEREO CAMERA"
MISSION_NAME = "MARS EXPRESS"
MISSION_PHASE_NAME = ME_Phase_38
PROCESSING_LEVEL_ID = 4
PRODUCT_CREATION_TIME = 2023-01-28T19:29:54.000Z
PRODUCT_ID = "HH995_0000_IR4.TIF"
RELEASE_ID = 0003
REVISION_ID = 0000
/* QUALITY DATA ELEMENTS */
DATA_QUALITY_ID = 1
DATA_QUALITY_DESC = "Data calculated based on original SPICE kernels"
/* TIME DATA ELEMENTS */
SPACECRAFT_CLOCK_START_COUNT = "1/0469730502.09049"
SPACECRAFT_CLOCK_STOP_COUNT = "1/0469730753.08965"
START_TIME = 2018-03-21T16:41:58.077Z
STOP_TIME = 2018-03-21T16:44:56.647Z
/* ORBITAL DATA ELEMENTS */
ASCENDING_NODE_LONGITUDE = 236.32
MAXIMUM_RESOLUTION = 0.0639
FOOTPRINT_POINT_LATITUDE = (68.006,67.9574,67.9011,67.8481,67.8462 ,67.732,67.5119,67.2916,67.071,66.7399, 66.5189,66.2973,66.0757,65.8537,65.6314 ,65.4089,65.1862,64.9631,64.74,64.4046, 64.069,63.7329,63.3963,63.0593,62.8344, 62.6092,62.384,62.0458,61.82,61.4812, 61.2549,61.0287,60.8022,60.4625,60.2356 ,60.0082,59.7811,59.4402,59.0988, 58.7572,58.4153,58.1873,57.8449,57.5021 ,57.1592,56.816,56.5872,56.4726,56.4625 ,56.4787,56.4991,56.5132,56.5273, 56.5469,56.5475,56.5487,57.0087,57.3535 ,57.5833,57.8129,58.157,58.3864,58.6156 ,58.845,59.074,59.4171,59.6457,59.9887, 60.3313,60.5594,60.9015,61.1295,61.3573 ,61.5848,61.8124,62.1532,62.4939, 62.7209,62.9476,63.1742,63.5138,63.7399 ,63.966,64.1918,64.4174,64.643,64.8683, 65.0934,65.3184,65.5432,65.7677,66.1041 ,66.4402,66.7757,67.1108,67.334,67.557, 67.7798,67.8912,68.006)
FOOTPRINT_POINT_LONGITUDE = (289.623,288.339,287.128,286.149, 286.117,286.049,286.137,286.224,286.309 ,286.434,286.514,286.593,286.67,286.746 ,286.819,286.892,286.963,287.032,287.1, 287.199,287.295,287.388,287.479,287.566 ,287.623,287.679,287.734,287.814, 287.866,287.942,287.991,288.04,288.087, 288.157,288.202,288.246,288.29,288.353, 288.415,288.475,288.533,288.57,288.626, 288.679,288.731,288.782,288.814,288.831 ,288.832,289.192,289.689,290.074, 290.505,291.231,291.254,291.261,291.223 ,291.194,291.174,291.154,291.123, 291.101,291.08,291.058,291.035,291.002, 290.978,290.943,290.906,290.881,290.843 ,290.817,290.79,290.764,290.736,290.694 ,290.651,290.621,290.591,290.56,290.513 ,290.481,290.448,290.415,290.381, 290.346,290.311,290.275,290.238,290.2, 290.162,290.103,290.043,289.98,289.916, 289.872,289.827,289.781,289.758, 289.623)
ORBIT_NUMBER = 17995
ORBITAL_ECCENTRICITY = 0.571
ORBITAL_INCLINATION = 86.97
ORBITAL_SEMIMAJOR_AXIS = 8774.11
PERIAPSIS_ALTITUDE = 379.64
PERIAPSIS_ARGUMENT_ANGLE = 118.76
PERIAPSIS_TIME = 2018-03-21T16:44:14.000Z
SPACECRAFT_ORIENTATION = (0.0,-1.0,0.0)
^MEX_ORIENTATION_DESC = "MEX_ORIENTATION_DESC.TXT"
SPACECRAFT_POINTING_MODE = NADIR
^MEX_POINTING_DESC = "MEX_POINTING_DESC.TXT"
RIGHT_ASCENSION = -1e+32
DECLINATION = -1e+32
OFFSET_ANGLE = -1e+32
SPACECRAFT_SOLAR_DISTANCE = 2.31258e+08
TARGET_NAME = MARS
/* CAMERA DATA ELEMENTS */
DETECTOR_TEMPERATURE = 17.7588
FOCAL_PLANE_TEMPERATURE = 8.5833
INST_CMPRS_NAME = "DISCRETE COSINE TRANSFORMATION (DCT)"
INST_CMPRS_RATIO = 16.0692
INST_CMPRS_QUALITY = 0
INST_CMPRS_QUANTZ_TBL_ID = 0
INSTRUMENT_TEMPERATURE = 11.6418
LENS_TEMPERATURE = 8.7872
MACROPIXEL_SIZE = 4
MISSING_FRAMES = 0
PIXEL_SUBSAMPLING_FLAG = N
SIGNAL_CHAIN_ID = 2
/* RADIOMETRIC DATA ELEMENTS */
BANDWIDTH = 81.0
CENTER_FILTER_WAVELENGTH = 955.5
RADIANCE_OFFSET = 0.668705
RADIANCE_SCALING_FACTOR = 0.00332167
REFLECTANCE_SCALING_FACTOR = 0.000383248
MEX:REFLECTANCE_OFFSET = 0.0771539
/* IMAGE OBJECT DEFINITIONS */
OBJECT = IMAGE
  INTERCHANGE_FORMAT = BINARY
  LINES = 13554
  LINE_SAMPLES = 2798
  SAMPLE_TYPE = UNSIGNED_INTEGER
  SAMPLE_BITS = 8
  BANDS = 1
  BAND_STORAGE_TYPE = BAND_SEQUENTIAL
  MAXIMUM = 255
  MEAN = 77.438
  MINIMUM = 1
  STANDARD_DEVIATION = 31.9374
END_OBJECT = IMAGE
/* MAP OBJECT DEFINITIONS */
OBJECT = IMAGE_MAP_PROJECTION
  ^DATA_SET_MAP_PROJECTION_CATALOG= "DSMAP.CAT"
  A_AXIS_RADIUS = 3396.0
  B_AXIS_RADIUS = 3396.0
  C_AXIS_RADIUS = 3396.0
  CENTER_LATITUDE = 0.0
  CENTER_LONGITUDE = 289.0
  COORDINATE_SYSTEM_NAME = PLANETOGRAPHIC
  COORDINATE_SYSTEM_TYPE = "BODY-FIXED ROTATING"
  EASTERNMOST_LONGITUDE = 291.261
  FIRST_STANDARD_PARALLEL = "N/A"
  LINE_FIRST_PIXEL = 1
  LINE_LAST_PIXEL = 13554
  LINE_PROJECTION_OFFSET = 80514.875
  MAP_PROJECTION_ROTATION = 0.0
  MAP_PROJECTION_TYPE = SINUSOIDAL
  MAP_RESOLUTION = 1185.42760773333
  MAP_SCALE = 0.05
  MAXIMUM_LATITUDE = 68.006
  MINIMUM_LATITUDE = 56.4625
  POSITIVE_LONGITUDE_DIRECTION = EAST
  REFERENCE_LATITUDE = "N/A"
  REFERENCE_LONGITUDE = "N/A"
  SAMPLE_FIRST_PIXEL = 1
  SAMPLE_LAST_PIXEL = 2798
  SAMPLE_PROJECTION_OFFSET = 1322.625
  SECOND_STANDARD_PARALLEL = "N/A"
  WESTERNMOST_LONGITUDE = 286.049
END_OBJECT = IMAGE_MAP_PROJECTION
END
