PDS_VERSION_ID = PDS3
/* FILE DATA ELEMENTS */
RECORD_TYPE = UNDEFINED
/* POINTERS TO DATA OBJECTS */
^IMAGE = ("HH995_0000_RE4.TIF")
/* IDENTIFICATION DATA ELEMENTS */
DATA_SET_ID = "MEX-M-HRSC-4-REFDR-MAPPROJECT-EXT6-V4.0"
DATA_SET_NAME = "MARS EXPRESS HRSC MAP PROJECTED REFDR EXTENSION6 V4.0"
DETECTOR_ID = MEX_HRSC_RED
EVENT_TYPE = "MARS-REGIONAL-MAPPING-Im-Pf"
INSTRUMENT_HOST_ID = MEX
INSTRUMENT_HOST_NAME = "MARS EXPRESS"
INSTRUMENT_ID = HRSC
INSTRUMENT_NAME = "HIGH RESOLUTION STEREO CAMERA"
MISSION_NAME = "MARS EXPRESS"
MISSION_PHASE_NAME = ME_Phase_38
PROCESSING_LEVEL_ID = 4
PRODUCT_CREATION_TIME = 2023-01-28T19:29:54.000Z
PRODUCT_ID = "HH995_0000_RE4.TIF"
RELEASE_ID = 0003
REVISION_ID = 0000
/* QUALITY DATA ELEMENTS */
DATA_QUALITY_ID = 1
DATA_QUALITY_DESC = "Data calculated based on original SPICE kernels"
/* TIME DATA ELEMENTS */
SPACECRAFT_CLOCK_START_COUNT = "1/0469730502.09049"
SPACECRAFT_CLOCK_STOP_COUNT = "1/0469730753.08965"
START_TIME = 2018-03-21T16:42:57.690Z
STOP_TIME = 2018-03-21T16:45:54.617Z
/* ORBITAL DATA ELEMENTS */
ASCENDING_NODE_LONGITUDE = 236.32
MAXIMUM_RESOLUTION = 0.0641
FOOTPRINT_POINT_LATITUDE = (67.8143,67.7835,67.7581,67.7349,67.671 ,67.6694,67.772,67.5456,67.2059,66.8661 ,66.6394,66.4127,66.0729,65.8464, 65.5067,65.1671,64.8275,64.6012,64.3748 ,64.1485,63.8091,63.4699,63.2438, 63.0177,62.7918,62.453,62.227,62.0013, 61.7757,61.4372,61.2118,60.9863,60.6483 ,60.423,60.0859,59.861,59.6361,59.4115, 59.0748,58.7384,58.4022,58.1781,57.9544 ,57.7307,57.5072,57.2839,57.0607, 56.8376,56.6147,56.5033,56.4973,56.5151 ,56.5371,56.5499,56.5766,56.5772, 56.5784,56.9141,57.1381,57.3624,57.5866 ,57.8111,58.036,58.3733,58.5983,58.8234 ,59.0489,59.3874,59.7261,59.952,60.1781 ,60.4046,60.7442,61.084,61.4241,61.6509 ,61.8779,62.105,62.4459,62.787,63.0144, 63.3558,63.6974,63.9252,64.1533,64.3812 ,64.7234,65.0657,65.4081,65.6363, 65.8649,66.0935,66.322,66.6649,67.008, 67.2366,67.5797,67.8084,67.9228, 67.8143)
FOOTPRINT_POINT_LONGITUDE = (289.611,288.753,288.119,287.582, 286.257,286.226,286.074,286.164,286.294 ,286.42,286.502,286.581,286.697,286.773 ,286.882,286.988,287.09,287.156,287.221 ,287.284,287.377,287.467,287.525, 287.581,287.637,287.718,287.771,287.822 ,287.873,287.946,287.994,288.041,288.11 ,288.154,288.219,288.261,288.302, 288.343,288.402,288.459,288.514,288.55, 288.585,288.62,288.653,288.686,288.719, 288.751,288.782,288.797,288.798,289.258 ,289.882,290.275,291.248,291.271, 291.279,291.25,291.23,291.21,291.189, 291.168,291.147,291.114,291.092,291.069 ,291.046,291.011,290.974,290.95,290.924 ,290.899,290.859,290.819,290.777, 290.749,290.72,290.69,290.645,290.598, 290.566,290.517,290.466,290.432,290.397 ,290.361,290.305,290.248,290.189, 290.149,290.107,290.065,290.022,289.956 ,289.888,289.841,289.768,289.718, 289.693,289.611)
ORBIT_NUMBER = 17995
ORBITAL_ECCENTRICITY = 0.571
ORBITAL_INCLINATION = 86.97
ORBITAL_SEMIMAJOR_AXIS = 8774.11
PERIAPSIS_ALTITUDE = 379.64
PERIAPSIS_ARGUMENT_ANGLE = 118.76
PERIAPSIS_TIME = 2018-03-21T16:44:14.000Z
SPACECRAFT_ORIENTATION = (0.0,-1.0,0.0)
^MEX_ORIENTATION_DESC = "MEX_ORIENTATION_DESC.TXT"
SPACECRAFT_POINTING_MODE = NADIR
^MEX_POINTING_DESC = "MEX_POINTING_DESC.TXT"
RIGHT_ASCENSION = -1e+32
DECLINATION = -1e+32
OFFSET_ANGLE = -1e+32
SPACECRAFT_SOLAR_DISTANCE = 2.31258e+08
TARGET_NAME = MARS
/* CAMERA DATA ELEMENTS */
DETECTOR_TEMPERATURE = 18.3705
FOCAL_PLANE_TEMPERATURE = 8.5833
INST_CMPRS_NAME = "DISCRETE COSINE TRANSFORMATION (DCT)"
INST_CMPRS_RATIO = 24.2644
INST_CMPRS_QUALITY = 0
INST_CMPRS_QUANTZ_TBL_ID = 0
INSTRUMENT_TEMPERATURE = 11.6418
LENS_TEMPERATURE = 8.7872
MACROPIXEL_SIZE = 4
MISSING_FRAMES = 0
PIXEL_SUBSAMPLING_FLAG = N
SIGNAL_CHAIN_ID = 2
/* RADIOMETRIC DATA ELEMENTS */
BANDWIDTH = 48.0
CENTER_FILTER_WAVELENGTH = 748.0
RADIANCE_OFFSET = 0.924084
RADIANCE_SCALING_FACTOR = 0.0032424
REFLECTANCE_SCALING_FACTOR = 0.00039572
MEX:REFLECTANCE_OFFSET = 0.11278
/* IMAGE OBJECT DEFINITIONS */
OBJECT = IMAGE
  INTERCHANGE_FORMAT = BINARY
  LINES = 13554
  LINE_SAMPLES = 2798
  SAMPLE_TYPE = UNSIGNED_INTEGER
  SAMPLE_BITS = 8
  BANDS = 1
  BAND_STORAGE_TYPE = BAND_SEQUENTIAL
  MAXIMUM = 255
  MEAN = 75.6135
  MINIMUM = 1
  STANDARD_DEVIATION = 32.0887
END_OBJECT = IMAGE
/* MAP OBJECT DEFINITIONS */
OBJECT = IMAGE_MAP_PROJECTION
  ^DATA_SET_MAP_PROJECTION_CATALOG= "DSMAP.CAT"
  A_AXIS_RADIUS = 3396.0
  B_AXIS_RADIUS = 3396.0
  C_AXIS_RADIUS = 3396.0
  CENTER_LATITUDE = 0.0
  CENTER_LONGITUDE = 289.0
  COORDINATE_SYSTEM_NAME = PLANETOGRAPHIC
  COORDINATE_SYSTEM_TYPE = "BODY-FIXED ROTATING"
  EASTERNMOST_LONGITUDE = 291.279
  FIRST_STANDARD_PARALLEL = "N/A"
  LINE_FIRST_PIXEL = 1
  LINE_LAST_PIXEL = 13554
  LINE_PROJECTION_OFFSET = 80514.875
  MAP_PROJECTION_ROTATION = 0.0
  MAP_PROJECTION_TYPE = SINUSOIDAL
  MAP_RESOLUTION = 1185.42760773333
  MAP_SCALE = 0.05
  MAXIMUM_LATITUDE = 67.9228
  MINIMUM_LATITUDE = 56.4973
  POSITIVE_LONGITUDE_DIRECTION = EAST
  REFERENCE_LATITUDE = "N/A"
  REFERENCE_LONGITUDE = "N/A"
  SAMPLE_FIRST_PIXEL = 1
  SAMPLE_LAST_PIXEL = 2798
  SAMPLE_PROJECTION_OFFSET = 1322.625
  SECOND_STANDARD_PARALLEL = "N/A"
  WESTERNMOST_LONGITUDE = 286.074
END_OBJECT = IMAGE_MAP_PROJECTION
END
