PDS_VERSION_ID = PDS3
/* FILE DATA ELEMENTS */
RECORD_TYPE = UNDEFINED
/* POINTERS TO DATA OBJECTS */
^IMAGE = ("HH995_0000_S14.TIF")
/* IDENTIFICATION DATA ELEMENTS */
DATA_SET_ID = "MEX-M-HRSC-4-REFDR-MAPPROJECT-EXT6-V4.0"
DATA_SET_NAME = "MARS EXPRESS HRSC MAP PROJECTED REFDR EXTENSION6 V4.0"
DETECTOR_ID = MEX_HRSC_S1
EVENT_TYPE = "MARS-REGIONAL-MAPPING-Im-Pf"
INSTRUMENT_HOST_ID = MEX
INSTRUMENT_HOST_NAME = "MARS EXPRESS"
INSTRUMENT_ID = HRSC
INSTRUMENT_NAME = "HIGH RESOLUTION STEREO CAMERA"
MISSION_NAME = "MARS EXPRESS"
MISSION_PHASE_NAME = ME_Phase_38
PROCESSING_LEVEL_ID = 4
PRODUCT_CREATION_TIME = 2023-01-28T19:29:54.000Z
PRODUCT_ID = "HH995_0000_S14.TIF"
RELEASE_ID = 0003
REVISION_ID = 0000
/* QUALITY DATA ELEMENTS */
DATA_QUALITY_ID = 1
DATA_QUALITY_DESC = "Data calculated based on original SPICE kernels"
/* TIME DATA ELEMENTS */
SPACECRAFT_CLOCK_START_COUNT = "1/0469730502.09049"
SPACECRAFT_CLOCK_STOP_COUNT = "1/0469730753.08965"
START_TIME = 2018-03-21T16:41:51.640Z
STOP_TIME = 2018-03-21T16:44:50.722Z
/* ORBITAL DATA ELEMENTS */
ASCENDING_NODE_LONGITUDE = 236.32
MAXIMUM_RESOLUTION = 0.0325
FOOTPRINT_POINT_LATITUDE = (68.0298,68.005,67.9829,67.9238,67.8696 ,67.8676,67.731,67.5123,67.2932,67.074, 66.8543,66.635,66.415,66.1944,65.9739, 65.7529,65.5314,65.1991,64.8661,64.5326 ,64.1985,63.9756,63.7523,63.5289, 63.3052,63.0813,62.8571,62.6328,62.2961 ,62.0711,61.8459,61.5081,61.2826, 61.0569,60.8309,60.6051,60.379,60.152, 59.812,59.4717,59.2445,58.9035,58.6761, 58.4482,58.2205,57.8784,57.5358,57.3075 ,56.9645,56.6212,56.5067,56.4633, 56.4912,56.5136,56.5369,56.5486,56.5491 ,56.5498,56.7798,57.1247,57.4693, 57.6989,57.9281,58.272,58.6157,58.9592, 59.1876,59.4162,59.6445,59.9869,60.2148 ,60.5566,60.7841,61.1253,61.4661,61.693 ,61.9201,62.1465,62.4862,62.8255, 63.0513,63.3899,63.7281,64.066,64.2907, 64.6277,64.9642,65.1883,65.4122,65.6358 ,65.9708,66.3053,66.5281,66.7506, 66.9727,67.1949,67.4166,67.7492,67.8598 ,68.0298)
FOOTPRINT_POINT_LONGITUDE = (289.632,288.941,288.39,287.121,286.13, 286.096,286.033,286.122,286.209,286.294 ,286.377,286.458,286.538,286.616, 286.692,286.767,286.84,286.947,287.05, 287.15,287.248,287.311,287.373,287.434, 287.493,287.551,287.609,287.664,287.746 ,287.8,287.852,287.928,287.978,288.026, 288.074,288.121,288.167,288.212,288.277 ,288.341,288.383,288.443,288.483, 288.522,288.56,288.615,288.669,288.704, 288.755,288.805,288.822,288.828,289.463 ,290.051,290.783,291.232,291.256, 291.265,291.246,291.217,291.188,291.168 ,291.148,291.117,291.085,291.052,291.03 ,291.007,290.984,290.949,290.925, 290.888,290.863,290.824,290.785,290.758 ,290.73,290.703,290.66,290.616,290.586, 290.54,290.492,290.443,290.41,290.359, 290.306,290.271,290.234,290.197,290.139 ,290.08,290.04,289.999,289.957,289.914, 289.87,289.803,289.78,289.632)
ORBIT_NUMBER = 17995
ORBITAL_ECCENTRICITY = 0.571
ORBITAL_INCLINATION = 86.97
ORBITAL_SEMIMAJOR_AXIS = 8774.11
PERIAPSIS_ALTITUDE = 379.64
PERIAPSIS_ARGUMENT_ANGLE = 118.76
PERIAPSIS_TIME = 2018-03-21T16:44:14.000Z
SPACECRAFT_ORIENTATION = (0.0,-1.0,0.0)
^MEX_ORIENTATION_DESC = "MEX_ORIENTATION_DESC.TXT"
SPACECRAFT_POINTING_MODE = NADIR
^MEX_POINTING_DESC = "MEX_POINTING_DESC.TXT"
RIGHT_ASCENSION = -1e+32
DECLINATION = -1e+32
OFFSET_ANGLE = -1e+32
SPACECRAFT_SOLAR_DISTANCE = 2.31258e+08
TARGET_NAME = MARS
/* CAMERA DATA ELEMENTS */
DETECTOR_TEMPERATURE = 17.7588
FOCAL_PLANE_TEMPERATURE = 8.5833
INST_CMPRS_NAME = "DISCRETE COSINE TRANSFORMATION (DCT)"
INST_CMPRS_RATIO = 12.0923
INST_CMPRS_QUALITY = 0
INST_CMPRS_QUANTZ_TBL_ID = 0
INSTRUMENT_TEMPERATURE = 11.6418
LENS_TEMPERATURE = 8.7872
MACROPIXEL_SIZE = 2
MISSING_FRAMES = 0
PIXEL_SUBSAMPLING_FLAG = N
SIGNAL_CHAIN_ID = 1
/* RADIOMETRIC DATA ELEMENTS */
BANDWIDTH = 180.0
CENTER_FILTER_WAVELENGTH = 677.0
RADIANCE_OFFSET = 3.13011
RADIANCE_SCALING_FACTOR = 0.011179
REFLECTANCE_SCALING_FACTOR = 0.000311918
MEX:REFLECTANCE_OFFSET = 0.087337
/* IMAGE OBJECT DEFINITIONS */
OBJECT = IMAGE
  INTERCHANGE_FORMAT = BINARY
  LINES = 27108
  LINE_SAMPLES = 5595
  SAMPLE_TYPE = UNSIGNED_INTEGER
  SAMPLE_BITS = 8
  BANDS = 1
  BAND_STORAGE_TYPE = BAND_SEQUENTIAL
  MAXIMUM = 255
  MEAN = 84.4793
  MINIMUM = 1
  STANDARD_DEVIATION = 30.8997
END_OBJECT = IMAGE
/* MAP OBJECT DEFINITIONS */
OBJECT = IMAGE_MAP_PROJECTION
  ^DATA_SET_MAP_PROJECTION_CATALOG= "DSMAP.CAT"
  A_AXIS_RADIUS = 3396.0
  B_AXIS_RADIUS = 3396.0
  C_AXIS_RADIUS = 3396.0
  CENTER_LATITUDE = 0.0
  CENTER_LONGITUDE = 289.0
  COORDINATE_SYSTEM_NAME = PLANETOGRAPHIC
  COORDINATE_SYSTEM_TYPE = "BODY-FIXED ROTATING"
  EASTERNMOST_LONGITUDE = 291.265
  FIRST_STANDARD_PARALLEL = "N/A"
  LINE_FIRST_PIXEL = 1
  LINE_LAST_PIXEL = 27108
  LINE_PROJECTION_OFFSET = 161030.25
  MAP_PROJECTION_ROTATION = 0.0
  MAP_PROJECTION_TYPE = SINUSOIDAL
  MAP_RESOLUTION = 2370.85521546667
  MAP_SCALE = 0.025
  MAXIMUM_LATITUDE = 68.02979999999999
  MINIMUM_LATITUDE = 56.4633
  POSITIVE_LONGITUDE_DIRECTION = EAST
  REFERENCE_LATITUDE = "N/A"
  REFERENCE_LONGITUDE = "N/A"
  SAMPLE_FIRST_PIXEL = 1
  SAMPLE_LAST_PIXEL = 5595
  SAMPLE_PROJECTION_OFFSET = 2645.75
  SECOND_STANDARD_PARALLEL = "N/A"
  WESTERNMOST_LONGITUDE = 286.033
END_OBJECT = IMAGE_MAP_PROJECTION
END
