PDS_VERSION_ID = PDS3
/* FILE DATA ELEMENTS */
RECORD_TYPE = UNDEFINED
/* POINTERS TO DATA OBJECTS */
^IMAGE = ("HI005_0000_P24.TIF")
/* IDENTIFICATION DATA ELEMENTS */
DATA_SET_ID = "MEX-M-HRSC-4-REFDR-MAPPROJECT-EXT6-V4.0"
DATA_SET_NAME = "MARS EXPRESS HRSC MAP PROJECTED REFDR EXTENSION6 V4.0"
DETECTOR_ID = MEX_HRSC_P2
EVENT_TYPE = "MARS-LOCAL-MAPPING-Im-Ot"
INSTRUMENT_HOST_ID = MEX
INSTRUMENT_HOST_NAME = "MARS EXPRESS"
INSTRUMENT_ID = HRSC
INSTRUMENT_NAME = "HIGH RESOLUTION STEREO CAMERA"
MISSION_NAME = "MARS EXPRESS"
MISSION_PHASE_NAME = ME_Phase_38
PROCESSING_LEVEL_ID = 4
PRODUCT_CREATION_TIME = 2023-01-29T08:20:11.000Z
PRODUCT_ID = "HI005_0000_P24.TIF"
RELEASE_ID = 0004
REVISION_ID = 0000
/* QUALITY DATA ELEMENTS */
DATA_QUALITY_ID = 1
DATA_QUALITY_DESC = "Data calculated based on original SPICE kernels"
/* TIME DATA ELEMENTS */
SPACECRAFT_CLOCK_START_COUNT = "1/0469981884.08266"
SPACECRAFT_CLOCK_STOP_COUNT = "1/0469982074.64389"
START_TIME = 2018-03-24T14:32:33.864Z
STOP_TIME = 2018-03-24T14:34:30.492Z
/* ORBITAL DATA ELEMENTS */
ASCENDING_NODE_LONGITUDE = 236.14
MAXIMUM_RESOLUTION = 0.0317
FOOTPRINT_POINT_LATITUDE = (69.2759,69.2476,69.2251,69.2011, 69.1756,69.1487,69.1202,69.1184,69.2066 ,68.9835,68.8347,68.6116,68.4628, 68.3142,68.1655,68.0167,67.7935,67.5702 ,67.347,67.1981,66.9748,66.826,66.677, 66.5285,66.3054,66.0823,65.9335,65.7102 ,65.5614,65.4124,65.2637,65.1145, 64.9657,64.8173,64.6687,64.4464,64.2979 ,64.1492,64.0006,63.8521,63.5556, 63.4071,63.1104,62.8138,62.5913,62.369, 62.0726,61.8505,61.7765,61.7392,61.76, 61.7798,61.8019,61.8203,61.841,61.853, 61.8539,61.8547,62.2267,62.5245,62.6734 ,62.8225,63.0458,63.417,63.7144,63.8654 ,64.0183,64.2473,64.3972,64.5466, 64.6961,64.8454,64.995,65.1451,65.2943, 65.5178,65.807,65.9583,66.1082,66.259, 66.4843,66.6349,66.7847,66.9348,67.0848 ,67.3096,67.4597,67.6847,67.8346, 67.9847,68.1348,68.2849,68.51,68.6601, 68.8101,68.9602,69.11,69.2603,69.3353, 69.2759)
FOOTPRINT_POINT_LONGITUDE = (349.825,349.024,348.449,347.879, 347.315,346.756,346.202,346.167,346.117 ,346.2,346.254,346.333,346.385,346.436, 346.486,346.535,346.608,346.679,346.748 ,346.793,346.859,346.902,346.945, 346.987,347.049,347.109,347.148,347.206 ,347.244,347.282,347.318,347.355,347.39 ,347.425,347.46,347.511,347.544,347.577 ,347.609,347.641,347.702,347.733, 347.792,347.85,347.892,347.933,347.986, 348.025,348.038,348.044,348.482,348.925 ,349.454,349.933,350.531,350.904, 350.933,350.944,350.912,350.886,350.872 ,350.859,350.838,350.799,350.768, 350.756,350.748,350.734,350.719,350.703 ,350.687,350.671,350.654,350.639, 350.621,350.593,350.538,350.523,350.505 ,350.488,350.461,350.443,350.423, 350.404,350.383,350.352,350.332,350.3, 350.277,350.255,350.233,350.21,350.175, 350.151,350.127,350.102,350.077,350.052 ,350.039,349.825)
ORBIT_NUMBER = 18005
ORBITAL_ECCENTRICITY = 0.571
ORBITAL_INCLINATION = 86.98
ORBITAL_SEMIMAJOR_AXIS = 8770.67
PERIAPSIS_ALTITUDE = 380.5
PERIAPSIS_ARGUMENT_ANGLE = 116.99
PERIAPSIS_TIME = 2018-03-24T14:33:50.000Z
SPACECRAFT_ORIENTATION = (0.0,-1.0,0.0)
^MEX_ORIENTATION_DESC = "MEX_ORIENTATION_DESC.TXT"
SPACECRAFT_POINTING_MODE = ACROSSTRACK
^MEX_POINTING_DESC = "MEX_POINTING_DESC.TXT"
RIGHT_ASCENSION = -1e+32
DECLINATION = -1e+32
OFFSET_ANGLE = 0.6
SPACECRAFT_SOLAR_DISTANCE = 2.30705e+08
TARGET_NAME = MARS
/* CAMERA DATA ELEMENTS */
DETECTOR_TEMPERATURE = 18.7783
FOCAL_PLANE_TEMPERATURE = 8.9911
INST_CMPRS_NAME = "DISCRETE COSINE TRANSFORMATION (DCT)"
INST_CMPRS_RATIO = 8.60945
INST_CMPRS_QUALITY = 0
INST_CMPRS_QUANTZ_TBL_ID = 0
INSTRUMENT_TEMPERATURE = 11.4379
LENS_TEMPERATURE = 8.9911
MACROPIXEL_SIZE = 2
MISSING_FRAMES = 0
PIXEL_SUBSAMPLING_FLAG = N
SIGNAL_CHAIN_ID = 3
/* RADIOMETRIC DATA ELEMENTS */
BANDWIDTH = 177.0
CENTER_FILTER_WAVELENGTH = 676.5
RADIANCE_OFFSET = 2.90253
RADIANCE_SCALING_FACTOR = 0.0220185
REFLECTANCE_SCALING_FACTOR = 0.000621383
MEX:REFLECTANCE_OFFSET = 0.081912
/* IMAGE OBJECT DEFINITIONS */
OBJECT = IMAGE
  INTERCHANGE_FORMAT = BINARY
  LINES = 18023
  LINE_SAMPLES = 4604
  SAMPLE_TYPE = UNSIGNED_INTEGER
  SAMPLE_BITS = 8
  BANDS = 1
  BAND_STORAGE_TYPE = BAND_SEQUENTIAL
  MAXIMUM = 255
  MEAN = 104.553
  MINIMUM = 1
  STANDARD_DEVIATION = 14.9064
END_OBJECT = IMAGE
/* MAP OBJECT DEFINITIONS */
OBJECT = IMAGE_MAP_PROJECTION
  ^DATA_SET_MAP_PROJECTION_CATALOG= "DSMAP.CAT"
  A_AXIS_RADIUS = 3396.0
  B_AXIS_RADIUS = 3396.0
  C_AXIS_RADIUS = 3396.0
  CENTER_LATITUDE = 0.0
  CENTER_LONGITUDE = 349.0
  COORDINATE_SYSTEM_NAME = PLANETOGRAPHIC
  COORDINATE_SYSTEM_TYPE = "BODY-FIXED ROTATING"
  EASTERNMOST_LONGITUDE = 350.944
  FIRST_STANDARD_PARALLEL = "N/A"
  LINE_FIRST_PIXEL = 1
  LINE_LAST_PIXEL = 18023
  LINE_PROJECTION_OFFSET = 164418.75
  MAP_PROJECTION_ROTATION = 0.0
  MAP_PROJECTION_TYPE = SINUSOIDAL
  MAP_RESOLUTION = 2370.85521546667
  MAP_SCALE = 0.025
  MAXIMUM_LATITUDE = 69.3353
  MINIMUM_LATITUDE = 61.7392
  POSITIVE_LONGITUDE_DIRECTION = EAST
  REFERENCE_LATITUDE = "N/A"
  REFERENCE_LONGITUDE = "N/A"
  SAMPLE_FIRST_PIXEL = 1
  SAMPLE_LAST_PIXEL = 4604
  SAMPLE_PROJECTION_OFFSET = 2444.75
  SECOND_STANDARD_PARALLEL = "N/A"
  WESTERNMOST_LONGITUDE = 346.117
END_OBJECT = IMAGE_MAP_PROJECTION
END
