PDS_VERSION_ID = PDS3
/* FILE DATA ELEMENTS */
RECORD_TYPE = UNDEFINED
/* POINTERS TO DATA OBJECTS */
^IMAGE = ("HI007_0000_GR4.TIF")
/* IDENTIFICATION DATA ELEMENTS */
DATA_SET_ID = "MEX-M-HRSC-4-REFDR-MAPPROJECT-EXT6-V4.0"
DATA_SET_NAME = "MARS EXPRESS HRSC MAP PROJECTED REFDR EXTENSION6 V4.0"
DETECTOR_ID = MEX_HRSC_GREEN
EVENT_TYPE = "MARS-REGIONAL-MAPPING-Im-Pf-Eo"
INSTRUMENT_HOST_ID = MEX
INSTRUMENT_HOST_NAME = "MARS EXPRESS"
INSTRUMENT_ID = HRSC
INSTRUMENT_NAME = "HIGH RESOLUTION STEREO CAMERA"
MISSION_NAME = "MARS EXPRESS"
MISSION_PHASE_NAME = ME_Phase_38
PROCESSING_LEVEL_ID = 4
PRODUCT_CREATION_TIME = 2023-01-29T08:20:11.000Z
PRODUCT_ID = "HI007_0000_GR4.TIF"
RELEASE_ID = 0004
REVISION_ID = 0000
/* QUALITY DATA ELEMENTS */
DATA_QUALITY_ID = 1
DATA_QUALITY_DESC = "Data calculated based on original SPICE kernels"
/* TIME DATA ELEMENTS */
SPACECRAFT_CLOCK_START_COUNT = "1/0470032121.07331"
SPACECRAFT_CLOCK_STOP_COUNT = "1/0470032381.23490"
START_TIME = 2018-03-25T04:29:22.358Z
STOP_TIME = 2018-03-25T04:32:27.622Z
/* ORBITAL DATA ELEMENTS */
ASCENDING_NODE_LONGITUDE = 236.1
MAXIMUM_RESOLUTION = 0.0615
FOOTPRINT_POINT_LATITUDE = (72.2713,72.2287,72.1932,72.1253, 72.0691,72.0668,72.0371,71.5787,71.119, 70.6585,70.3122,69.9656,69.5029,69.0392 ,68.807,68.5747,68.3422,68.1095,67.8766 ,67.6436,67.4103,67.1769,66.9434, 66.7098,66.476,66.242,66.0079,65.7737, 65.4221,65.1877,64.8356,64.6009,64.366, 64.131,63.896,63.6608,63.4256,63.1903, 62.9549,62.7195,62.3661,62.1305,61.8948 ,61.6592,61.3056,61.0698,60.8339, 60.4801,60.3621,60.3279,60.3566,60.3775 ,60.4083,60.4288,60.4295,60.4307, 60.6679,61.0238,61.261,61.6168,61.854, 62.0912,62.3283,62.5654,62.8025,63.158, 63.395,63.632,63.9873,64.3425,64.5793, 64.8159,65.0525,65.2891,65.5256,65.762, 65.9984,66.353,66.7069,66.9429,67.1788, 67.4146,67.6503,67.8859,68.1214,68.3568 ,68.592,68.8272,69.0622,69.2972,69.5319 ,69.7666,70.0011,70.2354,70.7037, 71.1714,71.6385,72.1049,72.2214, 72.2713)
FOOTPRINT_POINT_LONGITUDE = (142.86,141.766,140.958,139.595,138.597 ,138.558,138.434,138.726,139.002, 139.264,139.451,139.631,139.862,140.081 ,140.186,140.289,140.389,140.487, 140.583,140.676,140.767,140.855,140.942 ,141.027,141.109,141.19,141.269,141.346 ,141.458,141.531,141.637,141.706, 141.773,141.839,141.903,141.966,142.027 ,142.087,142.146,142.204,142.287, 142.342,142.395,142.447,142.523,142.572 ,142.621,142.691,142.714,142.721,143.35 ,143.854,144.714,145.398,145.424, 145.432,145.404,145.362,145.333,145.289 ,145.259,145.227,145.196,145.164, 145.131,145.081,145.046,145.011,144.957 ,144.901,144.863,144.824,144.785, 144.744,144.702,144.66,144.616,144.548, 144.48,144.433,144.385,144.336,144.285, 144.233,144.181,144.127,144.071,144.014 ,143.956,143.897,143.836,143.773, 143.709,143.644,143.508,143.364,143.213 ,143.054,143.013,142.86)
ORBIT_NUMBER = 18007
ORBITAL_ECCENTRICITY = 0.571
ORBITAL_INCLINATION = 86.97
ORBITAL_SEMIMAJOR_AXIS = 8772.13
PERIAPSIS_ALTITUDE = 381.28
PERIAPSIS_ARGUMENT_ANGLE = 116.67
PERIAPSIS_TIME = 2018-03-25T04:31:50.000Z
SPACECRAFT_ORIENTATION = (0.0,-1.0,0.0)
^MEX_ORIENTATION_DESC = "MEX_ORIENTATION_DESC.TXT"
SPACECRAFT_POINTING_MODE = NADIR
^MEX_POINTING_DESC = "MEX_POINTING_DESC.TXT"
RIGHT_ASCENSION = -1e+32
DECLINATION = -1e+32
OFFSET_ANGLE = -1e+32
SPACECRAFT_SOLAR_DISTANCE = 2.30594e+08
TARGET_NAME = MARS
/* CAMERA DATA ELEMENTS */
DETECTOR_TEMPERATURE = 18.7783
FOCAL_PLANE_TEMPERATURE = 9.3989
INST_CMPRS_NAME = "DISCRETE COSINE TRANSFORMATION (DCT)"
INST_CMPRS_RATIO = 20.6021
INST_CMPRS_QUALITY = 0
INST_CMPRS_QUANTZ_TBL_ID = 0
INSTRUMENT_TEMPERATURE = 11.8457
LENS_TEMPERATURE = 9.8067
MACROPIXEL_SIZE = 4
MISSING_FRAMES = 0
PIXEL_SUBSAMPLING_FLAG = N
SIGNAL_CHAIN_ID = 2
/* RADIOMETRIC DATA ELEMENTS */
BANDWIDTH = 88.0
CENTER_FILTER_WAVELENGTH = 538.0
RADIANCE_OFFSET = 0.976405
RADIANCE_SCALING_FACTOR = 0.00341878
REFLECTANCE_SCALING_FACTOR = 0.000156516
MEX:REFLECTANCE_OFFSET = 0.0447011
/* IMAGE OBJECT DEFINITIONS */
OBJECT = IMAGE
  INTERCHANGE_FORMAT = BINARY
  LINES = 14148
  LINE_SAMPLES = 3100
  SAMPLE_TYPE = UNSIGNED_INTEGER
  SAMPLE_BITS = 8
  BANDS = 1
  BAND_STORAGE_TYPE = BAND_SEQUENTIAL
  MAXIMUM = 255
  MEAN = 126.876
  MINIMUM = 1
  STANDARD_DEVIATION = 20.9229
END_OBJECT = IMAGE
/* MAP OBJECT DEFINITIONS */
OBJECT = IMAGE_MAP_PROJECTION
  ^DATA_SET_MAP_PROJECTION_CATALOG= "DSMAP.CAT"
  A_AXIS_RADIUS = 3396.0
  B_AXIS_RADIUS = 3396.0
  C_AXIS_RADIUS = 3396.0
  CENTER_LATITUDE = 0.0
  CENTER_LONGITUDE = 143.0
  COORDINATE_SYSTEM_NAME = PLANETOGRAPHIC
  COORDINATE_SYSTEM_TYPE = "BODY-FIXED ROTATING"
  EASTERNMOST_LONGITUDE = 145.432
  FIRST_STANDARD_PARALLEL = "N/A"
  LINE_FIRST_PIXEL = 1
  LINE_LAST_PIXEL = 14148
  LINE_PROJECTION_OFFSET = 85659.375
  MAP_PROJECTION_ROTATION = 0.0
  MAP_PROJECTION_TYPE = SINUSOIDAL
  MAP_RESOLUTION = 1185.42760773333
  MAP_SCALE = 0.05
  MAXIMUM_LATITUDE = 72.2713
  MINIMUM_LATITUDE = 60.3279
  POSITIVE_LONGITUDE_DIRECTION = EAST
  REFERENCE_LATITUDE = "N/A"
  REFERENCE_LONGITUDE = "N/A"
  SAMPLE_FIRST_PIXEL = 1
  SAMPLE_LAST_PIXEL = 3100
  SAMPLE_PROJECTION_OFFSET = 1675.375
  SECOND_STANDARD_PARALLEL = "N/A"
  WESTERNMOST_LONGITUDE = 138.434
END_OBJECT = IMAGE_MAP_PROJECTION
END
