PDS_VERSION_ID = PDS3
/* FILE DATA ELEMENTS */
RECORD_TYPE = UNDEFINED
/* POINTERS TO DATA OBJECTS */
^IMAGE = ("HI008_0000_RE4.TIF")
/* IDENTIFICATION DATA ELEMENTS */
DATA_SET_ID = "MEX-M-HRSC-4-REFDR-MAPPROJECT-EXT6-V4.0"
DATA_SET_NAME = "MARS EXPRESS HRSC MAP PROJECTED REFDR EXTENSION6 V4.0"
DETECTOR_ID = MEX_HRSC_RED
EVENT_TYPE = "MARS-REGIONAL-MAPPING-Im-Pf"
INSTRUMENT_HOST_ID = MEX
INSTRUMENT_HOST_NAME = "MARS EXPRESS"
INSTRUMENT_ID = HRSC
INSTRUMENT_NAME = "HIGH RESOLUTION STEREO CAMERA"
MISSION_NAME = "MARS EXPRESS"
MISSION_PHASE_NAME = ME_Phase_38
PROCESSING_LEVEL_ID = 4
PRODUCT_CREATION_TIME = 2023-01-29T08:20:11.000Z
PRODUCT_ID = "HI008_0000_RE4.TIF"
RELEASE_ID = 0004
REVISION_ID = 0000
/* QUALITY DATA ELEMENTS */
DATA_QUALITY_ID = 1
DATA_QUALITY_DESC = "Data calculated based on original SPICE kernels"
/* TIME DATA ELEMENTS */
SPACECRAFT_CLOCK_START_COUNT = "1/0470057530.09061"
SPACECRAFT_CLOCK_STOP_COUNT = "1/0470057805.26191"
START_TIME = 2018-03-25T11:33:25.459Z
STOP_TIME = 2018-03-25T11:36:44.231Z
/* ORBITAL DATA ELEMENTS */
ASCENDING_NODE_LONGITUDE = 236.07
MAXIMUM_RESOLUTION = 0.0674
FOOTPRINT_POINT_LATITUDE = (55.0885,55.0749,55.0581,55.0309, 55.0302,55.1125,54.7692,54.5409,54.3125 ,54.0839,53.8559,53.2877,52.8342, 52.4943,52.1488,51.9169,51.6855,51.4542 ,51.2232,50.9924,50.6461,50.4108, 50.1748,49.9395,49.7035,49.3514,49.1162 ,48.7583,48.5188,48.2795,48.0398, 47.8017,47.5595,47.3157,46.9508,46.5837 ,46.3396,46.093,45.8456,45.5976,45.3515 ,45.0997,44.7239,44.4715,44.2248, 43.9703,43.7149,43.3323,43.205,43.1763, 43.1848,43.1888,43.1899,43.192,43.1897, 43.1897,43.1908,43.4455,43.828,44.0914, 44.3456,44.7205,44.9705,45.3522,45.7235 ,46.096,46.3439,46.5902,46.8337,47.1991 ,47.4436,47.688,47.9291,48.1685,48.4084 ,48.6485,48.8896,49.1306,49.3658, 49.7194,49.9551,50.1917,50.4282,50.6655 ,51.0118,51.2447,51.5926,51.825,52.0575 ,52.29,52.5213,52.976,53.4318,53.7742, 54.1175,54.461,54.6902,55.0348,55.1498, 55.0885)
FOOTPRINT_POINT_LONGITUDE = (43.1445,42.443,41.7363,40.8,40.7775, 40.6758,40.7218,40.7514,40.7806,40.8097 ,40.8378,40.9046,40.9555,40.9927, 41.0294,41.0532,41.0763,41.0989,41.1211 ,41.1429,41.1753,41.196,41.2167,41.2365 ,41.2569,41.2852,41.3044,41.3303, 41.3479,41.3653,41.3828,41.3988,41.415, 41.431,41.4539,41.4787,41.4922,41.5054, 41.5192,41.5334,41.5459,41.5598,41.5771 ,41.5902,41.5987,41.6091,41.6202, 41.6363,41.6416,41.6426,42.1921,42.5869 ,42.937,43.3942,43.9564,43.978,43.9852, 43.9727,43.9539,43.9429,43.9302,43.9103 ,43.8967,43.8776,43.8576,43.8372, 43.8231,43.809,43.7949,43.7733,43.7587, 43.7438,43.729,43.714,43.6988,43.6833, 43.6677,43.6518,43.636,43.6118,43.5954, 43.5787,43.5617,43.5446,43.5187,43.5015 ,43.4748,43.4567,43.4382,43.4193, 43.4006,43.3625,43.3233,43.293,43.262, 43.2302,43.2086,43.1755,43.1643, 43.1445)
ORBIT_NUMBER = 18008
ORBITAL_ECCENTRICITY = 0.571
ORBITAL_INCLINATION = 86.98
ORBITAL_SEMIMAJOR_AXIS = 8773.76
PERIAPSIS_ALTITUDE = 380.77
PERIAPSIS_ARGUMENT_ANGLE = 116.5
PERIAPSIS_TIME = 2018-03-25T11:30:47.000Z
SPACECRAFT_ORIENTATION = (0.0,-1.0,0.0)
^MEX_ORIENTATION_DESC = "MEX_ORIENTATION_DESC.TXT"
SPACECRAFT_POINTING_MODE = ACROSSTRACK
^MEX_POINTING_DESC = "MEX_POINTING_DESC.TXT"
RIGHT_ASCENSION = -1e+32
DECLINATION = -1e+32
OFFSET_ANGLE = -0.37
SPACECRAFT_SOLAR_DISTANCE = 2.30538e+08
TARGET_NAME = MARS
/* CAMERA DATA ELEMENTS */
DETECTOR_TEMPERATURE = 19.1861
FOCAL_PLANE_TEMPERATURE = 8.3794
INST_CMPRS_NAME = "DISCRETE COSINE TRANSFORMATION (DCT)"
INST_CMPRS_RATIO = 14.5854
INST_CMPRS_QUALITY = 0
INST_CMPRS_QUANTZ_TBL_ID = 0
INSTRUMENT_TEMPERATURE = 10.4184
LENS_TEMPERATURE = 8.9911
MACROPIXEL_SIZE = 4
MISSING_FRAMES = 0
PIXEL_SUBSAMPLING_FLAG = N
SIGNAL_CHAIN_ID = 2
/* RADIOMETRIC DATA ELEMENTS */
BANDWIDTH = 48.0
CENTER_FILTER_WAVELENGTH = 748.0
RADIANCE_OFFSET = 0.736653
RADIANCE_SCALING_FACTOR = 0.00790628
REFLECTANCE_SCALING_FACTOR = 0.000958925
MEX:REFLECTANCE_OFFSET = 0.089346
/* IMAGE OBJECT DEFINITIONS */
OBJECT = IMAGE
  INTERCHANGE_FORMAT = BINARY
  LINES = 14262
  LINE_SAMPLES = 2544
  SAMPLE_TYPE = UNSIGNED_INTEGER
  SAMPLE_BITS = 8
  BANDS = 1
  BAND_STORAGE_TYPE = BAND_SEQUENTIAL
  MAXIMUM = 255
  MEAN = 143.144
  MINIMUM = 1
  STANDARD_DEVIATION = 24.9704
END_OBJECT = IMAGE
/* MAP OBJECT DEFINITIONS */
OBJECT = IMAGE_MAP_PROJECTION
  ^DATA_SET_MAP_PROJECTION_CATALOG= "DSMAP.CAT"
  A_AXIS_RADIUS = 3396.0
  B_AXIS_RADIUS = 3396.0
  C_AXIS_RADIUS = 3396.0
  CENTER_LATITUDE = 0.0
  CENTER_LONGITUDE = 42.0
  COORDINATE_SYSTEM_NAME = PLANETOGRAPHIC
  COORDINATE_SYSTEM_TYPE = "BODY-FIXED ROTATING"
  EASTERNMOST_LONGITUDE = 43.9852
  FIRST_STANDARD_PARALLEL = "N/A"
  LINE_FIRST_PIXEL = 1
  LINE_LAST_PIXEL = 14262
  LINE_PROJECTION_OFFSET = 65406.875
  MAP_PROJECTION_ROTATION = 0.0
  MAP_PROJECTION_TYPE = SINUSOIDAL
  MAP_RESOLUTION = 1185.42760773333
  MAP_SCALE = 0.05
  MAXIMUM_LATITUDE = 55.1498
  MINIMUM_LATITUDE = 43.1763
  POSITIVE_LONGITUDE_DIRECTION = EAST
  REFERENCE_LATITUDE = "N/A"
  REFERENCE_LONGITUDE = "N/A"
  SAMPLE_FIRST_PIXEL = 1
  SAMPLE_LAST_PIXEL = 2544
  SAMPLE_PROJECTION_OFFSET = 879.625
  SECOND_STANDARD_PARALLEL = "N/A"
  WESTERNMOST_LONGITUDE = 40.6758
END_OBJECT = IMAGE_MAP_PROJECTION
END
