PDS_VERSION_ID = PDS3
/* FILE DATA ELEMENTS */
RECORD_TYPE = UNDEFINED
/* POINTERS TO DATA OBJECTS */
^IMAGE = ("HI009_0000_BL4.TIF")
/* IDENTIFICATION DATA ELEMENTS */
DATA_SET_ID = "MEX-M-HRSC-4-REFDR-MAPPROJECT-EXT6-V4.0"
DATA_SET_NAME = "MARS EXPRESS HRSC MAP PROJECTED REFDR EXTENSION6 V4.0"
DETECTOR_ID = MEX_HRSC_BLUE
EVENT_TYPE = "MARS-REGIONAL-MAPPING-Pf-Eo"
INSTRUMENT_HOST_ID = MEX
INSTRUMENT_HOST_NAME = "MARS EXPRESS"
INSTRUMENT_ID = HRSC
INSTRUMENT_NAME = "HIGH RESOLUTION STEREO CAMERA"
MISSION_NAME = "MARS EXPRESS"
MISSION_PHASE_NAME = ME_Phase_38
PROCESSING_LEVEL_ID = 4
PRODUCT_CREATION_TIME = 2023-01-29T08:20:11.000Z
PRODUCT_ID = "HI009_0000_BL4.TIF"
RELEASE_ID = 0004
REVISION_ID = 0000
/* QUALITY DATA ELEMENTS */
DATA_QUALITY_ID = 1
DATA_QUALITY_DESC = "Data calculated based on original SPICE kernels"
/* TIME DATA ELEMENTS */
SPACECRAFT_CLOCK_START_COUNT = "1/0470082398.09048"
SPACECRAFT_CLOCK_STOP_COUNT = "1/0470082639.01259"
START_TIME = 2018-03-25T18:27:31.850Z
STOP_TIME = 2018-03-25T18:30:17.411Z
/* ORBITAL DATA ELEMENTS */
ASCENDING_NODE_LONGITUDE = 236.06
MAXIMUM_RESOLUTION = 0.0615
FOOTPRINT_POINT_LATITUDE = (72.6696,72.6176,72.5491,72.4653, 72.4629,72.4783,71.9644,71.5526,71.2432 ,70.8302,70.4165,70.0024,69.7951, 69.4839,69.2763,68.9647,68.7569,68.5489 ,68.3409,68.1327,67.8203,67.6119, 67.2992,67.0906,66.882,66.6732,66.4644, 66.2555,66.0467,65.8377,65.5241,65.315, 65.1059,64.7921,64.5829,64.3736,64.0597 ,63.8504,63.641,63.4317,63.2223,62.9083 ,62.6989,62.4895,62.1754,62.0707, 61.9842,62.0298,62.0656,62.0937,62.0945 ,62.0957,62.4118,62.6225,62.9386, 63.1494,63.3602,63.571,63.7819,63.9927, 64.2035,64.4144,64.6252,64.836,65.0469, 65.3632,65.6795,65.8903,66.1011,66.4173 ,66.6281,66.8388,67.0495,67.3655,67.576 ,67.7866,67.9971,68.2076,68.5232, 68.7336,68.9439,69.1542,69.3644,69.5745 ,69.7847,69.9947,70.2046,70.4145, 70.6243,70.8341,71.0437,71.2533,71.4629 ,71.6723,71.8816,72.0909,72.3,72.5091, 72.6136,72.6696)
FOOTPRINT_POINT_LONGITUDE = (298.453,297.14,295.673,294.137,294.097 ,293.937,294.278,294.536,294.722, 294.958,295.184,295.399,295.503,295.655 ,295.753,295.896,295.989,296.08,296.168 ,296.255,296.382,296.464,296.584, 296.662,296.738,296.812,296.886,296.957 ,297.027,297.096,297.196,297.261, 297.325,297.419,297.479,297.539,297.625 ,297.682,297.737,297.791,297.845, 297.922,297.973,298.022,298.095,298.119 ,298.138,299.145,300.076,300.957, 300.983,300.992,300.95,300.921,300.876, 300.846,300.815,300.784,300.752,300.72, 300.687,300.653,300.618,300.583,300.548 ,300.493,300.437,300.398,300.359, 300.299,300.258,300.216,300.172,300.106 ,300.061,300.015,299.967,299.919, 299.845,299.794,299.742,299.689,299.635 ,299.58,299.523,299.465,299.406,299.345 ,299.283,299.22,299.155,299.088,299.02, 298.951,298.879,298.806,298.731,298.654 ,298.615,298.453)
ORBIT_NUMBER = 18009
ORBITAL_ECCENTRICITY = 0.571
ORBITAL_INCLINATION = 86.98
ORBITAL_SEMIMAJOR_AXIS = 8770.05
PERIAPSIS_ALTITUDE = 380.9
PERIAPSIS_ARGUMENT_ANGLE = 116.34
PERIAPSIS_TIME = 2018-03-25T18:29:49.000Z
SPACECRAFT_ORIENTATION = (0.0,-1.0,0.0)
^MEX_ORIENTATION_DESC = "MEX_ORIENTATION_DESC.TXT"
SPACECRAFT_POINTING_MODE = NADIR
^MEX_POINTING_DESC = "MEX_POINTING_DESC.TXT"
RIGHT_ASCENSION = -1e+32
DECLINATION = -1e+32
OFFSET_ANGLE = -1e+32
SPACECRAFT_SOLAR_DISTANCE = 2.30483e+08
TARGET_NAME = MARS
/* CAMERA DATA ELEMENTS */
DETECTOR_TEMPERATURE = 18.3705
FOCAL_PLANE_TEMPERATURE = 8.5833
INST_CMPRS_NAME = "DISCRETE COSINE TRANSFORMATION (DCT)"
INST_CMPRS_RATIO = 5.30709
INST_CMPRS_QUALITY = 0
INST_CMPRS_QUANTZ_TBL_ID = 0
INSTRUMENT_TEMPERATURE = 11.4379
LENS_TEMPERATURE = 9.195
MACROPIXEL_SIZE = 4
MISSING_FRAMES = 0
PIXEL_SUBSAMPLING_FLAG = N
SIGNAL_CHAIN_ID = 2
/* RADIOMETRIC DATA ELEMENTS */
BANDWIDTH = 76.0
CENTER_FILTER_WAVELENGTH = 444.0
RADIANCE_OFFSET = 0.494865
RADIANCE_SCALING_FACTOR = 0.00198426
REFLECTANCE_SCALING_FACTOR = 0.000108301
MEX:REFLECTANCE_OFFSET = 0.0270098
/* IMAGE OBJECT DEFINITIONS */
OBJECT = IMAGE
  INTERCHANGE_FORMAT = BINARY
  LINES = 12712
  LINE_SAMPLES = 3124
  SAMPLE_TYPE = UNSIGNED_INTEGER
  SAMPLE_BITS = 8
  BANDS = 1
  BAND_STORAGE_TYPE = BAND_SEQUENTIAL
  MAXIMUM = 255
  MEAN = 100.569
  MINIMUM = 1
  STANDARD_DEVIATION = 39.2476
END_OBJECT = IMAGE
/* MAP OBJECT DEFINITIONS */
OBJECT = IMAGE_MAP_PROJECTION
  ^DATA_SET_MAP_PROJECTION_CATALOG= "DSMAP.CAT"
  A_AXIS_RADIUS = 3396.0
  B_AXIS_RADIUS = 3396.0
  C_AXIS_RADIUS = 3396.0
  CENTER_LATITUDE = 0.0
  CENTER_LONGITUDE = 298.0
  COORDINATE_SYSTEM_NAME = PLANETOGRAPHIC
  COORDINATE_SYSTEM_TYPE = "BODY-FIXED ROTATING"
  EASTERNMOST_LONGITUDE = 300.992
  FIRST_STANDARD_PARALLEL = "N/A"
  LINE_FIRST_PIXEL = 1
  LINE_LAST_PIXEL = 12712
  LINE_PROJECTION_OFFSET = 86176.625
  MAP_PROJECTION_ROTATION = 0.0
  MAP_PROJECTION_TYPE = SINUSOIDAL
  MAP_RESOLUTION = 1185.42760773333
  MAP_SCALE = 0.05
  MAXIMUM_LATITUDE = 72.6696
  MINIMUM_LATITUDE = 61.9842
  POSITIVE_LONGITUDE_DIRECTION = EAST
  REFERENCE_LATITUDE = "N/A"
  REFERENCE_LONGITUDE = "N/A"
  SAMPLE_FIRST_PIXEL = 1
  SAMPLE_LAST_PIXEL = 3124
  SAMPLE_PROJECTION_OFFSET = 1462.625
  SECOND_STANDARD_PARALLEL = "N/A"
  WESTERNMOST_LONGITUDE = 293.937
END_OBJECT = IMAGE_MAP_PROJECTION
END
