PDS_VERSION_ID = PDS3
/* FILE DATA ELEMENTS */
RECORD_TYPE = UNDEFINED
/* POINTERS TO DATA OBJECTS */
^IMAGE = ("HI009_0000_P24.TIF")
/* IDENTIFICATION DATA ELEMENTS */
DATA_SET_ID = "MEX-M-HRSC-4-REFDR-MAPPROJECT-EXT6-V4.0"
DATA_SET_NAME = "MARS EXPRESS HRSC MAP PROJECTED REFDR EXTENSION6 V4.0"
DETECTOR_ID = MEX_HRSC_P2
EVENT_TYPE = "MARS-REGIONAL-MAPPING-Pf-Eo"
INSTRUMENT_HOST_ID = MEX
INSTRUMENT_HOST_NAME = "MARS EXPRESS"
INSTRUMENT_ID = HRSC
INSTRUMENT_NAME = "HIGH RESOLUTION STEREO CAMERA"
MISSION_NAME = "MARS EXPRESS"
MISSION_PHASE_NAME = ME_Phase_38
PROCESSING_LEVEL_ID = 4
PRODUCT_CREATION_TIME = 2023-01-29T08:20:11.000Z
PRODUCT_ID = "HI009_0000_P24.TIF"
RELEASE_ID = 0004
REVISION_ID = 0000
/* QUALITY DATA ELEMENTS */
DATA_QUALITY_ID = 1
DATA_QUALITY_DESC = "Data calculated based on original SPICE kernels"
/* TIME DATA ELEMENTS */
SPACECRAFT_CLOCK_START_COUNT = "1/0470082398.09048"
SPACECRAFT_CLOCK_STOP_COUNT = "1/0470082639.01259"
START_TIME = 2018-03-25T18:27:49.535Z
STOP_TIME = 2018-03-25T18:30:34.473Z
/* ORBITAL DATA ELEMENTS */
ASCENDING_NODE_LONGITUDE = 236.06
MAXIMUM_RESOLUTION = 0.0317
FOOTPRINT_POINT_LATITUDE = (72.6123,72.5619,72.4769,72.4111, 72.4087,72.4912,72.1796,71.9716,71.7636 ,71.5554,71.3472,71.1388,70.9304, 70.7219,70.5133,70.3046,70.0959,69.8871 ,69.6782,69.4692,69.2602,68.9464, 68.6328,68.4236,68.1096,67.9003,67.6911 ,67.377,67.1676,66.9583,66.7488,66.5394 ,66.2251,66.0158,65.8064,65.5969, 65.3874,65.178,64.8637,64.6543,64.445, 64.2358,64.0266,63.8174,63.6083,63.19, 62.6679,62.1458,62.0415,61.9944,62.0387 ,62.0574,62.0768,62.1035,62.1044, 62.1052,62.4201,62.6302,62.8403,63.0506 ,63.261,63.4714,63.682,63.8925,64.1033, 64.4194,64.6301,64.9465,65.1576,65.3689 ,65.5799,65.7913,66.1081,66.3193, 66.5309,66.8479,67.1651,67.482,67.7991, 68.1163,68.4336,68.7509,68.9624,69.2797 ,69.4911,69.7027,69.9142,70.2315,70.443 ,70.7602,70.9716,71.1831,71.3946, 71.6061,71.8174,72.0288,72.3459,72.5571 ,72.6628,72.6123)
FOOTPRINT_POINT_LONGITUDE = (298.465,297.191,295.381,294.168, 294.126,293.917,294.126,294.262,294.393 ,294.521,294.647,294.769,294.888, 295.004,295.117,295.228,295.336,295.441 ,295.544,295.645,295.744,295.887, 296.025,296.115,296.246,296.331,296.414 ,296.535,296.613,296.69,296.765,296.839 ,296.947,297.016,297.084,297.151, 297.217,297.281,297.375,297.436,297.496 ,297.554,297.611,297.667,297.722, 297.829,297.955,298.076,298.1,298.11, 299.115,299.59,300.122,300.964,300.992, 301.002,300.96,300.93,300.901,300.87, 300.84,300.808,300.776,300.744,300.711, 300.66,300.625,300.572,300.536,300.499, 300.461,300.422,300.363,300.322,300.281 ,300.217,300.152,300.084,300.014, 299.942,299.867,299.79,299.737,299.656, 299.6,299.543,299.485,299.395,299.333, 299.238,299.172,299.105,299.036,298.966 ,298.894,298.82,298.705,298.626,298.586 ,298.465)
ORBIT_NUMBER = 18009
ORBITAL_ECCENTRICITY = 0.571
ORBITAL_INCLINATION = 86.98
ORBITAL_SEMIMAJOR_AXIS = 8770.05
PERIAPSIS_ALTITUDE = 380.9
PERIAPSIS_ARGUMENT_ANGLE = 116.34
PERIAPSIS_TIME = 2018-03-25T18:29:49.000Z
SPACECRAFT_ORIENTATION = (0.0,-1.0,0.0)
^MEX_ORIENTATION_DESC = "MEX_ORIENTATION_DESC.TXT"
SPACECRAFT_POINTING_MODE = NADIR
^MEX_POINTING_DESC = "MEX_POINTING_DESC.TXT"
RIGHT_ASCENSION = -1e+32
DECLINATION = -1e+32
OFFSET_ANGLE = -1e+32
SPACECRAFT_SOLAR_DISTANCE = 2.30483e+08
TARGET_NAME = MARS
/* CAMERA DATA ELEMENTS */
DETECTOR_TEMPERATURE = 18.3705
FOCAL_PLANE_TEMPERATURE = 8.5833
INST_CMPRS_NAME = "DISCRETE COSINE TRANSFORMATION (DCT)"
INST_CMPRS_RATIO = 8.99902
INST_CMPRS_QUALITY = 0
INST_CMPRS_QUANTZ_TBL_ID = 0
INSTRUMENT_TEMPERATURE = 11.4379
LENS_TEMPERATURE = 9.195
MACROPIXEL_SIZE = 2
MISSING_FRAMES = 0
PIXEL_SUBSAMPLING_FLAG = N
SIGNAL_CHAIN_ID = 3
/* RADIOMETRIC DATA ELEMENTS */
BANDWIDTH = 177.0
CENTER_FILTER_WAVELENGTH = 676.5
RADIANCE_OFFSET = 2.3481
RADIANCE_SCALING_FACTOR = 0.00828741
REFLECTANCE_SCALING_FACTOR = 0.000233429
MEX:REFLECTANCE_OFFSET = 0.0661382
/* IMAGE OBJECT DEFINITIONS */
OBJECT = IMAGE
  INTERCHANGE_FORMAT = BINARY
  LINES = 25424
  LINE_SAMPLES = 6247
  SAMPLE_TYPE = UNSIGNED_INTEGER
  SAMPLE_BITS = 8
  BANDS = 1
  BAND_STORAGE_TYPE = BAND_SEQUENTIAL
  MAXIMUM = 255
  MEAN = 117.358
  MINIMUM = 1
  STANDARD_DEVIATION = 35.2737
END_OBJECT = IMAGE
/* MAP OBJECT DEFINITIONS */
OBJECT = IMAGE_MAP_PROJECTION
  ^DATA_SET_MAP_PROJECTION_CATALOG= "DSMAP.CAT"
  A_AXIS_RADIUS = 3396.0
  B_AXIS_RADIUS = 3396.0
  C_AXIS_RADIUS = 3396.0
  CENTER_LATITUDE = 0.0
  CENTER_LONGITUDE = 298.0
  COORDINATE_SYSTEM_NAME = PLANETOGRAPHIC
  COORDINATE_SYSTEM_TYPE = "BODY-FIXED ROTATING"
  EASTERNMOST_LONGITUDE = 301.002
  FIRST_STANDARD_PARALLEL = "N/A"
  LINE_FIRST_PIXEL = 1
  LINE_LAST_PIXEL = 25424
  LINE_PROJECTION_OFFSET = 172353.75
  MAP_PROJECTION_ROTATION = 0.0
  MAP_PROJECTION_TYPE = SINUSOIDAL
  MAP_RESOLUTION = 2370.85521546667
  MAP_SCALE = 0.025
  MAXIMUM_LATITUDE = 72.6628
  MINIMUM_LATITUDE = 61.9944
  POSITIVE_LONGITUDE_DIRECTION = EAST
  REFERENCE_LATITUDE = "N/A"
  REFERENCE_LONGITUDE = "N/A"
  SAMPLE_FIRST_PIXEL = 1
  SAMPLE_LAST_PIXEL = 6247
  SAMPLE_PROJECTION_OFFSET = 2925.75
  SECOND_STANDARD_PARALLEL = "N/A"
  WESTERNMOST_LONGITUDE = 293.917
END_OBJECT = IMAGE_MAP_PROJECTION
END
