PDS_VERSION_ID = PDS3
/* FILE DATA ELEMENTS */
RECORD_TYPE = UNDEFINED
/* POINTERS TO DATA OBJECTS */
^IMAGE = ("HI016_0000_BL4.TIF")
/* IDENTIFICATION DATA ELEMENTS */
DATA_SET_ID = "MEX-M-HRSC-4-REFDR-MAPPROJECT-EXT6-V4.0"
DATA_SET_NAME = "MARS EXPRESS HRSC MAP PROJECTED REFDR EXTENSION6 V4.0"
DETECTOR_ID = MEX_HRSC_BLUE
EVENT_TYPE = "MARS-REGIONAL-MAPPING-Im-Fl-Eo"
INSTRUMENT_HOST_ID = MEX
INSTRUMENT_HOST_NAME = "MARS EXPRESS"
INSTRUMENT_ID = HRSC
INSTRUMENT_NAME = "HIGH RESOLUTION STEREO CAMERA"
MISSION_NAME = "MARS EXPRESS"
MISSION_PHASE_NAME = ME_Phase_38
PROCESSING_LEVEL_ID = 4
PRODUCT_CREATION_TIME = 2023-01-29T08:20:11.000Z
PRODUCT_ID = "HI016_0000_BL4.TIF"
RELEASE_ID = 0004
REVISION_ID = 0000
/* QUALITY DATA ELEMENTS */
DATA_QUALITY_ID = 1
DATA_QUALITY_DESC = "Data calculated based on original SPICE kernels"
/* TIME DATA ELEMENTS */
SPACECRAFT_CLOCK_START_COUNT = "1/0470258750.09043"
SPACECRAFT_CLOCK_STOP_COUNT = "1/0470258991.23461"
START_TIME = 2018-03-27T19:26:44.768Z
STOP_TIME = 2018-03-27T19:29:14.224Z
/* ORBITAL DATA ELEMENTS */
ASCENDING_NODE_LONGITUDE = 235.93
MAXIMUM_RESOLUTION = 0.0692
FOOTPRINT_POINT_LATITUDE = (49.491,49.484,49.4785,49.472,49.4647, 49.4565,49.4475,49.4469,49.4629,48.8689 ,48.4408,48.099,47.7578,47.4961,47.3217 ,46.9729,46.6247,46.3635,46.1857, 46.0079,45.8302,45.5645,45.3873,45.2103 ,45.0299,44.8488,44.6681,44.4875, 44.2163,44.0362,43.7605,43.5765,43.3928 ,43.2091,43.0256,42.84,42.6533,42.4664, 42.2795,42.0929,41.9056,41.7147,41.525, 41.2404,41.0509,40.8591,40.666,40.473, 40.3766,40.3754,40.3839,40.3887,40.392, 40.3947,40.3967,40.3977,40.3977,40.3989 ,40.5923,40.7859,41.0751,41.2652, 41.4554,41.6459,41.8366,42.0259,42.2128 ,42.3999,42.5873,42.7749,43.0553, 43.2391,43.4231,43.6074,43.7917,44.0681 ,44.2488,44.4296,44.6105,44.7917,44.973 ,45.2445,45.5108,45.6885,45.9555, 46.1336,46.312,46.4888,46.8375,47.0121, 47.1868,47.3617,47.5366,47.799,48.1411, 48.5691,48.9127,49.4247,49.5086,49.491)
FOOTPRINT_POINT_LONGITUDE = (308.41,307.849,307.508,307.17,306.834, 306.501,306.171,306.15,306.147,306.17, 306.185,306.197,306.208,306.216,306.221 ,306.231,306.24,306.246,306.25,306.254, 306.258,306.264,306.268,306.271,306.274 ,306.277,306.281,306.283,306.288,306.29 ,306.294,306.296,306.298,306.3,306.302, 306.304,306.306,306.307,306.309,306.31, 306.311,306.312,306.313,306.314,306.314 ,306.315,306.315,306.315,306.315, 306.315,306.766,307.114,307.419,307.771 ,308.126,308.641,308.664,308.671, 308.669,308.666,308.662,308.659,308.656 ,308.653,308.65,308.648,308.645,308.641 ,308.639,308.636,308.632,308.629, 308.626,308.623,308.62,308.615,308.612, 308.609,308.605,308.602,308.599,308.594 ,308.59,308.586,308.582,308.578,308.575 ,308.572,308.565,308.561,308.558, 308.554,308.55,308.544,308.536,308.524, 308.517,308.506,308.504,308.41)
ORBIT_NUMBER = 18016
ORBITAL_ECCENTRICITY = 0.571
ORBITAL_INCLINATION = 86.98
ORBITAL_SEMIMAJOR_AXIS = 8768.19
PERIAPSIS_ALTITUDE = 381.54
PERIAPSIS_ARGUMENT_ANGLE = 115.14
PERIAPSIS_TIME = 2018-03-27T19:22:38.000Z
SPACECRAFT_ORIENTATION = (0.0,-1.0,0.0)
^MEX_ORIENTATION_DESC = "MEX_ORIENTATION_DESC.TXT"
SPACECRAFT_POINTING_MODE = ACROSSTRACK
^MEX_POINTING_DESC = "MEX_POINTING_DESC.TXT"
RIGHT_ASCENSION = -1e+32
DECLINATION = -1e+32
OFFSET_ANGLE = 0.77
SPACECRAFT_SOLAR_DISTANCE = 2.30093e+08
TARGET_NAME = MARS
/* CAMERA DATA ELEMENTS */
DETECTOR_TEMPERATURE = 18.5744
FOCAL_PLANE_TEMPERATURE = 9.6028
INST_CMPRS_NAME = "DISCRETE COSINE TRANSFORMATION (DCT)"
INST_CMPRS_RATIO = 13.9259
INST_CMPRS_QUALITY = 0
INST_CMPRS_QUANTZ_TBL_ID = 0
INSTRUMENT_TEMPERATURE = 11.6418
LENS_TEMPERATURE = 9.195
MACROPIXEL_SIZE = 4
MISSING_FRAMES = 0
PIXEL_SUBSAMPLING_FLAG = N
SIGNAL_CHAIN_ID = 2
/* RADIOMETRIC DATA ELEMENTS */
BANDWIDTH = 76.0
CENTER_FILTER_WAVELENGTH = 444.0
RADIANCE_OFFSET = 0.516623
RADIANCE_SCALING_FACTOR = 0.00253247
REFLECTANCE_SCALING_FACTOR = 0.000137754
MEX:REFLECTANCE_OFFSET = 0.0281018
/* IMAGE OBJECT DEFINITIONS */
OBJECT = IMAGE
  INTERCHANGE_FORMAT = BINARY
  LINES = 10821
  LINE_SAMPLES = 2160
  SAMPLE_TYPE = UNSIGNED_INTEGER
  SAMPLE_BITS = 8
  BANDS = 1
  BAND_STORAGE_TYPE = BAND_SEQUENTIAL
  MAXIMUM = 255
  MEAN = 120.261
  MINIMUM = 1
  STANDARD_DEVIATION = 32.0584
END_OBJECT = IMAGE
/* MAP OBJECT DEFINITIONS */
OBJECT = IMAGE_MAP_PROJECTION
  ^DATA_SET_MAP_PROJECTION_CATALOG= "DSMAP.CAT"
  A_AXIS_RADIUS = 3396.0
  B_AXIS_RADIUS = 3396.0
  C_AXIS_RADIUS = 3396.0
  CENTER_LATITUDE = 0.0
  CENTER_LONGITUDE = 307.0
  COORDINATE_SYSTEM_NAME = PLANETOGRAPHIC
  COORDINATE_SYSTEM_TYPE = "BODY-FIXED ROTATING"
  EASTERNMOST_LONGITUDE = 308.671
  FIRST_STANDARD_PARALLEL = "N/A"
  LINE_FIRST_PIXEL = 1
  LINE_LAST_PIXEL = 10821
  LINE_PROJECTION_OFFSET = 58673.625
  MAP_PROJECTION_ROTATION = 0.0
  MAP_PROJECTION_TYPE = SINUSOIDAL
  MAP_RESOLUTION = 1185.42760773333
  MAP_SCALE = 0.05
  MAXIMUM_LATITUDE = 49.5086
  MINIMUM_LATITUDE = 40.3754
  POSITIVE_LONGITUDE_DIRECTION = EAST
  REFERENCE_LATITUDE = "N/A"
  REFERENCE_LONGITUDE = "N/A"
  SAMPLE_FIRST_PIXEL = 1
  SAMPLE_LAST_PIXEL = 2160
  SAMPLE_PROJECTION_OFFSET = 661.875
  SECOND_STANDARD_PARALLEL = "N/A"
  WESTERNMOST_LONGITUDE = 306.147
END_OBJECT = IMAGE_MAP_PROJECTION
END
