PDS_VERSION_ID = PDS3
/* FILE DATA ELEMENTS */
RECORD_TYPE = UNDEFINED
/* POINTERS TO DATA OBJECTS */
^IMAGE = ("HI020_0000_BL4.TIF")
/* IDENTIFICATION DATA ELEMENTS */
DATA_SET_ID = "MEX-M-HRSC-4-REFDR-MAPPROJECT-EXT6-V4.0"
DATA_SET_NAME = "MARS EXPRESS HRSC MAP PROJECTED REFDR EXTENSION6 V4.0"
DETECTOR_ID = MEX_HRSC_BLUE
EVENT_TYPE = "MARS-REGIONAL-MAPPING-Pf"
INSTRUMENT_HOST_ID = MEX
INSTRUMENT_HOST_NAME = "MARS EXPRESS"
INSTRUMENT_ID = HRSC
INSTRUMENT_NAME = "HIGH RESOLUTION STEREO CAMERA"
MISSION_NAME = "MARS EXPRESS"
MISSION_PHASE_NAME = ME_Phase_38
PROCESSING_LEVEL_ID = 4
PRODUCT_CREATION_TIME = 2023-01-29T08:20:11.000Z
PRODUCT_ID = "HI020_0000_BL4.TIF"
RELEASE_ID = 0004
REVISION_ID = 0000
/* QUALITY DATA ELEMENTS */
DATA_QUALITY_ID = 1
DATA_QUALITY_DESC = "Data calculated based on original SPICE kernels"
/* TIME DATA ELEMENTS */
SPACECRAFT_CLOCK_START_COUNT = "1/0470359000.08305"
SPACECRAFT_CLOCK_STOP_COUNT = "1/0470359218.47497"
START_TIME = 2018-03-28T23:17:31.529Z
STOP_TIME = 2018-03-28T23:19:56.503Z
/* ORBITAL DATA ELEMENTS */
ASCENDING_NODE_LONGITUDE = 235.86
MAXIMUM_RESOLUTION = 0.0614
FOOTPRINT_POINT_LATITUDE = (69.6571,69.6346,69.5985,69.5693, 69.4948,69.4929,69.5085,69.2356,69.0536 ,68.7804,68.5071,68.3248,68.1425, 67.9601,67.7776,67.5952,67.3214,67.1388 ,66.9561,66.7735,66.5907,66.408,66.1338 ,65.951,65.7681,65.5853,65.4024,65.2195 ,65.0366,64.7622,64.5792,64.3963, 64.1218,63.9389,63.6644,63.4814,63.2985 ,63.024,62.8411,62.6581,62.2923,61.9266 ,61.5609,61.1953,60.9212,60.4644, 60.3731,60.2908,60.3081,60.3266,60.354, 60.3754,60.3911,60.3918,60.393,60.7603, 60.944,61.1278,61.4035,61.6794,61.8632, 62.0472,62.2311,62.4151,62.5992,62.7833 ,62.9674,63.1515,63.4277,63.6119, 63.7962,63.9804,64.1647,64.3489,64.5332 ,64.7175,64.9019,65.0862,65.2705, 65.5471,65.8236,66.0079,66.2845,66.4689 ,66.6533,66.9298,67.1141,67.2985,67.575 ,67.7593,68.0357,68.3122,68.4964, 68.7728,68.9569,69.1411,69.3252,69.5093 ,69.6014,69.6571)
FOOTPRINT_POINT_LONGITUDE = (256.058,255.444,254.561,253.917, 252.468,252.434,252.308,252.436,252.519 ,252.64,252.759,252.836,252.911,252.985 ,253.057,253.128,253.232,253.3,253.367, 253.432,253.496,253.559,253.651,253.711 ,253.77,253.828,253.885,253.94,253.995, 254.076,254.128,254.179,254.255,254.304 ,254.376,254.423,254.469,254.537, 254.581,254.625,254.709,254.791,254.87, 254.946,255.002,255.091,255.109,255.124 ,255.503,255.935,256.646,257.283, 257.818,257.843,257.852,257.808,257.785 ,257.763,257.728,257.692,257.668, 257.643,257.618,257.593,257.567,257.54, 257.514,257.487,257.445,257.417,257.388 ,257.359,257.33,257.3,257.269,257.238, 257.207,257.174,257.142,257.092,257.041 ,257.006,256.952,256.916,256.879, 256.822,256.783,256.744,256.683,256.642 ,256.579,256.514,256.469,256.401, 256.355,256.307,256.259,256.21,256.185, 256.058)
ORBIT_NUMBER = 18020
ORBITAL_ECCENTRICITY = 0.571
ORBITAL_INCLINATION = 86.97
ORBITAL_SEMIMAJOR_AXIS = 8768.56
PERIAPSIS_ALTITUDE = 381.25
PERIAPSIS_ARGUMENT_ANGLE = 114.41
PERIAPSIS_TIME = 2018-03-28T23:18:31.000Z
SPACECRAFT_ORIENTATION = (0.0,-1.0,0.0)
^MEX_ORIENTATION_DESC = "MEX_ORIENTATION_DESC.TXT"
SPACECRAFT_POINTING_MODE = NADIR
^MEX_POINTING_DESC = "MEX_POINTING_DESC.TXT"
RIGHT_ASCENSION = -1e+32
DECLINATION = -1e+32
OFFSET_ANGLE = -1e+32
SPACECRAFT_SOLAR_DISTANCE = 2.29869e+08
TARGET_NAME = MARS
/* CAMERA DATA ELEMENTS */
DETECTOR_TEMPERATURE = 18.5744
FOCAL_PLANE_TEMPERATURE = 9.195
INST_CMPRS_NAME = "DISCRETE COSINE TRANSFORMATION (DCT)"
INST_CMPRS_RATIO = 8.80783
INST_CMPRS_QUALITY = 0
INST_CMPRS_QUANTZ_TBL_ID = 0
INSTRUMENT_TEMPERATURE = 11.8457
LENS_TEMPERATURE = 9.6028
MACROPIXEL_SIZE = 4
MISSING_FRAMES = 0
PIXEL_SUBSAMPLING_FLAG = N
SIGNAL_CHAIN_ID = 2
/* RADIOMETRIC DATA ELEMENTS */
BANDWIDTH = 76.0
CENTER_FILTER_WAVELENGTH = 444.0
RADIANCE_OFFSET = 0.56013
RADIANCE_SCALING_FACTOR = 0.00148502
REFLECTANCE_SCALING_FACTOR = 8.06216e-05
MEX:REFLECTANCE_OFFSET = 0.0304094
/* IMAGE OBJECT DEFINITIONS */
OBJECT = IMAGE
  INTERCHANGE_FORMAT = BINARY
  LINES = 11139
  LINE_SAMPLES = 2627
  SAMPLE_TYPE = UNSIGNED_INTEGER
  SAMPLE_BITS = 8
  BANDS = 1
  BAND_STORAGE_TYPE = BAND_SEQUENTIAL
  MAXIMUM = 255
  MEAN = 71.9798
  MINIMUM = 1
  STANDARD_DEVIATION = 27.7301
END_OBJECT = IMAGE
/* MAP OBJECT DEFINITIONS */
OBJECT = IMAGE_MAP_PROJECTION
  ^DATA_SET_MAP_PROJECTION_CATALOG= "DSMAP.CAT"
  A_AXIS_RADIUS = 3396.0
  B_AXIS_RADIUS = 3396.0
  C_AXIS_RADIUS = 3396.0
  CENTER_LATITUDE = 0.0
  CENTER_LONGITUDE = 256.0
  COORDINATE_SYSTEM_NAME = PLANETOGRAPHIC
  COORDINATE_SYSTEM_TYPE = "BODY-FIXED ROTATING"
  EASTERNMOST_LONGITUDE = 257.852
  FIRST_STANDARD_PARALLEL = "N/A"
  LINE_FIRST_PIXEL = 1
  LINE_LAST_PIXEL = 11139
  LINE_PROJECTION_OFFSET = 82608.125
  MAP_PROJECTION_ROTATION = 0.0
  MAP_PROJECTION_TYPE = SINUSOIDAL
  MAP_RESOLUTION = 1185.42760773333
  MAP_SCALE = 0.05
  MAXIMUM_LATITUDE = 69.6571
  MINIMUM_LATITUDE = 60.2908
  POSITIVE_LONGITUDE_DIRECTION = EAST
  REFERENCE_LATITUDE = "N/A"
  REFERENCE_LONGITUDE = "N/A"
  SAMPLE_FIRST_PIXEL = 1
  SAMPLE_LAST_PIXEL = 2627
  SAMPLE_PROJECTION_OFFSET = 1543.375
  SECOND_STANDARD_PARALLEL = "N/A"
  WESTERNMOST_LONGITUDE = 252.308
END_OBJECT = IMAGE_MAP_PROJECTION
END
