PDS_VERSION_ID = PDS3
/* FILE DATA ELEMENTS */
RECORD_TYPE = UNDEFINED
/* POINTERS TO DATA OBJECTS */
^IMAGE = ("HI020_0000_IR4.TIF")
/* IDENTIFICATION DATA ELEMENTS */
DATA_SET_ID = "MEX-M-HRSC-4-REFDR-MAPPROJECT-EXT6-V4.0"
DATA_SET_NAME = "MARS EXPRESS HRSC MAP PROJECTED REFDR EXTENSION6 V4.0"
DETECTOR_ID = MEX_HRSC_IR
EVENT_TYPE = "MARS-REGIONAL-MAPPING-Pf"
INSTRUMENT_HOST_ID = MEX
INSTRUMENT_HOST_NAME = "MARS EXPRESS"
INSTRUMENT_ID = HRSC
INSTRUMENT_NAME = "HIGH RESOLUTION STEREO CAMERA"
MISSION_NAME = "MARS EXPRESS"
MISSION_PHASE_NAME = ME_Phase_38
PROCESSING_LEVEL_ID = 4
PRODUCT_CREATION_TIME = 2023-01-29T08:20:11.000Z
PRODUCT_ID = "HI020_0000_IR4.TIF"
RELEASE_ID = 0004
REVISION_ID = 0000
/* QUALITY DATA ELEMENTS */
DATA_QUALITY_ID = 1
DATA_QUALITY_DESC = "Data calculated based on original SPICE kernels"
/* TIME DATA ELEMENTS */
SPACECRAFT_CLOCK_START_COUNT = "1/0470359000.08305"
SPACECRAFT_CLOCK_STOP_COUNT = "1/0470359218.47497"
START_TIME = 2018-03-28T23:16:56.039Z
STOP_TIME = 2018-03-28T23:19:21.771Z
/* ORBITAL DATA ELEMENTS */
ASCENDING_NODE_LONGITUDE = 235.86
MAXIMUM_RESOLUTION = 0.064
FOOTPRINT_POINT_LATITUDE = (69.7709,69.7176,69.6841,69.6563, 69.5991,69.597,69.485,69.1238,68.7619, 68.3997,68.1275,67.7639,67.5819,67.3998 ,67.1264,66.9438,66.6695,66.3952, 66.2123,66.0292,65.8458,65.6623,65.4788 ,65.2952,65.0195,64.8355,64.6514, 64.4672,64.1909,64.0064,63.7295,63.5448 ,63.3601,63.1752,62.9902,62.805,62.6198 ,62.342,62.1565,61.9709,61.7853,61.5996 ,61.3212,61.1355,60.9495,60.6706, 60.3918,60.2987,60.2683,60.3024,60.3251 ,60.3433,60.3623,60.3737,60.3744, 60.3757,60.6564,60.8434,61.0304,61.2171 ,61.4038,61.5906,61.7775,62.0576, 62.2443,62.431,62.6176,62.804,63.0835, 63.2699,63.4561,63.7353,64.0142,64.2931 ,64.5717,64.85,65.0355,65.221,65.4063, 65.6841,65.8692,66.0543,66.2391,66.5162 ,66.7008,66.8854,67.0698,67.2541, 67.4383,67.6224,67.8063,67.9902,68.174, 68.4494,68.6328,68.8161,69.1824,69.548, 69.6394,69.7709)
FOOTPRINT_POINT_LONGITUDE = (256.065,254.705,253.977,253.423, 252.389,252.355,252.287,252.458,252.621 ,252.779,252.894,253.041,253.113, 253.184,253.287,253.354,253.453,253.549 ,253.612,253.673,253.733,253.793, 253.851,253.908,253.992,254.047,254.101 ,254.154,254.231,254.282,254.356, 254.405,254.452,254.499,254.545,254.59, 254.635,254.7,254.743,254.785,254.826, 254.866,254.926,254.965,255.003,255.059 ,255.114,255.132,255.138,255.843, 256.373,256.854,257.437,257.817,257.842 ,257.851,257.818,257.796,257.774, 257.751,257.728,257.705,257.681,257.645 ,257.62,257.594,257.569,257.543,257.503 ,257.476,257.449,257.407,257.364,257.32 ,257.276,257.23,257.198,257.167,257.134 ,257.085,257.051,257.017,256.982, 256.929,256.892,256.855,256.818,256.78, 256.741,256.701,256.661,256.62,256.578, 256.515,256.471,256.427,256.335,256.241 ,256.217,256.065)
ORBIT_NUMBER = 18020
ORBITAL_ECCENTRICITY = 0.571
ORBITAL_INCLINATION = 86.97
ORBITAL_SEMIMAJOR_AXIS = 8768.56
PERIAPSIS_ALTITUDE = 381.25
PERIAPSIS_ARGUMENT_ANGLE = 114.41
PERIAPSIS_TIME = 2018-03-28T23:18:31.000Z
SPACECRAFT_ORIENTATION = (0.0,-1.0,0.0)
^MEX_ORIENTATION_DESC = "MEX_ORIENTATION_DESC.TXT"
SPACECRAFT_POINTING_MODE = NADIR
^MEX_POINTING_DESC = "MEX_POINTING_DESC.TXT"
RIGHT_ASCENSION = -1e+32
DECLINATION = -1e+32
OFFSET_ANGLE = -1e+32
SPACECRAFT_SOLAR_DISTANCE = 2.29869e+08
TARGET_NAME = MARS
/* CAMERA DATA ELEMENTS */
DETECTOR_TEMPERATURE = 17.7588
FOCAL_PLANE_TEMPERATURE = 9.195
INST_CMPRS_NAME = "DISCRETE COSINE TRANSFORMATION (DCT)"
INST_CMPRS_RATIO = 19.3946
INST_CMPRS_QUALITY = 0
INST_CMPRS_QUANTZ_TBL_ID = 0
INSTRUMENT_TEMPERATURE = 11.8457
LENS_TEMPERATURE = 9.6028
MACROPIXEL_SIZE = 4
MISSING_FRAMES = 0
PIXEL_SUBSAMPLING_FLAG = N
SIGNAL_CHAIN_ID = 2
/* RADIOMETRIC DATA ELEMENTS */
BANDWIDTH = 81.0
CENTER_FILTER_WAVELENGTH = 955.5
RADIANCE_OFFSET = 1.04021
RADIANCE_SCALING_FACTOR = 0.00192307
REFLECTANCE_SCALING_FACTOR = 0.000219224
MEX:REFLECTANCE_OFFSET = 0.11858
/* IMAGE OBJECT DEFINITIONS */
OBJECT = IMAGE
  INTERCHANGE_FORMAT = BINARY
  LINES = 11139
  LINE_SAMPLES = 2627
  SAMPLE_TYPE = UNSIGNED_INTEGER
  SAMPLE_BITS = 8
  BANDS = 1
  BAND_STORAGE_TYPE = BAND_SEQUENTIAL
  MAXIMUM = 255
  MEAN = 121.749
  MINIMUM = 1
  STANDARD_DEVIATION = 28.5925
END_OBJECT = IMAGE
/* MAP OBJECT DEFINITIONS */
OBJECT = IMAGE_MAP_PROJECTION
  ^DATA_SET_MAP_PROJECTION_CATALOG= "DSMAP.CAT"
  A_AXIS_RADIUS = 3396.0
  B_AXIS_RADIUS = 3396.0
  C_AXIS_RADIUS = 3396.0
  CENTER_LATITUDE = 0.0
  CENTER_LONGITUDE = 256.0
  COORDINATE_SYSTEM_NAME = PLANETOGRAPHIC
  COORDINATE_SYSTEM_TYPE = "BODY-FIXED ROTATING"
  EASTERNMOST_LONGITUDE = 257.851
  FIRST_STANDARD_PARALLEL = "N/A"
  LINE_FIRST_PIXEL = 1
  LINE_LAST_PIXEL = 11139
  LINE_PROJECTION_OFFSET = 82608.125
  MAP_PROJECTION_ROTATION = 0.0
  MAP_PROJECTION_TYPE = SINUSOIDAL
  MAP_RESOLUTION = 1185.42760773333
  MAP_SCALE = 0.05
  MAXIMUM_LATITUDE = 69.7709
  MINIMUM_LATITUDE = 60.2683
  POSITIVE_LONGITUDE_DIRECTION = EAST
  REFERENCE_LATITUDE = "N/A"
  REFERENCE_LONGITUDE = "N/A"
  SAMPLE_FIRST_PIXEL = 1
  SAMPLE_LAST_PIXEL = 2627
  SAMPLE_PROJECTION_OFFSET = 1543.375
  SECOND_STANDARD_PARALLEL = "N/A"
  WESTERNMOST_LONGITUDE = 252.287
END_OBJECT = IMAGE_MAP_PROJECTION
END
