PDS_VERSION_ID = PDS3
/* FILE DATA ELEMENTS */
RECORD_TYPE = UNDEFINED
/* POINTERS TO DATA OBJECTS */
^IMAGE = ("HI021_0000_P24.TIF")
/* IDENTIFICATION DATA ELEMENTS */
DATA_SET_ID = "MEX-M-HRSC-4-REFDR-MAPPROJECT-EXT6-V4.0"
DATA_SET_NAME = "MARS EXPRESS HRSC MAP PROJECTED REFDR EXTENSION6 V4.0"
DETECTOR_ID = MEX_HRSC_P2
EVENT_TYPE = "MARS-REGIONAL-MAPPING-Im-Pf-Eo"
INSTRUMENT_HOST_ID = MEX
INSTRUMENT_HOST_NAME = "MARS EXPRESS"
INSTRUMENT_ID = HRSC
INSTRUMENT_NAME = "HIGH RESOLUTION STEREO CAMERA"
MISSION_NAME = "MARS EXPRESS"
MISSION_PHASE_NAME = ME_Phase_38
PROCESSING_LEVEL_ID = 4
PRODUCT_CREATION_TIME = 2023-01-29T08:20:11.000Z
PRODUCT_ID = "HI021_0000_P24.TIF"
RELEASE_ID = 0004
REVISION_ID = 0000
/* QUALITY DATA ELEMENTS */
DATA_QUALITY_ID = 1
DATA_QUALITY_DESC = "Data calculated based on original SPICE kernels"
/* TIME DATA ELEMENTS */
SPACECRAFT_CLOCK_START_COUNT = "1/0470384190.09046"
SPACECRAFT_CLOCK_STOP_COUNT = "1/0470384466.57999"
START_TIME = 2018-03-29T06:17:38.033Z
STOP_TIME = 2018-03-29T06:21:00.413Z
/* ORBITAL DATA ELEMENTS */
ASCENDING_NODE_LONGITUDE = 235.84
MAXIMUM_RESOLUTION = 0.0318
FOOTPRINT_POINT_LATITUDE = (66.4968,66.4618,66.4208,66.364,66.3624 ,66.436,66.1813,65.9267,65.6722,65.4178 ,65.1633,64.9088,64.6544,64.4,64.1456, 63.7642,63.51,63.256,63.0021,62.6213, 62.3678,61.9875,61.7341,61.4808,61.1011 ,60.8481,60.5953,60.2162,59.9639, 59.7116,59.4597,59.082,58.8306,58.5793, 58.2026,57.9517,57.701,57.4505,57.2003, 56.9502,56.7005,56.3261,55.7034,55.2063 ,54.7099,54.3302,53.9495,53.8228,53.778 ,53.8043,53.8234,53.8404,53.8408, 53.8413,54.2236,54.4788,54.7337,55.2321 ,55.7314,56.1067,56.6078,56.8587, 57.1099,57.3612,57.6128,57.8645,58.1167 ,58.3691,58.6216,58.8743,59.1273, 59.3806,59.6339,59.8875,60.1413,60.3954 ,60.6495,61.0311,61.4133,61.6681, 61.9232,62.1783,62.4338,62.6892,62.9449 ,63.2005,63.4565,63.7125,63.9685,64.225 ,64.4814,64.7381,64.9947,65.38,65.6368, 65.894,66.151,66.4083,66.5369,66.4968)
FOOTPRINT_POINT_LONGITUDE = (153.428,152.441,151.445,150.249, 150.218,150.005,150.106,150.203,150.298 ,150.39,150.481,150.569,150.655,150.739 ,150.821,150.94,151.017,151.092,151.166 ,151.273,151.341,151.442,151.507,151.57 ,151.663,151.723,151.782,151.868, 151.923,151.977,152.029,152.106,152.155 ,152.204,152.275,152.32,152.365,152.409 ,152.451,152.493,152.534,152.594, 152.688,152.76,152.829,152.88,152.928, 152.944,152.95,153.814,154.571,155.44, 155.464,155.473,155.435,155.41,155.384, 155.332,155.278,155.236,155.178,155.148 ,155.118,155.087,155.056,155.024, 154.992,154.958,154.925,154.89,154.855, 154.819,154.783,154.745,154.707,154.669 ,154.629,154.568,154.505,154.462, 154.418,154.374,154.328,154.281,154.233 ,154.184,154.135,154.084,154.031, 153.978,153.924,153.868,153.811,153.723 ,153.662,153.6,153.537,153.472,153.439, 153.428)
ORBIT_NUMBER = 18021
ORBITAL_ECCENTRICITY = 0.571
ORBITAL_INCLINATION = 86.97
ORBITAL_SEMIMAJOR_AXIS = 8768.13
PERIAPSIS_ALTITUDE = 382.59
PERIAPSIS_ARGUMENT_ANGLE = 114.26
PERIAPSIS_TIME = 2018-03-29T06:17:30.000Z
SPACECRAFT_ORIENTATION = (0.0,-1.0,0.0)
^MEX_ORIENTATION_DESC = "MEX_ORIENTATION_DESC.TXT"
SPACECRAFT_POINTING_MODE = ACROSSTRACK
^MEX_POINTING_DESC = "MEX_POINTING_DESC.TXT"
RIGHT_ASCENSION = -1e+32
DECLINATION = -1e+32
OFFSET_ANGLE = -0.5
SPACECRAFT_SOLAR_DISTANCE = 2.29813e+08
TARGET_NAME = MARS
/* CAMERA DATA ELEMENTS */
DETECTOR_TEMPERATURE = 19.39
FOCAL_PLANE_TEMPERATURE = 9.3989
INST_CMPRS_NAME = "DISCRETE COSINE TRANSFORMATION (DCT)"
INST_CMPRS_RATIO = 9.27155
INST_CMPRS_QUALITY = 0
INST_CMPRS_QUANTZ_TBL_ID = 0
INSTRUMENT_TEMPERATURE = 12.2535
LENS_TEMPERATURE = 10.0106
MACROPIXEL_SIZE = 2
MISSING_FRAMES = 0
PIXEL_SUBSAMPLING_FLAG = N
SIGNAL_CHAIN_ID = 3
/* RADIOMETRIC DATA ELEMENTS */
BANDWIDTH = 177.0
CENTER_FILTER_WAVELENGTH = 676.5
RADIANCE_OFFSET = 3.28946
RADIANCE_SCALING_FACTOR = 0.00981114
REFLECTANCE_SCALING_FACTOR = 0.000274744
MEX:REFLECTANCE_OFFSET = 0.0921154
/* IMAGE OBJECT DEFINITIONS */
OBJECT = IMAGE
  INTERCHANGE_FORMAT = BINARY
  LINES = 30443
  LINE_SAMPLES = 6242
  SAMPLE_TYPE = UNSIGNED_INTEGER
  SAMPLE_BITS = 8
  BANDS = 1
  BAND_STORAGE_TYPE = BAND_SEQUENTIAL
  MAXIMUM = 255
  MEAN = 113.259
  MINIMUM = 1
  STANDARD_DEVIATION = 39.488
END_OBJECT = IMAGE
/* MAP OBJECT DEFINITIONS */
OBJECT = IMAGE_MAP_PROJECTION
  ^DATA_SET_MAP_PROJECTION_CATALOG= "DSMAP.CAT"
  A_AXIS_RADIUS = 3396.0
  B_AXIS_RADIUS = 3396.0
  C_AXIS_RADIUS = 3396.0
  CENTER_LATITUDE = 0.0
  CENTER_LONGITUDE = 153.0
  COORDINATE_SYSTEM_NAME = PLANETOGRAPHIC
  COORDINATE_SYSTEM_TYPE = "BODY-FIXED ROTATING"
  EASTERNMOST_LONGITUDE = 155.473
  FIRST_STANDARD_PARALLEL = "N/A"
  LINE_FIRST_PIXEL = 1
  LINE_LAST_PIXEL = 30443
  LINE_PROJECTION_OFFSET = 157870.75
  MAP_PROJECTION_ROTATION = 0.0
  MAP_PROJECTION_TYPE = SINUSOIDAL
  MAP_RESOLUTION = 2370.85521546667
  MAP_SCALE = 0.025
  MAXIMUM_LATITUDE = 66.5369
  MINIMUM_LATITUDE = 53.778
  POSITIVE_LONGITUDE_DIRECTION = EAST
  REFERENCE_LATITUDE = "N/A"
  REFERENCE_LONGITUDE = "N/A"
  SAMPLE_FIRST_PIXEL = 1
  SAMPLE_LAST_PIXEL = 6242
  SAMPLE_PROJECTION_OFFSET = 2824.75
  SECOND_STANDARD_PARALLEL = "N/A"
  WESTERNMOST_LONGITUDE = 150.005
END_OBJECT = IMAGE_MAP_PROJECTION
END
