PDS_VERSION_ID = PDS3
/* FILE DATA ELEMENTS */
RECORD_TYPE = UNDEFINED
/* POINTERS TO DATA OBJECTS */
^IMAGE = ("HI022_0000_BL4.TIF")
/* IDENTIFICATION DATA ELEMENTS */
DATA_SET_ID = "MEX-M-HRSC-4-REFDR-MAPPROJECT-EXT6-V4.0"
DATA_SET_NAME = "MARS EXPRESS HRSC MAP PROJECTED REFDR EXTENSION6 V4.0"
DETECTOR_ID = MEX_HRSC_BLUE
EVENT_TYPE = "MARS-REGIONAL-MAPPING-Pf-Eo"
INSTRUMENT_HOST_ID = MEX
INSTRUMENT_HOST_NAME = "MARS EXPRESS"
INSTRUMENT_ID = HRSC
INSTRUMENT_NAME = "HIGH RESOLUTION STEREO CAMERA"
MISSION_NAME = "MARS EXPRESS"
MISSION_PHASE_NAME = ME_Phase_38
PROCESSING_LEVEL_ID = 4
PRODUCT_CREATION_TIME = 2023-01-29T08:20:11.000Z
PRODUCT_ID = "HI022_0000_BL4.TIF"
RELEASE_ID = 0004
REVISION_ID = 0000
/* QUALITY DATA ELEMENTS */
DATA_QUALITY_ID = 1
DATA_QUALITY_DESC = "Data calculated based on original SPICE kernels"
/* TIME DATA ELEMENTS */
SPACECRAFT_CLOCK_START_COUNT = "1/0470409254.09038"
SPACECRAFT_CLOCK_STOP_COUNT = "1/0470409485.16415"
START_TIME = 2018-03-29T13:15:00.439Z
STOP_TIME = 2018-03-29T13:17:47.389Z
/* ORBITAL DATA ELEMENTS */
ASCENDING_NODE_LONGITUDE = 235.81
MAXIMUM_RESOLUTION = 0.0614
FOOTPRINT_POINT_LATITUDE = (72.3561,72.2979,72.2232,72.1339, 72.1314,72.1828,71.8313,71.597,71.3625, 71.1281,70.7762,70.5416,70.307,70.0723, 69.8376,69.6029,69.3681,69.1333,68.8985 ,68.6636,68.3113,68.0763,67.8414, 67.6064,67.3714,67.1363,66.9013,66.6662 ,66.4311,66.196,65.9608,65.7256,65.4905 ,65.2553,65.02,64.7848,64.5495,64.3142, 63.8435,63.3728,62.9019,62.5486,62.0776 ,61.6063,61.135,60.5457,60.4277,60.3446 ,60.3847,60.4385,60.487,60.4881,60.4896 ,60.7263,60.963,61.1997,61.4364,61.6731 ,61.9097,62.1464,62.3831,62.6197, 62.8564,63.0931,63.3297,63.6847,63.9214 ,64.1581,64.3948,64.6315,64.8683,65.105 ,65.4601,65.6969,65.9337,66.1705, 66.5258,66.8812,67.2366,67.4735,67.7105 ,67.9476,68.3032,68.6589,68.8961, 69.1333,69.3706,69.6079,69.9639,70.2012 ,70.4387,70.6762,70.9137,71.1513, 71.3889,71.6266,71.8644,72.2211,72.34, 72.3561)
FOOTPRINT_POINT_LONGITUDE = (50.8991,49.6286,48.21,46.7247,46.6858, 46.5069,46.7352,46.8819,47.0247,47.1635 ,47.3645,47.4941,47.6199,47.7426, 47.8617,47.978,48.0912,48.2015,48.3088, 48.4135,48.5658,48.6642,48.76,48.8535, 48.9449,49.0341,49.1208,49.2057,49.2887 ,49.3697,49.4488,49.5263,49.6013,49.675 ,49.7471,49.8173,49.8861,49.9534, 50.0834,50.2077,50.327,50.4125,50.5227, 50.6283,50.7295,50.8502,50.8735,50.8897 ,51.5462,52.5357,53.5801,53.6056,53.614 ,53.584,53.5537,53.5226,53.4913,53.4594 ,53.4268,53.3935,53.3598,53.3254, 53.2903,53.2545,53.2181,53.1621,53.1238 ,53.0847,53.0449,53.0043,52.9629, 52.9206,52.8552,52.8105,52.7649,52.7184 ,52.6469,52.573,52.4966,52.444,52.3904, 52.3355,52.2509,52.1631,52.1029,52.0412 ,51.978,51.9132,51.813,51.7439,51.6732, 51.6005,51.5259,51.4495,51.3709,51.2903 ,51.2073,51.0786,51.0345,50.8991)
ORBIT_NUMBER = 18022
ORBITAL_ECCENTRICITY = 0.571
ORBITAL_INCLINATION = 86.98
ORBITAL_SEMIMAJOR_AXIS = 8770.67
PERIAPSIS_ALTITUDE = 381.65
PERIAPSIS_ARGUMENT_ANGLE = 114.08
PERIAPSIS_TIME = 2018-03-29T13:16:27.000Z
SPACECRAFT_ORIENTATION = (0.0,-1.0,0.0)
^MEX_ORIENTATION_DESC = "MEX_ORIENTATION_DESC.TXT"
SPACECRAFT_POINTING_MODE = INERT
^MEX_POINTING_DESC = "MEX_POINTING_DESC.TXT"
RIGHT_ASCENSION = 179.298
DECLINATION = -66.113
OFFSET_ANGLE = -1e+32
SPACECRAFT_SOLAR_DISTANCE = 2.29757e+08
TARGET_NAME = MARS
/* CAMERA DATA ELEMENTS */
DETECTOR_TEMPERATURE = 18.5744
FOCAL_PLANE_TEMPERATURE = 8.7872
INST_CMPRS_NAME = "DISCRETE COSINE TRANSFORMATION (DCT)"
INST_CMPRS_RATIO = 9.23577
INST_CMPRS_QUALITY = 0
INST_CMPRS_QUANTZ_TBL_ID = 0
INSTRUMENT_TEMPERATURE = 11.8457
LENS_TEMPERATURE = 9.195
MACROPIXEL_SIZE = 4
MISSING_FRAMES = 0
PIXEL_SUBSAMPLING_FLAG = N
SIGNAL_CHAIN_ID = 2
/* RADIOMETRIC DATA ELEMENTS */
BANDWIDTH = 76.0
CENTER_FILTER_WAVELENGTH = 444.0
RADIANCE_OFFSET = 0.481239
RADIANCE_SCALING_FACTOR = 0.000742509
REFLECTANCE_SCALING_FACTOR = 4.02715e-05
MEX:REFLECTANCE_OFFSET = 0.026101
/* IMAGE OBJECT DEFINITIONS */
OBJECT = IMAGE
  INTERCHANGE_FORMAT = BINARY
  LINES = 14312
  LINE_SAMPLES = 3170
  SAMPLE_TYPE = UNSIGNED_INTEGER
  SAMPLE_BITS = 8
  BANDS = 1
  BAND_STORAGE_TYPE = BAND_SEQUENTIAL
  MAXIMUM = 255
  MEAN = 132.979
  MINIMUM = 1
  STANDARD_DEVIATION = 24.4579
END_OBJECT = IMAGE
/* MAP OBJECT DEFINITIONS */
OBJECT = IMAGE_MAP_PROJECTION
  ^DATA_SET_MAP_PROJECTION_CATALOG= "DSMAP.CAT"
  A_AXIS_RADIUS = 3396.0
  B_AXIS_RADIUS = 3396.0
  C_AXIS_RADIUS = 3396.0
  CENTER_LATITUDE = 0.0
  CENTER_LONGITUDE = 51.0
  COORDINATE_SYSTEM_NAME = PLANETOGRAPHIC
  COORDINATE_SYSTEM_TYPE = "BODY-FIXED ROTATING"
  EASTERNMOST_LONGITUDE = 53.614
  FIRST_STANDARD_PARALLEL = "N/A"
  LINE_FIRST_PIXEL = 1
  LINE_LAST_PIXEL = 14312
  LINE_PROJECTION_OFFSET = 85856.375
  MAP_PROJECTION_ROTATION = 0.0
  MAP_PROJECTION_TYPE = SINUSOIDAL
  MAP_RESOLUTION = 1185.42760773333
  MAP_SCALE = 0.05
  MAXIMUM_LATITUDE = 72.3561
  MINIMUM_LATITUDE = 60.3446
  POSITIVE_LONGITUDE_DIRECTION = EAST
  REFERENCE_LATITUDE = "N/A"
  REFERENCE_LONGITUDE = "N/A"
  SAMPLE_FIRST_PIXEL = 1
  SAMPLE_LAST_PIXEL = 3170
  SAMPLE_PROJECTION_OFFSET = 1629.125
  SECOND_STANDARD_PARALLEL = "N/A"
  WESTERNMOST_LONGITUDE = 46.5069
END_OBJECT = IMAGE_MAP_PROJECTION
END
