PDS_VERSION_ID = PDS3
/* FILE DATA ELEMENTS */
RECORD_TYPE = UNDEFINED
/* POINTERS TO DATA OBJECTS */
^IMAGE = ("HI022_0000_IR4.TIF")
/* IDENTIFICATION DATA ELEMENTS */
DATA_SET_ID = "MEX-M-HRSC-4-REFDR-MAPPROJECT-EXT6-V4.0"
DATA_SET_NAME = "MARS EXPRESS HRSC MAP PROJECTED REFDR EXTENSION6 V4.0"
DETECTOR_ID = MEX_HRSC_IR
EVENT_TYPE = "MARS-REGIONAL-MAPPING-Pf-Eo"
INSTRUMENT_HOST_ID = MEX
INSTRUMENT_HOST_NAME = "MARS EXPRESS"
INSTRUMENT_ID = HRSC
INSTRUMENT_NAME = "HIGH RESOLUTION STEREO CAMERA"
MISSION_NAME = "MARS EXPRESS"
MISSION_PHASE_NAME = ME_Phase_38
PROCESSING_LEVEL_ID = 4
PRODUCT_CREATION_TIME = 2023-01-29T08:20:11.000Z
PRODUCT_ID = "HI022_0000_IR4.TIF"
RELEASE_ID = 0004
REVISION_ID = 0000
/* QUALITY DATA ELEMENTS */
DATA_QUALITY_ID = 1
DATA_QUALITY_DESC = "Data calculated based on original SPICE kernels"
/* TIME DATA ELEMENTS */
SPACECRAFT_CLOCK_START_COUNT = "1/0470409254.09038"
SPACECRAFT_CLOCK_STOP_COUNT = "1/0470409485.16415"
START_TIME = 2018-03-29T13:14:28.865Z
STOP_TIME = 2018-03-29T13:17:15.689Z
/* ORBITAL DATA ELEMENTS */
ASCENDING_NODE_LONGITUDE = 235.81
MAXIMUM_RESOLUTION = 0.0637
FOOTPRINT_POINT_LATITUDE = (72.4585,72.3884,72.3109,72.2401, 72.2377,72.1749,71.8286,71.5976,71.3663 ,71.0191,70.6713,70.4392,70.0907, 69.8581,69.5089,69.1594,68.926,68.6925, 68.4588,68.225,67.9909,67.6395,67.4051, 67.053,66.7005,66.4653,66.1123,65.8768, 65.5227,65.2867,64.9321,64.5771,64.3402 ,64.1031,63.7471,63.3906,63.1529, 62.9151,62.6766,62.3188,61.9606,61.602, 61.2427,61.0032,60.7634,60.5232,60.4028 ,60.3272,60.3705,60.397,60.4307,60.4556 ,60.4719,60.473,60.4745,60.836,61.0773, 61.3179,61.6781,61.9183,62.1584,62.3981 ,62.7574,62.9968,63.2359,63.5945, 63.8332,64.1912,64.4295,64.7868,65.0248 ,65.2626,65.5006,65.7383,65.9759, 66.2131,66.4501,66.8056,67.0422,67.2789 ,67.5155,67.7519,67.9881,68.3422, 68.6961,68.9318,69.2852,69.5205,69.8735 ,70.1086,70.3437,70.5786,70.8135, 71.0481,71.3998,71.6342,71.9855,72.2195 ,72.3365,72.4585)
FOOTPRINT_POINT_LONGITUDE = (50.9243,49.403,47.972,46.8203,46.782, 46.6868,46.9076,47.0499,47.1882,47.389, 47.5817,47.7059,47.8863,48.0028,48.172, 48.3349,48.4401,48.5428,48.6429,48.7407 ,48.8361,48.9749,49.0649,49.1957,49.322 ,49.4039,49.5232,49.6005,49.713,49.786, 49.8924,49.9954,50.0622,50.1275,50.2228 ,50.3151,50.375,50.4338,50.491,50.5748, 50.656,50.7347,50.8108,50.8604,50.909, 50.9564,50.9797,50.9943,51.6878,52.1518 ,52.798,53.342,53.7312,53.7572,53.7657, 53.7182,53.6854,53.6524,53.6022,53.5678 ,53.5327,53.4972,53.4426,53.4054, 53.3677,53.3094,53.2698,53.2088,53.1673 ,53.1034,53.0599,53.0154,52.9697, 52.9232,52.8758,52.8276,52.7785,52.7027 ,52.6511,52.5981,52.5439,52.4886, 52.4321,52.345,52.2548,52.193,52.0975, 52.0322,51.9309,51.8612,51.7899,51.7168 ,51.6416,51.5649,51.4459,51.3641, 51.2372,51.1498,51.1051,50.9243)
ORBIT_NUMBER = 18022
ORBITAL_ECCENTRICITY = 0.571
ORBITAL_INCLINATION = 86.98
ORBITAL_SEMIMAJOR_AXIS = 8770.67
PERIAPSIS_ALTITUDE = 381.65
PERIAPSIS_ARGUMENT_ANGLE = 114.08
PERIAPSIS_TIME = 2018-03-29T13:16:27.000Z
SPACECRAFT_ORIENTATION = (0.0,-1.0,0.0)
^MEX_ORIENTATION_DESC = "MEX_ORIENTATION_DESC.TXT"
SPACECRAFT_POINTING_MODE = INERT
^MEX_POINTING_DESC = "MEX_POINTING_DESC.TXT"
RIGHT_ASCENSION = 179.298
DECLINATION = -66.113
OFFSET_ANGLE = -1e+32
SPACECRAFT_SOLAR_DISTANCE = 2.29757e+08
TARGET_NAME = MARS
/* CAMERA DATA ELEMENTS */
DETECTOR_TEMPERATURE = 17.351
FOCAL_PLANE_TEMPERATURE = 8.7872
INST_CMPRS_NAME = "DISCRETE COSINE TRANSFORMATION (DCT)"
INST_CMPRS_RATIO = 16.04
INST_CMPRS_QUALITY = 0
INST_CMPRS_QUANTZ_TBL_ID = 0
INSTRUMENT_TEMPERATURE = 11.8457
LENS_TEMPERATURE = 9.195
MACROPIXEL_SIZE = 4
MISSING_FRAMES = 0
PIXEL_SUBSAMPLING_FLAG = N
SIGNAL_CHAIN_ID = 2
/* RADIOMETRIC DATA ELEMENTS */
BANDWIDTH = 81.0
CENTER_FILTER_WAVELENGTH = 955.5
RADIANCE_OFFSET = 0.698425
RADIANCE_SCALING_FACTOR = 0.00314684
REFLECTANCE_SCALING_FACTOR = 0.00035838
MEX:REFLECTANCE_OFFSET = 0.0795405
/* IMAGE OBJECT DEFINITIONS */
OBJECT = IMAGE
  INTERCHANGE_FORMAT = BINARY
  LINES = 14312
  LINE_SAMPLES = 3170
  SAMPLE_TYPE = UNSIGNED_INTEGER
  SAMPLE_BITS = 8
  BANDS = 1
  BAND_STORAGE_TYPE = BAND_SEQUENTIAL
  MAXIMUM = 255
  MEAN = 154.744
  MINIMUM = 1
  STANDARD_DEVIATION = 45.8348
END_OBJECT = IMAGE
/* MAP OBJECT DEFINITIONS */
OBJECT = IMAGE_MAP_PROJECTION
  ^DATA_SET_MAP_PROJECTION_CATALOG= "DSMAP.CAT"
  A_AXIS_RADIUS = 3396.0
  B_AXIS_RADIUS = 3396.0
  C_AXIS_RADIUS = 3396.0
  CENTER_LATITUDE = 0.0
  CENTER_LONGITUDE = 51.0
  COORDINATE_SYSTEM_NAME = PLANETOGRAPHIC
  COORDINATE_SYSTEM_TYPE = "BODY-FIXED ROTATING"
  EASTERNMOST_LONGITUDE = 53.7657
  FIRST_STANDARD_PARALLEL = "N/A"
  LINE_FIRST_PIXEL = 1
  LINE_LAST_PIXEL = 14312
  LINE_PROJECTION_OFFSET = 85856.375
  MAP_PROJECTION_ROTATION = 0.0
  MAP_PROJECTION_TYPE = SINUSOIDAL
  MAP_RESOLUTION = 1185.42760773333
  MAP_SCALE = 0.05
  MAXIMUM_LATITUDE = 72.4585
  MINIMUM_LATITUDE = 60.3272
  POSITIVE_LONGITUDE_DIRECTION = EAST
  REFERENCE_LATITUDE = "N/A"
  REFERENCE_LONGITUDE = "N/A"
  SAMPLE_FIRST_PIXEL = 1
  SAMPLE_LAST_PIXEL = 3170
  SAMPLE_PROJECTION_OFFSET = 1629.125
  SECOND_STANDARD_PARALLEL = "N/A"
  WESTERNMOST_LONGITUDE = 46.6868
END_OBJECT = IMAGE_MAP_PROJECTION
END
