PDS_VERSION_ID = PDS3
/* FILE DATA ELEMENTS */
RECORD_TYPE = UNDEFINED
/* POINTERS TO DATA OBJECTS */
^IMAGE = ("HI022_0000_ND4.TIF")
/* IDENTIFICATION DATA ELEMENTS */
DATA_SET_ID = "MEX-M-HRSC-4-REFDR-MAPPROJECT-EXT6-V4.0"
DATA_SET_NAME = "MARS EXPRESS HRSC MAP PROJECTED REFDR EXTENSION6 V4.0"
DETECTOR_ID = MEX_HRSC_NADIR
EVENT_TYPE = "MARS-REGIONAL-MAPPING-Pf-Eo"
INSTRUMENT_HOST_ID = MEX
INSTRUMENT_HOST_NAME = "MARS EXPRESS"
INSTRUMENT_ID = HRSC
INSTRUMENT_NAME = "HIGH RESOLUTION STEREO CAMERA"
MISSION_NAME = "MARS EXPRESS"
MISSION_PHASE_NAME = ME_Phase_38
PROCESSING_LEVEL_ID = 4
PRODUCT_CREATION_TIME = 2023-01-29T08:20:11.000Z
PRODUCT_ID = "HI022_0000_ND4.TIF"
RELEASE_ID = 0004
REVISION_ID = 0000
/* QUALITY DATA ELEMENTS */
DATA_QUALITY_ID = 1
DATA_QUALITY_DESC = "Data calculated based on original SPICE kernels"
/* TIME DATA ELEMENTS */
SPACECRAFT_CLOCK_START_COUNT = "1/0470409254.09038"
SPACECRAFT_CLOCK_STOP_COUNT = "1/0470409485.16415"
START_TIME = 2018-03-29T13:14:54.888Z
STOP_TIME = 2018-03-29T13:17:41.882Z
/* ORBITAL DATA ELEMENTS */
ASCENDING_NODE_LONGITUDE = 235.81
MAXIMUM_RESOLUTION = 0.0154
FOOTPRINT_POINT_LATITUDE = (72.3796,72.3154,72.2397,72.1567,72.154 ,72.1854,71.9504,71.7153,71.3623, 71.0092,70.7738,70.5382,70.3026,70.0669 ,69.8312,69.5954,69.2415,68.8876, 68.6515,68.4154,68.1793,67.8249,67.5886 ,67.2341,66.8794,66.6429,66.4064, 66.1698,65.9331,65.6964,65.2229,64.7491 ,64.3937,64.1566,63.801,63.4452,62.9707 ,62.7333,62.3771,62.1396,61.7832, 61.5456,61.3078,60.9512,60.7133,60.4753 ,60.3563,60.3534,60.421,60.4695,60.4975 ,60.4987,60.4995,60.7384,60.9772, 61.2161,61.4549,61.8129,62.0516,62.4095 ,62.6481,62.8867,63.1253,63.3638, 63.7215,63.96,64.3177,64.5561,64.7945, 65.033,65.2713,65.5097,65.7481,65.9864, 66.2248,66.4632,66.7015,67.059,67.2974, 67.5357,67.8932,68.2508,68.4892,68.7275 ,68.9659,69.2043,69.4428,69.6812, 69.9196,70.2773,70.5157,70.7542,71.1119 ,71.3504,71.589,71.8276,72.0662,72.3048 ,72.4241,72.3796)
FOOTPRINT_POINT_LONGITUDE = (50.9024,49.5127,48.0923,46.7239, 46.6827,46.5066,46.6604,46.8096,47.0261 ,47.2338,47.3669,47.497,47.6232,47.7463 ,47.8659,47.9825,48.152,48.3146,48.4197 ,48.5221,48.622,48.7672,48.861,48.9977, 49.1294,49.2145,49.2977,49.3789,49.4584 ,49.5361,49.6853,49.8281,49.931,49.9976 ,50.0949,50.1889,50.3099,50.3681, 50.4531,50.5084,50.5891,50.6415,50.6927 ,50.7677,50.8163,50.8638,50.8871, 50.8877,52.0229,52.9723,53.598,53.6251, 53.6385,53.6081,53.5773,53.5456,53.5137 ,53.4649,53.4314,53.3802,53.3452, 53.3096,53.2733,53.2362,53.1793,53.1405 ,53.0805,53.0396,52.9981,52.9556, 52.9121,52.8674,52.8221,52.7757,52.7285 ,52.6803,52.631,52.5551,52.5029,52.4495 ,52.3673,52.2823,52.2238,52.164,52.1027 ,52.0401,51.9758,51.9099,51.8424, 51.7378,51.6658,51.5918,51.4774,51.3985 ,51.3175,51.2343,51.1487,51.0608, 51.0158,50.9024)
ORBIT_NUMBER = 18022
ORBITAL_ECCENTRICITY = 0.571
ORBITAL_INCLINATION = 86.98
ORBITAL_SEMIMAJOR_AXIS = 8770.67
PERIAPSIS_ALTITUDE = 381.65
PERIAPSIS_ARGUMENT_ANGLE = 114.08
PERIAPSIS_TIME = 2018-03-29T13:16:27.000Z
SPACECRAFT_ORIENTATION = (0.0,-1.0,0.0)
^MEX_ORIENTATION_DESC = "MEX_ORIENTATION_DESC.TXT"
SPACECRAFT_POINTING_MODE = INERT
^MEX_POINTING_DESC = "MEX_POINTING_DESC.TXT"
RIGHT_ASCENSION = 179.298
DECLINATION = -66.113
OFFSET_ANGLE = -1e+32
SPACECRAFT_SOLAR_DISTANCE = 2.29757e+08
TARGET_NAME = MARS
/* CAMERA DATA ELEMENTS */
DETECTOR_TEMPERATURE = 18.5744
FOCAL_PLANE_TEMPERATURE = 8.7872
INST_CMPRS_NAME = "DISCRETE COSINE TRANSFORMATION (DCT)"
INST_CMPRS_RATIO = 6.65483
INST_CMPRS_QUALITY = 0
INST_CMPRS_QUANTZ_TBL_ID = 0
INSTRUMENT_TEMPERATURE = 11.8457
LENS_TEMPERATURE = 9.195
MACROPIXEL_SIZE = 1
MISSING_FRAMES = 0
PIXEL_SUBSAMPLING_FLAG = N
SIGNAL_CHAIN_ID = 0
/* RADIOMETRIC DATA ELEMENTS */
BANDWIDTH = 177.0
CENTER_FILTER_WAVELENGTH = 677.5
RADIANCE_OFFSET = 2.8747
RADIANCE_SCALING_FACTOR = 0.010123
REFLECTANCE_SCALING_FACTOR = 0.000283879
MEX:REFLECTANCE_OFFSET = 0.0806153
/* IMAGE OBJECT DEFINITIONS */
OBJECT = IMAGE
  INTERCHANGE_FORMAT = BINARY
  LINES = 57248
  LINE_SAMPLES = 12680
  SAMPLE_TYPE = UNSIGNED_INTEGER
  SAMPLE_BITS = 8
  BANDS = 1
  BAND_STORAGE_TYPE = BAND_SEQUENTIAL
  MAXIMUM = 255
  MEAN = 154.236
  MINIMUM = 1
  STANDARD_DEVIATION = 36.2159
END_OBJECT = IMAGE
/* MAP OBJECT DEFINITIONS */
OBJECT = IMAGE_MAP_PROJECTION
  ^DATA_SET_MAP_PROJECTION_CATALOG= "DSMAP.CAT"
  A_AXIS_RADIUS = 3396.0
  B_AXIS_RADIUS = 3396.0
  C_AXIS_RADIUS = 3396.0
  CENTER_LATITUDE = 0.0
  CENTER_LONGITUDE = 51.0
  COORDINATE_SYSTEM_NAME = PLANETOGRAPHIC
  COORDINATE_SYSTEM_TYPE = "BODY-FIXED ROTATING"
  EASTERNMOST_LONGITUDE = 53.6385
  FIRST_STANDARD_PARALLEL = "N/A"
  LINE_FIRST_PIXEL = 1
  LINE_LAST_PIXEL = 57248
  LINE_PROJECTION_OFFSET = 343427.0
  MAP_PROJECTION_ROTATION = 0.0
  MAP_PROJECTION_TYPE = SINUSOIDAL
  MAP_RESOLUTION = 4741.71043093333
  MAP_SCALE = 0.0125
  MAXIMUM_LATITUDE = 72.4241
  MINIMUM_LATITUDE = 60.3534
  POSITIVE_LONGITUDE_DIRECTION = EAST
  REFERENCE_LATITUDE = "N/A"
  REFERENCE_LONGITUDE = "N/A"
  SAMPLE_FIRST_PIXEL = 1
  SAMPLE_LAST_PIXEL = 12680
  SAMPLE_PROJECTION_OFFSET = 6518.0
  SECOND_STANDARD_PARALLEL = "N/A"
  WESTERNMOST_LONGITUDE = 46.5066
END_OBJECT = IMAGE_MAP_PROJECTION
END
