PDS_VERSION_ID = PDS3
/* FILE DATA ELEMENTS */
RECORD_TYPE = UNDEFINED
/* POINTERS TO DATA OBJECTS */
^IMAGE = ("HI022_0000_P14.TIF")
/* IDENTIFICATION DATA ELEMENTS */
DATA_SET_ID = "MEX-M-HRSC-4-REFDR-MAPPROJECT-EXT6-V4.0"
DATA_SET_NAME = "MARS EXPRESS HRSC MAP PROJECTED REFDR EXTENSION6 V4.0"
DETECTOR_ID = MEX_HRSC_P1
EVENT_TYPE = "MARS-REGIONAL-MAPPING-Pf-Eo"
INSTRUMENT_HOST_ID = MEX
INSTRUMENT_HOST_NAME = "MARS EXPRESS"
INSTRUMENT_ID = HRSC
INSTRUMENT_NAME = "HIGH RESOLUTION STEREO CAMERA"
MISSION_NAME = "MARS EXPRESS"
MISSION_PHASE_NAME = ME_Phase_38
PROCESSING_LEVEL_ID = 4
PRODUCT_CREATION_TIME = 2023-01-29T08:20:11.000Z
PRODUCT_ID = "HI022_0000_P14.TIF"
RELEASE_ID = 0004
REVISION_ID = 0000
/* QUALITY DATA ELEMENTS */
DATA_QUALITY_ID = 1
DATA_QUALITY_DESC = "Data calculated based on original SPICE kernels"
/* TIME DATA ELEMENTS */
SPACECRAFT_CLOCK_START_COUNT = "1/0470409254.09038"
SPACECRAFT_CLOCK_STOP_COUNT = "1/0470409485.16415"
START_TIME = 2018-03-29T13:14:34.047Z
STOP_TIME = 2018-03-29T13:17:21.005Z
/* ORBITAL DATA ELEMENTS */
ASCENDING_NODE_LONGITUDE = 235.81
MAXIMUM_RESOLUTION = 0.0314
FOOTPRINT_POINT_LATITUDE = (72.449,72.3914,72.3005,72.229,72.2264, 72.1829,71.7182,71.2529,70.9035,70.6704 ,70.437,70.0866,69.8528,69.5018,69.2677 ,69.0332,68.7987,68.5641,68.3292, 67.9767,67.7414,67.5061,67.2706,67.0348 ,66.799,66.563,66.2088,65.9726,65.6176, 65.3808,65.0253,64.7881,64.5508,64.1944 ,63.8377,63.5997,63.3615,63.0042, 62.7655,62.5266,62.2876,61.929,61.5699, 61.2102,60.9705,60.7305,60.4901,60.3697 ,60.3412,60.3909,60.4508,60.4865, 60.4876,60.4886,60.8503,61.212,61.4528, 61.6931,61.9335,62.1739,62.4139,62.654, 62.8937,63.2532,63.6125,63.8517,64.2105 ,64.4494,64.8077,65.0463,65.4042, 65.6427,65.881,66.1192,66.3571,66.595, 66.8328,67.0704,67.308,67.5456,67.7829, 68.0201,68.3758,68.7313,68.9681,69.2049 ,69.5598,69.7963,70.0327,70.3872, 70.6234,70.8596,71.0956,71.3315,71.5673 ,71.803,72.0387,72.2742,72.3919,72.449)
FOOTPRINT_POINT_LONGITUDE = (50.9202,49.6549,47.9552,46.7911, 46.7511,46.6377,46.9333,47.2131,47.4131 ,47.5421,47.6676,47.8497,47.9671, 48.1378,48.2481,48.3554,48.4602,48.5623 ,48.662,48.807,48.9007,48.9924,49.0817, 49.1689,49.2542,49.3374,49.4587,49.5374 ,49.6518,49.726,49.8341,49.9042,49.9727 ,50.0727,50.1694,50.2322,50.2935, 50.3833,50.4414,50.4982,50.5539,50.6353 ,50.7141,50.7904,50.8401,50.8887, 50.9362,50.9595,50.965,51.7673,52.8948, 53.7033,53.7303,53.74,53.6926,53.6438, 53.6107,53.5773,53.5431,53.5083,53.4729 ,53.4367,53.4001,53.3438,53.2858, 53.2463,53.1855,53.1441,53.0803,53.0368 ,52.9697,52.9236,52.8767,52.829,52.7804 ,52.7307,52.6798,52.6282,52.5751, 52.5208,52.4655,52.4089,52.3216,52.2311 ,52.1692,52.1058,52.0078,51.9404, 51.8714,51.7645,51.691,51.6154,51.5384, 51.459,51.3778,51.2943,51.2084,51.1203, 51.0754,50.9202)
ORBIT_NUMBER = 18022
ORBITAL_ECCENTRICITY = 0.571
ORBITAL_INCLINATION = 86.98
ORBITAL_SEMIMAJOR_AXIS = 8770.67
PERIAPSIS_ALTITUDE = 381.65
PERIAPSIS_ARGUMENT_ANGLE = 114.08
PERIAPSIS_TIME = 2018-03-29T13:16:27.000Z
SPACECRAFT_ORIENTATION = (0.0,-1.0,0.0)
^MEX_ORIENTATION_DESC = "MEX_ORIENTATION_DESC.TXT"
SPACECRAFT_POINTING_MODE = INERT
^MEX_POINTING_DESC = "MEX_POINTING_DESC.TXT"
RIGHT_ASCENSION = 179.298
DECLINATION = -66.113
OFFSET_ANGLE = -1e+32
SPACECRAFT_SOLAR_DISTANCE = 2.29757e+08
TARGET_NAME = MARS
/* CAMERA DATA ELEMENTS */
DETECTOR_TEMPERATURE = 17.351
FOCAL_PLANE_TEMPERATURE = 8.7872
INST_CMPRS_NAME = "DISCRETE COSINE TRANSFORMATION (DCT)"
INST_CMPRS_RATIO = 13.6613
INST_CMPRS_QUALITY = 0
INST_CMPRS_QUANTZ_TBL_ID = 0
INSTRUMENT_TEMPERATURE = 11.8457
LENS_TEMPERATURE = 9.195
MACROPIXEL_SIZE = 2
MISSING_FRAMES = 0
PIXEL_SUBSAMPLING_FLAG = N
SIGNAL_CHAIN_ID = 3
/* RADIOMETRIC DATA ELEMENTS */
BANDWIDTH = 174.0
CENTER_FILTER_WAVELENGTH = 675.0
RADIANCE_OFFSET = 3.10408
RADIANCE_SCALING_FACTOR = 0.00951006
REFLECTANCE_SCALING_FACTOR = 0.000270027
MEX:REFLECTANCE_OFFSET = 0.088137
/* IMAGE OBJECT DEFINITIONS */
OBJECT = IMAGE
  INTERCHANGE_FORMAT = BINARY
  LINES = 28624
  LINE_SAMPLES = 6340
  SAMPLE_TYPE = UNSIGNED_INTEGER
  SAMPLE_BITS = 8
  BANDS = 1
  BAND_STORAGE_TYPE = BAND_SEQUENTIAL
  MAXIMUM = 255
  MEAN = 153.56
  MINIMUM = 1
  STANDARD_DEVIATION = 37.739
END_OBJECT = IMAGE
/* MAP OBJECT DEFINITIONS */
OBJECT = IMAGE_MAP_PROJECTION
  ^DATA_SET_MAP_PROJECTION_CATALOG= "DSMAP.CAT"
  A_AXIS_RADIUS = 3396.0
  B_AXIS_RADIUS = 3396.0
  C_AXIS_RADIUS = 3396.0
  CENTER_LATITUDE = 0.0
  CENTER_LONGITUDE = 51.0
  COORDINATE_SYSTEM_NAME = PLANETOGRAPHIC
  COORDINATE_SYSTEM_TYPE = "BODY-FIXED ROTATING"
  EASTERNMOST_LONGITUDE = 53.74
  FIRST_STANDARD_PARALLEL = "N/A"
  LINE_FIRST_PIXEL = 1
  LINE_LAST_PIXEL = 28624
  LINE_PROJECTION_OFFSET = 171713.25
  MAP_PROJECTION_ROTATION = 0.0
  MAP_PROJECTION_TYPE = SINUSOIDAL
  MAP_RESOLUTION = 2370.85521546667
  MAP_SCALE = 0.025
  MAXIMUM_LATITUDE = 72.449
  MINIMUM_LATITUDE = 60.3412
  POSITIVE_LONGITUDE_DIRECTION = EAST
  REFERENCE_LATITUDE = "N/A"
  REFERENCE_LONGITUDE = "N/A"
  SAMPLE_FIRST_PIXEL = 1
  SAMPLE_LAST_PIXEL = 6340
  SAMPLE_PROJECTION_OFFSET = 3258.75
  SECOND_STANDARD_PARALLEL = "N/A"
  WESTERNMOST_LONGITUDE = 46.6377
END_OBJECT = IMAGE_MAP_PROJECTION
END
