PDS_VERSION_ID = PDS3
/* FILE DATA ELEMENTS */
RECORD_TYPE = UNDEFINED
/* POINTERS TO DATA OBJECTS */
^IMAGE = ("HI037_0000_GR4.TIF")
/* IDENTIFICATION DATA ELEMENTS */
DATA_SET_ID = "MEX-M-HRSC-4-REFDR-MAPPROJECT-EXT6-V4.0"
DATA_SET_NAME = "MARS EXPRESS HRSC MAP PROJECTED REFDR EXTENSION6 V4.0"
DETECTOR_ID = MEX_HRSC_GREEN
EVENT_TYPE = "MARS-REGIONAL-MAPPING-Gl-Pf-Eo"
INSTRUMENT_HOST_ID = MEX
INSTRUMENT_HOST_NAME = "MARS EXPRESS"
INSTRUMENT_ID = HRSC
INSTRUMENT_NAME = "HIGH RESOLUTION STEREO CAMERA"
MISSION_NAME = "MARS EXPRESS"
MISSION_PHASE_NAME = ME_Phase_38
PROCESSING_LEVEL_ID = 4
PRODUCT_CREATION_TIME = 2023-01-29T08:20:11.000Z
PRODUCT_ID = "HI037_0000_GR4.TIF"
RELEASE_ID = 0004
REVISION_ID = 0000
/* QUALITY DATA ELEMENTS */
DATA_QUALITY_ID = 1
DATA_QUALITY_DESC = "Data calculated based on original SPICE kernels"
/* TIME DATA ELEMENTS */
SPACECRAFT_CLOCK_START_COUNT = "1/0470786358.09067"
SPACECRAFT_CLOCK_STOP_COUNT = "1/0470786574.59104"
START_TIME = 2018-04-02T21:59:57.630Z
STOP_TIME = 2018-04-02T22:02:20.584Z
/* ORBITAL DATA ELEMENTS */
ASCENDING_NODE_LONGITUDE = 235.55
MAXIMUM_RESOLUTION = 0.0619
FOOTPRINT_POINT_LATITUDE = (72.1277,72.0872,72.0535,71.9893, 71.9364,71.9342,71.9035,71.4576,71.1897 ,70.8322,70.4742,70.1158,69.9364,69.757 ,69.5775,69.398,69.2183,69.0385,68.8587 ,68.6788,68.4988,68.3188,68.0486, 67.8684,67.6881,67.5078,67.3275,67.147, 66.8763,66.6055,66.3346,66.0636,65.8828 ,65.7022,65.431,65.2501,65.0693,64.798, 64.6171,64.4362,64.1648,63.8934,63.7124 ,63.5314,63.3504,63.1694,62.9884, 62.8979,62.8436,62.8705,62.9046,62.933, 62.9607,62.9615,62.9628,63.236,63.4182, 63.6004,63.8737,64.147,64.3292,64.6025, 64.8758,65.0581,65.3314,65.5136,65.7869 ,66.0602,66.2423,66.4245,66.6977, 66.8798,67.153,67.3351,67.5171,67.6992, 67.8812,68.1541,68.3361,68.518,68.6999, 68.8817,69.0635,69.2453,69.427,69.6087, 69.8812,70.0628,70.2443,70.4258,70.6072 ,70.7886,70.9699,71.1511,71.4229,71.604 ,71.7851,71.9661,72.0565,72.1277)
FOOTPRINT_POINT_LONGITUDE = (319.212,318.168,317.397,316.097, 315.144,315.106,314.98,315.25,315.405, 315.605,315.797,315.98,316.069,316.157, 316.243,316.327,316.409,316.49,316.569, 316.646,316.722,316.797,316.906,316.977 ,317.047,317.115,317.182,317.248, 317.345,317.439,317.53,317.619,317.677, 317.734,317.817,317.871,317.925,318.003 ,318.054,318.104,318.178,318.249, 318.296,318.342,318.387,318.431,318.475 ,318.496,318.509,319.062,319.84,320.592 ,321.458,321.486,321.495,321.454, 321.426,321.398,321.355,321.311,321.281 ,321.235,321.188,321.156,321.107, 321.074,321.023,320.971,320.935,320.899 ,320.844,320.806,320.748,320.709, 320.668,320.627,320.586,320.522,320.478 ,320.434,320.389,320.343,320.296, 320.248,320.199,320.15,320.074,320.021, 319.968,319.914,319.859,319.803,319.745 ,319.687,319.597,319.535,319.472, 319.408,319.375,319.212)
ORBIT_NUMBER = 18037
ORBITAL_ECCENTRICITY = 0.571
ORBITAL_INCLINATION = 86.99
ORBITAL_SEMIMAJOR_AXIS = 8763.34
PERIAPSIS_ALTITUDE = 382.85
PERIAPSIS_ARGUMENT_ANGLE = 111.5
PERIAPSIS_TIME = 2018-04-02T22:01:02.000Z
SPACECRAFT_ORIENTATION = (0.0,-1.0,0.0)
^MEX_ORIENTATION_DESC = "MEX_ORIENTATION_DESC.TXT"
SPACECRAFT_POINTING_MODE = NADIR
^MEX_POINTING_DESC = "MEX_POINTING_DESC.TXT"
RIGHT_ASCENSION = -1e+32
DECLINATION = -1e+32
OFFSET_ANGLE = -1e+32
SPACECRAFT_SOLAR_DISTANCE = 2.28915e+08
TARGET_NAME = MARS
/* CAMERA DATA ELEMENTS */
DETECTOR_TEMPERATURE = 18.3705
FOCAL_PLANE_TEMPERATURE = 8.7872
INST_CMPRS_NAME = "DISCRETE COSINE TRANSFORMATION (DCT)"
INST_CMPRS_RATIO = 14.2927
INST_CMPRS_QUALITY = 0
INST_CMPRS_QUANTZ_TBL_ID = 0
INSTRUMENT_TEMPERATURE = 9.8067
LENS_TEMPERATURE = 9.6028
MACROPIXEL_SIZE = 4
MISSING_FRAMES = 0
PIXEL_SUBSAMPLING_FLAG = N
SIGNAL_CHAIN_ID = 2
/* RADIOMETRIC DATA ELEMENTS */
BANDWIDTH = 88.0
CENTER_FILTER_WAVELENGTH = 538.0
RADIANCE_OFFSET = 0.843898
RADIANCE_SCALING_FACTOR = 0.00882507
REFLECTANCE_SCALING_FACTOR = 0.00039816
MEX:REFLECTANCE_OFFSET = 0.0380741
/* IMAGE OBJECT DEFINITIONS */
OBJECT = IMAGE
  INTERCHANGE_FORMAT = BINARY
  LINES = 10991
  LINE_SAMPLES = 2835
  SAMPLE_TYPE = UNSIGNED_INTEGER
  SAMPLE_BITS = 8
  BANDS = 1
  BAND_STORAGE_TYPE = BAND_SEQUENTIAL
  MAXIMUM = 255
  MEAN = 78.0571
  MINIMUM = 1
  STANDARD_DEVIATION = 31.2015
END_OBJECT = IMAGE
/* MAP OBJECT DEFINITIONS */
OBJECT = IMAGE_MAP_PROJECTION
  ^DATA_SET_MAP_PROJECTION_CATALOG= "DSMAP.CAT"
  A_AXIS_RADIUS = 3396.0
  B_AXIS_RADIUS = 3396.0
  C_AXIS_RADIUS = 3396.0
  CENTER_LATITUDE = 0.0
  CENTER_LONGITUDE = 319.0
  COORDINATE_SYSTEM_NAME = PLANETOGRAPHIC
  COORDINATE_SYSTEM_TYPE = "BODY-FIXED ROTATING"
  EASTERNMOST_LONGITUDE = 321.495
  FIRST_STANDARD_PARALLEL = "N/A"
  LINE_FIRST_PIXEL = 1
  LINE_LAST_PIXEL = 10991
  LINE_PROJECTION_OFFSET = 85501.625
  MAP_PROJECTION_ROTATION = 0.0
  MAP_PROJECTION_TYPE = SINUSOIDAL
  MAP_RESOLUTION = 1185.42760773333
  MAP_SCALE = 0.05
  MAXIMUM_LATITUDE = 72.1277
  MINIMUM_LATITUDE = 62.8436
  POSITIVE_LONGITUDE_DIRECTION = EAST
  REFERENCE_LATITUDE = "N/A"
  REFERENCE_LONGITUDE = "N/A"
  SAMPLE_FIRST_PIXEL = 1
  SAMPLE_LAST_PIXEL = 2835
  SAMPLE_PROJECTION_OFFSET = 1489.625
  SECOND_STANDARD_PARALLEL = "N/A"
  WESTERNMOST_LONGITUDE = 314.98
END_OBJECT = IMAGE_MAP_PROJECTION
END
