PDS_VERSION_ID = PDS3
/* FILE DATA ELEMENTS */
RECORD_TYPE = UNDEFINED
/* POINTERS TO DATA OBJECTS */
^IMAGE = ("HI040_0000_IR4.TIF")
/* IDENTIFICATION DATA ELEMENTS */
DATA_SET_ID = "MEX-M-HRSC-4-REFDR-MAPPROJECT-EXT6-V4.0"
DATA_SET_NAME = "MARS EXPRESS HRSC MAP PROJECTED REFDR EXTENSION6 V4.0"
DETECTOR_ID = MEX_HRSC_IR
EVENT_TYPE = "MARS-REGIONAL-MAPPING-Im-Pf"
INSTRUMENT_HOST_ID = MEX
INSTRUMENT_HOST_NAME = "MARS EXPRESS"
INSTRUMENT_ID = HRSC
INSTRUMENT_NAME = "HIGH RESOLUTION STEREO CAMERA"
MISSION_NAME = "MARS EXPRESS"
MISSION_PHASE_NAME = ME_Phase_38
PROCESSING_LEVEL_ID = 4
PRODUCT_CREATION_TIME = 2023-01-29T08:20:11.000Z
PRODUCT_ID = "HI040_0000_IR4.TIF"
RELEASE_ID = 0004
REVISION_ID = 0000
/* QUALITY DATA ELEMENTS */
DATA_QUALITY_ID = 1
DATA_QUALITY_DESC = "Data calculated based on original SPICE kernels"
/* TIME DATA ELEMENTS */
SPACECRAFT_CLOCK_START_COUNT = "1/0470861930.09082"
SPACECRAFT_CLOCK_STOP_COUNT = "1/0470862175.64323"
START_TIME = 2018-04-03T18:59:05.889Z
STOP_TIME = 2018-04-03T19:01:46.984Z
/* ORBITAL DATA ELEMENTS */
ASCENDING_NODE_LONGITUDE = 235.49
MAXIMUM_RESOLUTION = 0.0651
FOOTPRINT_POINT_LATITUDE = (62.5382,62.504,62.4637,62.4254,62.424, 62.3203,61.9111,61.3992,61.1943,60.9892 ,60.5798,60.3745,60.1693,59.9641, 59.5539,59.2461,59.0408,58.8355,58.5277 ,58.322,58.1168,57.9113,57.7059,57.2953 ,57.0898,56.8842,56.6788,56.4733, 56.1651,55.9596,55.7541,55.5485,55.1378 ,54.8296,54.6241,54.3161,54.1071, 53.8964,53.6852,53.4742,53.2632,53.0526 ,52.8417,52.631,52.4205,52.0979,51.9899 ,51.9537,51.9758,51.9905,52.0073, 52.0162,52.0284,52.0288,52.0301,52.2467 ,52.4624,52.6737,52.885,53.2025,53.414, 53.6255,53.8369,54.0486,54.2606,54.4691 ,54.7779,54.9843,55.1902,55.3964, 55.7058,55.9121,56.118,56.4271,56.6343, 56.8408,57.1501,57.3563,57.5629,57.8724 ,58.0788,58.285,58.4914,58.801,59.0073, 59.3168,59.5232,59.8322,60.0383,60.2446 ,60.5536,60.7598,60.9658,61.1718, 61.4808,61.6868,61.9956,62.3043,62.4072 ,62.5382)
FOOTPRINT_POINT_LONGITUDE = (15.0928,14.0746,13.1115,12.332,12.3061 ,12.246,12.3366,12.4452,12.4871,12.5283 ,12.6087,12.6474,12.6856,12.7231, 12.7961,12.849,12.8834,12.9173,12.9669, 12.999,13.0307,13.0617,13.0922,13.1516, 13.1804,13.2086,13.2364,13.2636,13.3034 ,13.3293,13.3547,13.3796,13.4282, 13.4634,13.4862,13.5197,13.5419,13.5639 ,13.5853,13.6063,13.6268,13.6471, 13.6668,13.6862,13.7053,13.7334,13.7427 ,13.7459,14.2899,14.6989,15.2449, 15.5863,16.1556,16.1784,16.1859,16.1721 ,16.1581,16.1442,16.13,16.1081,16.0933, 16.0784,16.0633,16.0478,16.0318,16.0158 ,15.9924,15.9762,15.96,15.9434,15.918, 15.9007,15.8835,15.857,15.8381,15.8194, 15.7913,15.7722,15.7524,15.7226,15.7022 ,15.6817,15.6607,15.6285,15.6066, 15.5732,15.5504,15.5159,15.4923,15.4682 ,15.4316,15.4065,15.3812,15.3553, 15.3157,15.2887,15.2474,15.2051,15.1907 ,15.0928)
ORBIT_NUMBER = 18040
ORBITAL_ECCENTRICITY = 0.571
ORBITAL_INCLINATION = 86.97
ORBITAL_SEMIMAJOR_AXIS = 8765.36
PERIAPSIS_ALTITUDE = 383.43
PERIAPSIS_ARGUMENT_ANGLE = 110.96
PERIAPSIS_TIME = 2018-04-03T18:57:54.000Z
SPACECRAFT_ORIENTATION = (0.0,-1.0,0.0)
^MEX_ORIENTATION_DESC = "MEX_ORIENTATION_DESC.TXT"
SPACECRAFT_POINTING_MODE = NADIR
^MEX_POINTING_DESC = "MEX_POINTING_DESC.TXT"
RIGHT_ASCENSION = -1e+32
DECLINATION = -1e+32
OFFSET_ANGLE = -1e+32
SPACECRAFT_SOLAR_DISTANCE = 2.28746e+08
TARGET_NAME = MARS
/* CAMERA DATA ELEMENTS */
DETECTOR_TEMPERATURE = 17.1471
FOCAL_PLANE_TEMPERATURE = 8.1755
INST_CMPRS_NAME = "DISCRETE COSINE TRANSFORMATION (DCT)"
INST_CMPRS_RATIO = 20.728
INST_CMPRS_QUALITY = 0
INST_CMPRS_QUANTZ_TBL_ID = 0
INSTRUMENT_TEMPERATURE = 11.4379
LENS_TEMPERATURE = 8.7872
MACROPIXEL_SIZE = 4
MISSING_FRAMES = 0
PIXEL_SUBSAMPLING_FLAG = N
SIGNAL_CHAIN_ID = 2
/* RADIOMETRIC DATA ELEMENTS */
BANDWIDTH = 81.0
CENTER_FILTER_WAVELENGTH = 955.5
RADIANCE_OFFSET = 0.521864
RADIANCE_SCALING_FACTOR = 0.00700542
REFLECTANCE_SCALING_FACTOR = 0.000790802
MEX:REFLECTANCE_OFFSET = 0.0589103
/* IMAGE OBJECT DEFINITIONS */
OBJECT = IMAGE
  INTERCHANGE_FORMAT = BINARY
  LINES = 12441
  LINE_SAMPLES = 2599
  SAMPLE_TYPE = UNSIGNED_INTEGER
  SAMPLE_BITS = 8
  BANDS = 1
  BAND_STORAGE_TYPE = BAND_SEQUENTIAL
  MAXIMUM = 255
  MEAN = 125.242
  MINIMUM = 1
  STANDARD_DEVIATION = 34.683
END_OBJECT = IMAGE
/* MAP OBJECT DEFINITIONS */
OBJECT = IMAGE_MAP_PROJECTION
  ^DATA_SET_MAP_PROJECTION_CATALOG= "DSMAP.CAT"
  A_AXIS_RADIUS = 3396.0
  B_AXIS_RADIUS = 3396.0
  C_AXIS_RADIUS = 3396.0
  CENTER_LATITUDE = 0.0
  CENTER_LONGITUDE = 14.0
  COORDINATE_SYSTEM_NAME = PLANETOGRAPHIC
  COORDINATE_SYSTEM_TYPE = "BODY-FIXED ROTATING"
  EASTERNMOST_LONGITUDE = 16.1859
  FIRST_STANDARD_PARALLEL = "N/A"
  LINE_FIRST_PIXEL = 1
  LINE_LAST_PIXEL = 12441
  LINE_PROJECTION_OFFSET = 74057.875
  MAP_PROJECTION_ROTATION = 0.0
  MAP_PROJECTION_TYPE = SINUSOIDAL
  MAP_RESOLUTION = 1185.42760773333
  MAP_SCALE = 0.05
  MAXIMUM_LATITUDE = 62.5382
  MINIMUM_LATITUDE = 51.9537
  POSITIVE_LONGITUDE_DIRECTION = EAST
  REFERENCE_LATITUDE = "N/A"
  REFERENCE_LONGITUDE = "N/A"
  SAMPLE_FIRST_PIXEL = 1
  SAMPLE_LAST_PIXEL = 2599
  SAMPLE_PROJECTION_OFFSET = 985.125
  SECOND_STANDARD_PARALLEL = "N/A"
  WESTERNMOST_LONGITUDE = 12.246
END_OBJECT = IMAGE_MAP_PROJECTION
END
