PDS_VERSION_ID = PDS3
/* FILE DATA ELEMENTS */
RECORD_TYPE = UNDEFINED
/* POINTERS TO DATA OBJECTS */
^IMAGE = ("HI042_0000_BL4.TIF")
/* IDENTIFICATION DATA ELEMENTS */
DATA_SET_ID = "MEX-M-HRSC-4-REFDR-MAPPROJECT-EXT6-V4.0"
DATA_SET_NAME = "MARS EXPRESS HRSC MAP PROJECTED REFDR EXTENSION6 V4.0"
DETECTOR_ID = MEX_HRSC_BLUE
EVENT_TYPE = "MARS-REGIONAL-MAPPING-Im-Gl-Pf"
INSTRUMENT_HOST_ID = MEX
INSTRUMENT_HOST_NAME = "MARS EXPRESS"
INSTRUMENT_ID = HRSC
INSTRUMENT_NAME = "HIGH RESOLUTION STEREO CAMERA"
MISSION_NAME = "MARS EXPRESS"
MISSION_PHASE_NAME = ME_Phase_38
PROCESSING_LEVEL_ID = 4
PRODUCT_CREATION_TIME = 2023-01-29T08:20:11.000Z
PRODUCT_ID = "HI042_0000_BL4.TIF"
RELEASE_ID = 0004
REVISION_ID = 0000
/* QUALITY DATA ELEMENTS */
DATA_QUALITY_ID = 1
DATA_QUALITY_DESC = "Data calculated based on original SPICE kernels"
/* TIME DATA ELEMENTS */
SPACECRAFT_CLOCK_START_COUNT = "1/0470912002.09039"
SPACECRAFT_CLOCK_STOP_COUNT = "1/0470912247.55144"
START_TIME = 2018-04-04T08:54:09.361Z
STOP_TIME = 2018-04-04T08:57:10.078Z
/* ORBITAL DATA ELEMENTS */
ASCENDING_NODE_LONGITUDE = 235.45
MAXIMUM_RESOLUTION = 0.0618
FOOTPRINT_POINT_LATITUDE = (76.7989,76.7295,76.6386,76.5283, 76.5252,76.5666,76.317,75.9422,75.6919, 75.3162,75.0654,74.8143,74.5629,74.1854 ,73.9338,73.6817,73.1781,72.9251, 72.6726,72.4201,72.0409,71.7871,71.534, 71.1541,70.9007,70.6471,70.3935,70.0128 ,69.7589,69.5049,69.2509,68.9967, 68.7424,68.4881,68.2336,67.7245,67.3424 ,66.8327,66.3227,65.94,65.6847,65.3017, 64.9184,64.6628,64.4071,64.0234,63.8955 ,63.8438,63.9065,63.9529,63.9787, 63.9796,63.9811,64.2383,64.4954,64.7526 ,65.0096,65.2667,65.5237,65.7806, 66.0375,66.2944,66.5513,66.8081,67.0649 ,67.3216,67.5783,67.835,68.0917,68.3484 ,68.605,68.8616,69.1183,69.5031,69.7597 ,70.0162,70.2727,70.5292,70.9139, 71.1704,71.4268,71.6833,72.068,72.3243, 72.5807,72.8366,73.2217,73.6064,73.8627 ,74.1192,74.5038,74.7602,75.0166, 75.2729,75.6571,76.0413,76.2974,76.6813 ,76.8096,76.7989)
FOOTPRINT_POINT_LONGITUDE = (166.083,164.394,162.515,160.559, 160.508,160.258,160.555,160.979,161.249 ,161.634,161.88,162.117,162.346,162.676 ,162.884,163.088,163.468,163.655, 163.832,164.002,164.249,164.414,164.568 ,164.789,164.932,165.071,165.206,165.4, 165.526,165.647,165.766,165.881,165.993 ,166.102,166.208,166.412,166.558, 166.743,166.92,167.046,167.128,167.247, 167.361,167.435,167.507,167.612,167.646 ,167.66,168.89,169.984,170.707,170.736, 170.745,170.701,170.656,170.61,170.563, 170.515,170.465,170.415,170.363,170.311 ,170.257,170.202,170.145,170.088, 170.029,169.968,169.906,169.842,169.777 ,169.711,169.642,169.536,169.462, 169.387,169.309,169.23,169.106,169.021, 168.933,168.843,168.702,168.605,168.504 ,168.399,168.24,168.071,167.954,167.833 ,167.644,167.512,167.376,167.234, 167.011,166.776,166.612,166.352,166.263 ,166.083)
ORBIT_NUMBER = 18042
ORBITAL_ECCENTRICITY = 0.571
ORBITAL_INCLINATION = 86.98
ORBITAL_SEMIMAJOR_AXIS = 8763.12
PERIAPSIS_ALTITUDE = 383.8
PERIAPSIS_ARGUMENT_ANGLE = 110.64
PERIAPSIS_TIME = 2018-04-04T08:55:55.000Z
SPACECRAFT_ORIENTATION = (0.0,-1.0,0.0)
^MEX_ORIENTATION_DESC = "MEX_ORIENTATION_DESC.TXT"
SPACECRAFT_POINTING_MODE = INERT
^MEX_POINTING_DESC = "MEX_POINTING_DESC.TXT"
RIGHT_ASCENSION = 171.77
DECLINATION = -64.609
OFFSET_ANGLE = -1e+32
SPACECRAFT_SOLAR_DISTANCE = 2.28633e+08
TARGET_NAME = MARS
/* CAMERA DATA ELEMENTS */
DETECTOR_TEMPERATURE = 18.3705
FOCAL_PLANE_TEMPERATURE = 8.3794
INST_CMPRS_NAME = "DISCRETE COSINE TRANSFORMATION (DCT)"
INST_CMPRS_RATIO = 12.5014
INST_CMPRS_QUALITY = 0
INST_CMPRS_QUANTZ_TBL_ID = 0
INSTRUMENT_TEMPERATURE = 11.6418
LENS_TEMPERATURE = 8.5833
MACROPIXEL_SIZE = 4
MISSING_FRAMES = 0
PIXEL_SUBSAMPLING_FLAG = N
SIGNAL_CHAIN_ID = 2
/* RADIOMETRIC DATA ELEMENTS */
BANDWIDTH = 76.0
CENTER_FILTER_WAVELENGTH = 444.0
RADIANCE_OFFSET = 0.504896
RADIANCE_SCALING_FACTOR = 0.00932792
REFLECTANCE_SCALING_FACTOR = 0.000500979
MEX:REFLECTANCE_OFFSET = 0.0271167
/* IMAGE OBJECT DEFINITIONS */
OBJECT = IMAGE
  INTERCHANGE_FORMAT = BINARY
  LINES = 15444
  LINE_SAMPLES = 3826
  SAMPLE_TYPE = UNSIGNED_INTEGER
  SAMPLE_BITS = 8
  BANDS = 1
  BAND_STORAGE_TYPE = BAND_SEQUENTIAL
  MAXIMUM = 255
  MEAN = 41.7933
  MINIMUM = 1
  STANDARD_DEVIATION = 60.8055
END_OBJECT = IMAGE
/* MAP OBJECT DEFINITIONS */
OBJECT = IMAGE_MAP_PROJECTION
  ^DATA_SET_MAP_PROJECTION_CATALOG= "DSMAP.CAT"
  A_AXIS_RADIUS = 3396.0
  B_AXIS_RADIUS = 3396.0
  C_AXIS_RADIUS = 3396.0
  CENTER_LATITUDE = 0.0
  CENTER_LONGITUDE = 167.0
  COORDINATE_SYSTEM_NAME = PLANETOGRAPHIC
  COORDINATE_SYSTEM_TYPE = "BODY-FIXED ROTATING"
  EASTERNMOST_LONGITUDE = 170.745
  FIRST_STANDARD_PARALLEL = "N/A"
  LINE_FIRST_PIXEL = 1
  LINE_LAST_PIXEL = 15444
  LINE_PROJECTION_OFFSET = 91121.625
  MAP_PROJECTION_ROTATION = 0.0
  MAP_PROJECTION_TYPE = SINUSOIDAL
  MAP_RESOLUTION = 1185.42760773333
  MAP_SCALE = 0.05
  MAXIMUM_LATITUDE = 76.8096
  MINIMUM_LATITUDE = 63.8438
  POSITIVE_LONGITUDE_DIRECTION = EAST
  REFERENCE_LATITUDE = "N/A"
  REFERENCE_LONGITUDE = "N/A"
  SAMPLE_FIRST_PIXEL = 1
  SAMPLE_LAST_PIXEL = 3826
  SAMPLE_PROJECTION_OFFSET = 1870.125
  SECOND_STANDARD_PARALLEL = "N/A"
  WESTERNMOST_LONGITUDE = 160.258
END_OBJECT = IMAGE_MAP_PROJECTION
END
