PDS_VERSION_ID = PDS3
/* FILE DATA ELEMENTS */
RECORD_TYPE = UNDEFINED
/* POINTERS TO DATA OBJECTS */
^IMAGE = ("HI046_0000_GR4.TIF")
/* IDENTIFICATION DATA ELEMENTS */
DATA_SET_ID = "MEX-M-HRSC-4-REFDR-MAPPROJECT-EXT6-V4.0"
DATA_SET_NAME = "MARS EXPRESS HRSC MAP PROJECTED REFDR EXTENSION6 V4.0"
DETECTOR_ID = MEX_HRSC_GREEN
EVENT_TYPE = "MARS-REGIONAL-MAPPING-Pf-Eo"
INSTRUMENT_HOST_ID = MEX
INSTRUMENT_HOST_NAME = "MARS EXPRESS"
INSTRUMENT_ID = HRSC
INSTRUMENT_NAME = "HIGH RESOLUTION STEREO CAMERA"
MISSION_NAME = "MARS EXPRESS"
MISSION_PHASE_NAME = ME_Phase_38
PROCESSING_LEVEL_ID = 4
PRODUCT_CREATION_TIME = 2023-01-29T08:20:11.000Z
PRODUCT_ID = "HI046_0000_GR4.TIF"
RELEASE_ID = 0004
REVISION_ID = 0000
/* QUALITY DATA ELEMENTS */
DATA_QUALITY_ID = 1
DATA_QUALITY_DESC = "Data calculated based on original SPICE kernels"
/* TIME DATA ELEMENTS */
SPACECRAFT_CLOCK_START_COUNT = "1/0471012778.09042"
SPACECRAFT_CLOCK_STOP_COUNT = "1/0471013086.34040"
START_TIME = 2018-04-05T12:53:37.025Z
STOP_TIME = 2018-04-05T12:57:17.480Z
/* ORBITAL DATA ELEMENTS */
ASCENDING_NODE_LONGITUDE = 235.38
MAXIMUM_RESOLUTION = 0.0632
FOOTPRINT_POINT_LATITUDE = (62.4496,62.4267,62.3981,62.3343,62.333 ,62.3085,62.0437,61.7789,61.5141, 61.2494,60.7202,60.1912,59.6625,59.1342 ,58.6063,58.0787,57.5516,57.0251, 56.7558,56.4857,56.2158,55.946,55.6765, 55.4071,55.1379,54.8624,54.5864,54.3107 ,54.0351,53.7598,53.4847,53.203,52.9213 ,52.6398,52.3586,52.0776,51.6474, 51.3601,51.073,50.7862,50.3486,50.0556, 49.7629,49.4706,49.0229,48.7244,48.5753 ,48.4692,48.4885,48.511,48.523,48.5331, 48.5334,48.5347,48.8338,49.1334,49.5817 ,49.8751,50.1688,50.4629,50.7573,51.045 ,51.3329,51.6211,51.9096,52.1961, 52.4781,52.7604,53.0429,53.3258,53.6075 ,53.8837,54.1601,54.4368,54.7137, 54.9907,55.2663,55.5366,55.8072,56.2133 ,56.4842,56.7553,57.1604,57.6893, 58.2188,58.7489,59.2794,59.5449,59.8104 ,60.0761,60.3419,60.6078,60.8738, 61.1398,61.406,61.6722,61.9386,62.205, 62.3381,62.4496)
FOOTPRINT_POINT_LONGITUDE = (122.14,121.458,120.723,119.358,119.332 ,119.242,119.302,119.361,119.418, 119.474,119.582,119.685,119.782,119.875 ,119.964,120.048,120.127,120.204, 120.241,120.278,120.313,120.348,120.382 ,120.415,120.447,120.479,120.51,120.541 ,120.57,120.599,120.627,120.655,120.682 ,120.709,120.734,120.759,120.796,120.82 ,120.843,120.865,120.898,120.919,120.94 ,120.96,120.989,121.007,121.016,121.022 ,121.581,122.372,122.908,123.489, 123.512,123.52,123.503,123.486,123.459, 123.441,123.423,123.405,123.386,123.367 ,123.348,123.328,123.308,123.288, 123.268,123.247,123.226,123.204,123.182 ,123.16,123.138,123.115,123.092,123.068 ,123.044,123.02,122.995,122.957,122.931 ,122.905,122.864,122.81,122.753,122.693 ,122.632,122.6,122.567,122.534,122.5, 122.465,122.43,122.394,122.357,122.319, 122.28,122.24,122.221,122.14)
ORBIT_NUMBER = 18046
ORBITAL_ECCENTRICITY = 0.571
ORBITAL_INCLINATION = 86.98
ORBITAL_SEMIMAJOR_AXIS = 8765.12
PERIAPSIS_ALTITUDE = 383.34
PERIAPSIS_ARGUMENT_ANGLE = 109.93
PERIAPSIS_TIME = 2018-04-05T12:51:46.000Z
SPACECRAFT_ORIENTATION = (0.0,-1.0,0.0)
^MEX_ORIENTATION_DESC = "MEX_ORIENTATION_DESC.TXT"
SPACECRAFT_POINTING_MODE = ACROSSTRACK
^MEX_POINTING_DESC = "MEX_POINTING_DESC.TXT"
RIGHT_ASCENSION = -1e+32
DECLINATION = -1e+32
OFFSET_ANGLE = -0.11
SPACECRAFT_SOLAR_DISTANCE = 2.28407e+08
TARGET_NAME = MARS
/* CAMERA DATA ELEMENTS */
DETECTOR_TEMPERATURE = 18.5744
FOCAL_PLANE_TEMPERATURE = 8.7872
INST_CMPRS_NAME = "DISCRETE COSINE TRANSFORMATION (DCT)"
INST_CMPRS_RATIO = 15.2291
INST_CMPRS_QUALITY = 0
INST_CMPRS_QUANTZ_TBL_ID = 0
INSTRUMENT_TEMPERATURE = 11.234
LENS_TEMPERATURE = 10.2145
MACROPIXEL_SIZE = 4
MISSING_FRAMES = 0
PIXEL_SUBSAMPLING_FLAG = N
SIGNAL_CHAIN_ID = 2
/* RADIOMETRIC DATA ELEMENTS */
BANDWIDTH = 88.0
CENTER_FILTER_WAVELENGTH = 538.0
RADIANCE_OFFSET = 1.36529
RADIANCE_SCALING_FACTOR = 0.00282413
REFLECTANCE_SCALING_FACTOR = 0.00012685
MEX:REFLECTANCE_OFFSET = 0.0613243
/* IMAGE OBJECT DEFINITIONS */
OBJECT = IMAGE
  INTERCHANGE_FORMAT = BINARY
  LINES = 16552
  LINE_SAMPLES = 2733
  SAMPLE_TYPE = UNSIGNED_INTEGER
  SAMPLE_BITS = 8
  BANDS = 1
  BAND_STORAGE_TYPE = BAND_SEQUENTIAL
  MAXIMUM = 255
  MEAN = 108.924
  MINIMUM = 1
  STANDARD_DEVIATION = 32.2847
END_OBJECT = IMAGE
/* MAP OBJECT DEFINITIONS */
OBJECT = IMAGE_MAP_PROJECTION
  ^DATA_SET_MAP_PROJECTION_CATALOG= "DSMAP.CAT"
  A_AXIS_RADIUS = 3396.0
  B_AXIS_RADIUS = 3396.0
  C_AXIS_RADIUS = 3396.0
  CENTER_LATITUDE = 0.0
  CENTER_LONGITUDE = 122.0
  COORDINATE_SYSTEM_NAME = PLANETOGRAPHIC
  COORDINATE_SYSTEM_TYPE = "BODY-FIXED ROTATING"
  EASTERNMOST_LONGITUDE = 123.52
  FIRST_STANDARD_PARALLEL = "N/A"
  LINE_FIRST_PIXEL = 1
  LINE_LAST_PIXEL = 16552
  LINE_PROJECTION_OFFSET = 74016.125
  MAP_PROJECTION_ROTATION = 0.0
  MAP_PROJECTION_TYPE = SINUSOIDAL
  MAP_RESOLUTION = 1185.42760773333
  MAP_SCALE = 0.05
  MAXIMUM_LATITUDE = 62.4496
  MINIMUM_LATITUDE = 48.4692
  POSITIVE_LONGITUDE_DIRECTION = EAST
  REFERENCE_LATITUDE = "N/A"
  REFERENCE_LONGITUDE = "N/A"
  SAMPLE_FIRST_PIXEL = 1
  SAMPLE_LAST_PIXEL = 2733
  SAMPLE_PROJECTION_OFFSET = 1530.875
  SECOND_STANDARD_PARALLEL = "N/A"
  WESTERNMOST_LONGITUDE = 119.242
END_OBJECT = IMAGE_MAP_PROJECTION
END
