PDS_VERSION_ID = PDS3
/* FILE DATA ELEMENTS */
RECORD_TYPE = UNDEFINED
/* POINTERS TO DATA OBJECTS */
^IMAGE = ("HI046_0000_P14.TIF")
/* IDENTIFICATION DATA ELEMENTS */
DATA_SET_ID = "MEX-M-HRSC-4-REFDR-MAPPROJECT-EXT6-V4.0"
DATA_SET_NAME = "MARS EXPRESS HRSC MAP PROJECTED REFDR EXTENSION6 V4.0"
DETECTOR_ID = MEX_HRSC_P1
EVENT_TYPE = "MARS-REGIONAL-MAPPING-Pf-Eo"
INSTRUMENT_HOST_ID = MEX
INSTRUMENT_HOST_NAME = "MARS EXPRESS"
INSTRUMENT_ID = HRSC
INSTRUMENT_NAME = "HIGH RESOLUTION STEREO CAMERA"
MISSION_NAME = "MARS EXPRESS"
MISSION_PHASE_NAME = ME_Phase_38
PROCESSING_LEVEL_ID = 4
PRODUCT_CREATION_TIME = 2023-01-29T08:20:11.000Z
PRODUCT_ID = "HI046_0000_P14.TIF"
RELEASE_ID = 0004
REVISION_ID = 0000
/* QUALITY DATA ELEMENTS */
DATA_QUALITY_ID = 1
DATA_QUALITY_DESC = "Data calculated based on original SPICE kernels"
/* TIME DATA ELEMENTS */
SPACECRAFT_CLOCK_START_COUNT = "1/0471012778.09042"
SPACECRAFT_CLOCK_STOP_COUNT = "1/0471013086.34040"
START_TIME = 2018-04-05T12:53:19.726Z
STOP_TIME = 2018-04-05T12:56:56.338Z
/* ORBITAL DATA ELEMENTS */
ASCENDING_NODE_LONGITUDE = 235.38
MAXIMUM_RESOLUTION = 0.0322
FOOTPRINT_POINT_LATITUDE = (62.4996,62.4434,62.411,62.3764,62.3748 ,62.2928,62.0261,61.7592,61.4921, 61.2249,60.958,60.6907,60.4234,60.1562, 59.7554,59.488,59.2208,58.8201,58.419, 58.1516,57.8843,57.4834,56.9491,56.281, 55.8802,55.6082,55.334,55.0598,54.7859, 54.5119,54.2379,53.9641,53.5446,53.264, 52.8432,52.5628,52.2825,51.9966,51.7094 ,51.4224,51.1353,50.8484,50.5571, 50.2635,49.9702,49.677,49.2341,48.9342, 48.6345,48.4847,48.4496,48.4739,48.4985 ,48.5223,48.5227,48.5234,48.8239,49.125 ,49.5736,49.8675,50.3093,50.604,50.8969 ,51.3283,51.616,51.9042,52.3362,52.758, 53.0394,53.3211,53.6029,54.0247,54.2997 ,54.5748,54.8499,55.2622,55.5375, 55.9497,56.4855,56.7538,57.1562,57.4245 ,57.693,57.9615,58.23,58.4985,58.7672, 59.1701,59.4388,59.8418,60.2448,60.5135 ,60.7821,61.0508,61.4538,61.7226, 61.9913,62.2598,62.3939,62.4996)
FOOTPRINT_POINT_LONGITUDE = (122.129,120.686,120.005,119.351, 119.324,119.245,119.306,119.366,119.424 ,119.481,119.537,119.591,119.643, 119.695,119.77,119.818,119.865,119.934, 120.0,120.043,120.084,120.145,120.223, 120.314,120.366,120.401,120.434,120.467 ,120.499,120.53,120.561,120.59,120.634, 120.663,120.704,120.73,120.756,120.782, 120.807,120.831,120.855,120.877,120.9, 120.922,120.943,120.964,120.994,121.014 ,121.033,121.042,121.044,121.662, 122.422,123.466,123.49,123.499,123.482, 123.465,123.439,123.422,123.395,123.376 ,123.358,123.33,123.311,123.291,123.261 ,123.231,123.21,123.189,123.167,123.134 ,123.112,123.089,123.066,123.031, 123.007,122.969,122.92,122.894,122.854, 122.827,122.799,122.771,122.742,122.713 ,122.683,122.637,122.605,122.556, 122.506,122.472,122.437,122.401,122.346 ,122.307,122.269,122.229,122.209, 122.129)
ORBIT_NUMBER = 18046
ORBITAL_ECCENTRICITY = 0.571
ORBITAL_INCLINATION = 86.98
ORBITAL_SEMIMAJOR_AXIS = 8765.12
PERIAPSIS_ALTITUDE = 383.34
PERIAPSIS_ARGUMENT_ANGLE = 109.93
PERIAPSIS_TIME = 2018-04-05T12:51:46.000Z
SPACECRAFT_ORIENTATION = (0.0,-1.0,0.0)
^MEX_ORIENTATION_DESC = "MEX_ORIENTATION_DESC.TXT"
SPACECRAFT_POINTING_MODE = ACROSSTRACK
^MEX_POINTING_DESC = "MEX_POINTING_DESC.TXT"
RIGHT_ASCENSION = -1e+32
DECLINATION = -1e+32
OFFSET_ANGLE = -0.11
SPACECRAFT_SOLAR_DISTANCE = 2.28407e+08
TARGET_NAME = MARS
/* CAMERA DATA ELEMENTS */
DETECTOR_TEMPERATURE = 17.5549
FOCAL_PLANE_TEMPERATURE = 8.7872
INST_CMPRS_NAME = "DISCRETE COSINE TRANSFORMATION (DCT)"
INST_CMPRS_RATIO = 11.4862
INST_CMPRS_QUALITY = 0
INST_CMPRS_QUANTZ_TBL_ID = 0
INSTRUMENT_TEMPERATURE = 11.234
LENS_TEMPERATURE = 10.2145
MACROPIXEL_SIZE = 2
MISSING_FRAMES = 0
PIXEL_SUBSAMPLING_FLAG = N
SIGNAL_CHAIN_ID = 3
/* RADIOMETRIC DATA ELEMENTS */
BANDWIDTH = 174.0
CENTER_FILTER_WAVELENGTH = 675.0
RADIANCE_OFFSET = 3.58914
RADIANCE_SCALING_FACTOR = 0.0105563
REFLECTANCE_SCALING_FACTOR = 0.000296221
MEX:REFLECTANCE_OFFSET = 0.100715
/* IMAGE OBJECT DEFINITIONS */
OBJECT = IMAGE
  INTERCHANGE_FORMAT = BINARY
  LINES = 33103
  LINE_SAMPLES = 5466
  SAMPLE_TYPE = UNSIGNED_INTEGER
  SAMPLE_BITS = 8
  BANDS = 1
  BAND_STORAGE_TYPE = BAND_SEQUENTIAL
  MAXIMUM = 255
  MEAN = 112.084
  MINIMUM = 1
  STANDARD_DEVIATION = 31.5249
END_OBJECT = IMAGE
/* MAP OBJECT DEFINITIONS */
OBJECT = IMAGE_MAP_PROJECTION
  ^DATA_SET_MAP_PROJECTION_CATALOG= "DSMAP.CAT"
  A_AXIS_RADIUS = 3396.0
  B_AXIS_RADIUS = 3396.0
  C_AXIS_RADIUS = 3396.0
  CENTER_LATITUDE = 0.0
  CENTER_LONGITUDE = 122.0
  COORDINATE_SYSTEM_NAME = PLANETOGRAPHIC
  COORDINATE_SYSTEM_TYPE = "BODY-FIXED ROTATING"
  EASTERNMOST_LONGITUDE = 123.499
  FIRST_STANDARD_PARALLEL = "N/A"
  LINE_FIRST_PIXEL = 1
  LINE_LAST_PIXEL = 33103
  LINE_PROJECTION_OFFSET = 148032.75
  MAP_PROJECTION_ROTATION = 0.0
  MAP_PROJECTION_TYPE = SINUSOIDAL
  MAP_RESOLUTION = 2370.85521546667
  MAP_SCALE = 0.025
  MAXIMUM_LATITUDE = 62.4996
  MINIMUM_LATITUDE = 48.4496
  POSITIVE_LONGITUDE_DIRECTION = EAST
  REFERENCE_LATITUDE = "N/A"
  REFERENCE_LONGITUDE = "N/A"
  SAMPLE_FIRST_PIXEL = 1
  SAMPLE_LAST_PIXEL = 5466
  SAMPLE_PROJECTION_OFFSET = 3062.25
  SECOND_STANDARD_PARALLEL = "N/A"
  WESTERNMOST_LONGITUDE = 119.245
END_OBJECT = IMAGE_MAP_PROJECTION
END
