PDS_VERSION_ID = PDS3
/* FILE DATA ELEMENTS */
RECORD_TYPE = UNDEFINED
/* POINTERS TO DATA OBJECTS */
^IMAGE = ("HI047_0000_IR4.TIF")
/* IDENTIFICATION DATA ELEMENTS */
DATA_SET_ID = "MEX-M-HRSC-4-REFDR-MAPPROJECT-EXT6-V4.0"
DATA_SET_NAME = "MARS EXPRESS HRSC MAP PROJECTED REFDR EXTENSION6 V4.0"
DETECTOR_ID = MEX_HRSC_IR
EVENT_TYPE = "MARS-REGIONAL-MAPPING-Im-Pf"
INSTRUMENT_HOST_ID = MEX
INSTRUMENT_HOST_NAME = "MARS EXPRESS"
INSTRUMENT_ID = HRSC
INSTRUMENT_NAME = "HIGH RESOLUTION STEREO CAMERA"
MISSION_NAME = "MARS EXPRESS"
MISSION_PHASE_NAME = ME_Phase_38
PROCESSING_LEVEL_ID = 4
PRODUCT_CREATION_TIME = 2023-01-29T08:20:11.000Z
PRODUCT_ID = "HI047_0000_IR4.TIF"
RELEASE_ID = 0004
REVISION_ID = 0000
/* QUALITY DATA ELEMENTS */
DATA_QUALITY_ID = 1
DATA_QUALITY_DESC = "Data calculated based on original SPICE kernels"
/* TIME DATA ELEMENTS */
SPACECRAFT_CLOCK_START_COUNT = "1/0471037865.07328"
SPACECRAFT_CLOCK_STOP_COUNT = "1/0471038143.45702"
START_TIME = 2018-04-05T19:51:20.537Z
STOP_TIME = 2018-04-05T19:54:34.719Z
/* ORBITAL DATA ELEMENTS */
ASCENDING_NODE_LONGITUDE = 235.36
MAXIMUM_RESOLUTION = 0.0648
FOOTPRINT_POINT_LATITUDE = (65.8833,65.8533,65.8077,65.7231, 65.7212,65.6097,65.2419,64.8736,64.6279 ,64.382,64.1361,63.7669,63.5203,63.274, 62.9046,62.5343,62.2874,62.0409,61.7936 ,61.4227,61.1754,60.8043,60.5568, 60.3095,59.9385,59.5674,59.3192,59.0715 ,58.8241,58.5764,58.2047,57.9568,57.709 ,57.3374,57.0894,56.7179,56.4699,56.222 ,55.9743,55.7266,55.3479,55.0935, 54.8397,54.585,54.2032,53.9489,53.6947, 53.304,53.1737,53.1501,53.2035,53.2262, 53.2539,53.2544,53.2557,53.5172,53.7788 ,54.0342,54.4171,54.6721,54.9275, 55.1831,55.4383,55.8191,56.1925,56.4414 ,56.8146,57.0636,57.3127,57.5616, 57.9352,58.1841,58.4331,58.8062,59.18, 59.5532,59.8023,60.0512,60.3001,60.5488 ,60.7977,61.0463,61.295,61.5437,61.7923 ,62.0409,62.4137,62.6623,63.0348, 63.2831,63.5314,63.9035,64.1515,64.3994 ,64.6472,65.0187,65.2663,65.6376, 65.7612,65.8833)
FOOTPRINT_POINT_LONGITUDE = (19.1258,18.43,17.5009,16.0471,16.018, 15.9237,16.0444,16.1607,16.236,16.3095, 16.3814,16.4861,16.5536,16.6199,16.7167 ,16.8097,16.8701,16.9294,16.9868, 17.0708,17.1252,17.2046,17.256,17.3064, 17.3801,17.4513,17.4969,17.5419,17.5861 ,17.6292,17.6919,17.7325,17.7723, 17.8303,17.8679,17.9228,17.9582,17.993, 18.027,18.0602,18.1095,18.1417,18.1735, 18.204,18.2485,18.2774,18.3056,18.3478, 18.3616,18.364,19.4659,20.0275,20.8436, 20.8669,20.8746,20.8536,20.8322,20.8108 ,20.7779,20.7557,20.733,20.7097,20.6861 ,20.6501,20.6137,20.5889,20.551,20.525, 20.4986,20.4717,20.4303,20.4022,20.3735 ,20.3296,20.284,20.2374,20.2055,20.173, 20.1399,20.1062,20.0717,20.0367,20.0009 ,19.9644,19.9272,19.8891,19.8306, 19.7906,19.729,19.6869,19.6438,19.5777, 19.5324,19.4862,19.439,19.3662,19.3164, 19.2394,19.2133,19.1258)
ORBIT_NUMBER = 18047
ORBITAL_ECCENTRICITY = 0.571
ORBITAL_INCLINATION = 86.97
ORBITAL_SEMIMAJOR_AXIS = 8764.33
PERIAPSIS_ALTITUDE = 383.9
PERIAPSIS_ARGUMENT_ANGLE = 109.76
PERIAPSIS_TIME = 2018-04-05T19:50:42.000Z
SPACECRAFT_ORIENTATION = (0.0,-1.0,0.0)
^MEX_ORIENTATION_DESC = "MEX_ORIENTATION_DESC.TXT"
SPACECRAFT_POINTING_MODE = ACROSSTRACK
^MEX_POINTING_DESC = "MEX_POINTING_DESC.TXT"
RIGHT_ASCENSION = -1e+32
DECLINATION = -1e+32
OFFSET_ANGLE = -0.22
SPACECRAFT_SOLAR_DISTANCE = 2.28351e+08
TARGET_NAME = MARS
/* CAMERA DATA ELEMENTS */
DETECTOR_TEMPERATURE = 18.3705
FOCAL_PLANE_TEMPERATURE = 9.8067
INST_CMPRS_NAME = "DISCRETE COSINE TRANSFORMATION (DCT)"
INST_CMPRS_RATIO = 15.9693
INST_CMPRS_QUALITY = 0
INST_CMPRS_QUANTZ_TBL_ID = 0
INSTRUMENT_TEMPERATURE = 12.6613
LENS_TEMPERATURE = 10.6223
MACROPIXEL_SIZE = 4
MISSING_FRAMES = 0
PIXEL_SUBSAMPLING_FLAG = N
SIGNAL_CHAIN_ID = 2
/* RADIOMETRIC DATA ELEMENTS */
BANDWIDTH = 81.0
CENTER_FILTER_WAVELENGTH = 955.5
RADIANCE_OFFSET = 0.761297
RADIANCE_SCALING_FACTOR = 0.00530752
REFLECTANCE_SCALING_FACTOR = 0.000597071
MEX:REFLECTANCE_OFFSET = 0.0856424
/* IMAGE OBJECT DEFINITIONS */
OBJECT = IMAGE
  INTERCHANGE_FORMAT = BINARY
  LINES = 14941
  LINE_SAMPLES = 2871
  SAMPLE_TYPE = UNSIGNED_INTEGER
  SAMPLE_BITS = 8
  BANDS = 1
  BAND_STORAGE_TYPE = BAND_SEQUENTIAL
  MAXIMUM = 255
  MEAN = 140.128
  MINIMUM = 1
  STANDARD_DEVIATION = 31.6822
END_OBJECT = IMAGE
/* MAP OBJECT DEFINITIONS */
OBJECT = IMAGE_MAP_PROJECTION
  ^DATA_SET_MAP_PROJECTION_CATALOG= "DSMAP.CAT"
  A_AXIS_RADIUS = 3396.0
  B_AXIS_RADIUS = 3396.0
  C_AXIS_RADIUS = 3396.0
  CENTER_LATITUDE = 0.0
  CENTER_LONGITUDE = 19.0
  COORDINATE_SYSTEM_NAME = PLANETOGRAPHIC
  COORDINATE_SYSTEM_TYPE = "BODY-FIXED ROTATING"
  EASTERNMOST_LONGITUDE = 20.8746
  FIRST_STANDARD_PARALLEL = "N/A"
  LINE_FIRST_PIXEL = 1
  LINE_LAST_PIXEL = 14941
  LINE_PROJECTION_OFFSET = 77988.125
  MAP_PROJECTION_ROTATION = 0.0
  MAP_PROJECTION_TYPE = SINUSOIDAL
  MAP_RESOLUTION = 1185.42760773333
  MAP_SCALE = 0.05
  MAXIMUM_LATITUDE = 65.88330000000001
  MINIMUM_LATITUDE = 53.1501
  POSITIVE_LONGITUDE_DIRECTION = EAST
  REFERENCE_LATITUDE = "N/A"
  REFERENCE_LONGITUDE = "N/A"
  SAMPLE_FIRST_PIXEL = 1
  SAMPLE_LAST_PIXEL = 2871
  SAMPLE_PROJECTION_OFFSET = 1519.625
  SECOND_STANDARD_PARALLEL = "N/A"
  WESTERNMOST_LONGITUDE = 15.9237
END_OBJECT = IMAGE_MAP_PROJECTION
END
