PDS_VERSION_ID = PDS3
/* FILE DATA ELEMENTS */
RECORD_TYPE = UNDEFINED
/* POINTERS TO DATA OBJECTS */
^IMAGE = ("HI048_0000_GR4.TIF")
/* IDENTIFICATION DATA ELEMENTS */
DATA_SET_ID = "MEX-M-HRSC-4-REFDR-MAPPROJECT-EXT6-V4.0"
DATA_SET_NAME = "MARS EXPRESS HRSC MAP PROJECTED REFDR EXTENSION6 V4.0"
DETECTOR_ID = MEX_HRSC_GREEN
EVENT_TYPE = "MARS-REGIONAL-MAPPING-Vo-Te-Im"
INSTRUMENT_HOST_ID = MEX
INSTRUMENT_HOST_NAME = "MARS EXPRESS"
INSTRUMENT_ID = HRSC
INSTRUMENT_NAME = "HIGH RESOLUTION STEREO CAMERA"
MISSION_NAME = "MARS EXPRESS"
MISSION_PHASE_NAME = ME_Phase_38
PROCESSING_LEVEL_ID = 4
PRODUCT_CREATION_TIME = 2023-01-29T08:20:11.000Z
PRODUCT_ID = "HI048_0000_GR4.TIF"
RELEASE_ID = 0004
REVISION_ID = 0000
/* QUALITY DATA ELEMENTS */
DATA_QUALITY_ID = 1
DATA_QUALITY_DESC = "Data calculated based on original SPICE kernels"
/* TIME DATA ELEMENTS */
SPACECRAFT_CLOCK_START_COUNT = "1/0471063088.08255"
SPACECRAFT_CLOCK_STOP_COUNT = "1/0471063339.56145"
START_TIME = 2018-04-06T02:52:07.556Z
STOP_TIME = 2018-04-06T02:54:53.452Z
/* ORBITAL DATA ELEMENTS */
ASCENDING_NODE_LONGITUDE = 235.35
MAXIMUM_RESOLUTION = 0.0641
FOOTPRINT_POINT_LATITUDE = (60.8606,60.84,60.8224,60.788,60.759, 60.7578,60.7359,60.4353,60.0347,59.6343 ,59.2342,58.8343,58.4346,58.0352, 57.6361,57.2373,57.0327,56.8281,56.6236 ,56.4193,56.2149,56.0107,55.8066, 55.6026,55.3989,55.1903,54.9809,54.7719 ,54.4591,54.2505,54.042,53.8335,53.6225 ,53.409,53.1957,52.9825,52.7695,52.5566 ,52.3437,52.0188,51.801,51.5834,51.366, 51.1487,50.9315,50.7094,50.4873,50.3764 ,50.3165,50.3281,50.3432,50.3563, 50.3656,50.375,50.3812,50.3815,50.3828, 50.6054,50.8282,51.0499,51.2677,51.4858 ,51.704,51.9224,52.1409,52.3591,52.5726 ,52.7863,53.0001,53.2141,53.4282, 53.6424,53.8557,54.0648,54.274,54.4834, 54.7978,55.0075,55.2174,55.5304,55.7351 ,55.9401,56.145,56.3501,56.5553,56.7606 ,56.966,57.1714,57.3756,57.7762,58.1772 ,58.5784,58.98,59.3818,59.784,60.1864, 60.3877,60.6898,60.7905,60.8606)
FOOTPRINT_POINT_LONGITUDE = (278.34,277.653,277.144,276.282,275.648 ,275.623,275.553,275.61,275.683,275.753 ,275.821,275.886,275.949,276.009, 276.067,276.123,276.151,276.179,276.205 ,276.232,276.258,276.283,276.308, 276.332,276.356,276.38,276.402,276.425, 276.46,276.482,276.503,276.524,276.545, 276.566,276.586,276.606,276.625,276.644 ,276.662,276.689,276.707,276.725, 276.741,276.758,276.774,276.79,276.806, 276.813,276.818,277.143,277.611,278.079 ,278.406,278.923,279.299,279.323,279.33 ,279.317,279.304,279.29,279.276,279.263 ,279.249,279.234,279.22,279.205,279.191 ,279.176,279.161,279.145,279.13,279.114 ,279.098,279.083,279.067,279.051, 279.026,279.009,278.991,278.965,278.947 ,278.93,278.912,278.893,278.875,278.856 ,278.836,278.817,278.797,278.758, 278.717,278.675,278.632,278.587,278.541 ,278.493,278.469,278.431,278.419, 278.34)
ORBIT_NUMBER = 18048
ORBITAL_ECCENTRICITY = 0.571
ORBITAL_INCLINATION = 86.97
ORBITAL_SEMIMAJOR_AXIS = 8762.74
PERIAPSIS_ALTITUDE = 383.56
PERIAPSIS_ARGUMENT_ANGLE = 109.6
PERIAPSIS_TIME = 2018-04-06T02:49:46.000Z
SPACECRAFT_ORIENTATION = (0.0,-1.0,0.0)
^MEX_ORIENTATION_DESC = "MEX_ORIENTATION_DESC.TXT"
SPACECRAFT_POINTING_MODE = NADIR
^MEX_POINTING_DESC = "MEX_POINTING_DESC.TXT"
RIGHT_ASCENSION = -1e+32
DECLINATION = -1e+32
OFFSET_ANGLE = -1e+32
SPACECRAFT_SOLAR_DISTANCE = 2.28294e+08
TARGET_NAME = MARS
/* CAMERA DATA ELEMENTS */
DETECTOR_TEMPERATURE = 18.3705
FOCAL_PLANE_TEMPERATURE = 7.9716
INST_CMPRS_NAME = "DISCRETE COSINE TRANSFORMATION (DCT)"
INST_CMPRS_RATIO = 20.5703
INST_CMPRS_QUALITY = 0
INST_CMPRS_QUANTZ_TBL_ID = 0
INSTRUMENT_TEMPERATURE = 11.6418
LENS_TEMPERATURE = 8.5833
MACROPIXEL_SIZE = 4
MISSING_FRAMES = 0
PIXEL_SUBSAMPLING_FLAG = N
SIGNAL_CHAIN_ID = 2
/* RADIOMETRIC DATA ELEMENTS */
BANDWIDTH = 88.0
CENTER_FILTER_WAVELENGTH = 538.0
RADIANCE_OFFSET = 1.41971
RADIANCE_SCALING_FACTOR = 0.0046253
REFLECTANCE_SCALING_FACTOR = 0.000207548
MEX:REFLECTANCE_OFFSET = 0.0637057
/* IMAGE OBJECT DEFINITIONS */
OBJECT = IMAGE
  INTERCHANGE_FORMAT = BINARY
  LINES = 12478
  LINE_SAMPLES = 2444
  SAMPLE_TYPE = UNSIGNED_INTEGER
  SAMPLE_BITS = 8
  BANDS = 1
  BAND_STORAGE_TYPE = BAND_SEQUENTIAL
  MAXIMUM = 255
  MEAN = 89.3912
  MINIMUM = 1
  STANDARD_DEVIATION = 30.1713
END_OBJECT = IMAGE
/* MAP OBJECT DEFINITIONS */
OBJECT = IMAGE_MAP_PROJECTION
  ^DATA_SET_MAP_PROJECTION_CATALOG= "DSMAP.CAT"
  A_AXIS_RADIUS = 3396.0
  B_AXIS_RADIUS = 3396.0
  C_AXIS_RADIUS = 3396.0
  CENTER_LATITUDE = 0.0
  CENTER_LONGITUDE = 278.0
  COORDINATE_SYSTEM_NAME = PLANETOGRAPHIC
  COORDINATE_SYSTEM_TYPE = "BODY-FIXED ROTATING"
  EASTERNMOST_LONGITUDE = 279.33
  FIRST_STANDARD_PARALLEL = "N/A"
  LINE_FIRST_PIXEL = 1
  LINE_LAST_PIXEL = 12478
  LINE_PROJECTION_OFFSET = 72135.375
  MAP_PROJECTION_ROTATION = 0.0
  MAP_PROJECTION_TYPE = SINUSOIDAL
  MAP_RESOLUTION = 1185.42760773333
  MAP_SCALE = 0.05
  MAXIMUM_LATITUDE = 60.8606
  MINIMUM_LATITUDE = 50.3165
  POSITIVE_LONGITUDE_DIRECTION = EAST
  REFERENCE_LATITUDE = "N/A"
  REFERENCE_LONGITUDE = "N/A"
  SAMPLE_FIRST_PIXEL = 1
  SAMPLE_LAST_PIXEL = 2444
  SAMPLE_PROJECTION_OFFSET = 1430.125
  SECOND_STANDARD_PARALLEL = "N/A"
  WESTERNMOST_LONGITUDE = 275.553
END_OBJECT = IMAGE_MAP_PROJECTION
END
