PDS_VERSION_ID = PDS3
/* FILE DATA ELEMENTS */
RECORD_TYPE = UNDEFINED
/* POINTERS TO DATA OBJECTS */
^IMAGE = ("HI048_0000_ND4.TIF")
/* IDENTIFICATION DATA ELEMENTS */
DATA_SET_ID = "MEX-M-HRSC-4-REFDR-MAPPROJECT-EXT6-V4.0"
DATA_SET_NAME = "MARS EXPRESS HRSC MAP PROJECTED REFDR EXTENSION6 V4.0"
DETECTOR_ID = MEX_HRSC_NADIR
EVENT_TYPE = "MARS-REGIONAL-MAPPING-Vo-Te-Im"
INSTRUMENT_HOST_ID = MEX
INSTRUMENT_HOST_NAME = "MARS EXPRESS"
INSTRUMENT_ID = HRSC
INSTRUMENT_NAME = "HIGH RESOLUTION STEREO CAMERA"
MISSION_NAME = "MARS EXPRESS"
MISSION_PHASE_NAME = ME_Phase_38
PROCESSING_LEVEL_ID = 4
PRODUCT_CREATION_TIME = 2023-01-29T08:20:11.000Z
PRODUCT_ID = "HI048_0000_ND4.TIF"
RELEASE_ID = 0004
REVISION_ID = 0000
/* QUALITY DATA ELEMENTS */
DATA_QUALITY_ID = 1
DATA_QUALITY_DESC = "Data calculated based on original SPICE kernels"
/* TIME DATA ELEMENTS */
SPACECRAFT_CLOCK_START_COUNT = "1/0471063088.08255"
SPACECRAFT_CLOCK_STOP_COUNT = "1/0471063339.56145"
START_TIME = 2018-04-06T02:52:13.688Z
STOP_TIME = 2018-04-06T02:55:00.676Z
/* ORBITAL DATA ELEMENTS */
ASCENDING_NODE_LONGITUDE = 235.35
MAXIMUM_RESOLUTION = 0.0161
FOOTPRINT_POINT_LATITUDE = (60.849,60.8212,60.7864,60.7465,60.7452 ,60.7424,60.4416,60.0408,59.6403, 59.2401,58.8403,58.4407,58.0415,57.6427 ,57.4381,57.2335,57.0291,56.8247, 56.6205,56.4164,56.2124,56.0086,55.8048 ,55.4918,55.283,55.0743,54.8657,54.6574 ,54.4491,54.241,54.0297,53.8166,53.6036 ,53.3908,53.1781,52.9656,52.7532, 52.5369,52.3196,52.1025,51.8856,51.6688 ,51.4522,51.1217,50.9003,50.6791, 50.4582,50.3478,50.3264,50.3495,50.3635 ,50.3778,50.3865,50.3925,50.3929, 50.3934,50.615,50.8368,51.0588,51.281, 51.5021,51.7194,51.9369,52.1546,52.3725 ,52.5905,52.8081,53.0212,53.2345, 53.4479,53.6615,53.8753,54.0893,54.3018 ,54.5107,54.7198,54.929,55.1383,55.3478 ,55.5574,55.7671,55.9744,56.1791, 56.3838,56.5887,56.7937,56.9989,57.2041 ,57.4095,57.615,57.8184,58.2191,58.6201 ,59.0216,59.4235,59.8257,60.2283, 60.7319,60.8327,60.849)
FOOTPRINT_POINT_LONGITUDE = (278.347,277.451,276.531,275.638, 275.611,275.53,275.587,275.66,275.731, 275.798,275.864,275.926,275.987,276.045 ,276.073,276.102,276.13,276.157,276.184 ,276.21,276.236,276.261,276.286,276.323 ,276.347,276.369,276.391,276.416, 276.438,276.46,276.482,276.503,276.524, 276.544,276.564,276.584,276.603,276.622 ,276.641,276.659,276.677,276.694, 276.711,276.736,276.752,276.768,276.783 ,276.791,276.793,277.469,277.946, 278.523,278.95,279.302,279.328,279.34, 279.327,279.313,279.299,279.286,279.271 ,279.257,279.243,279.228,279.213, 279.198,279.183,279.168,279.153,279.137 ,279.121,279.105,279.089,279.073, 279.057,279.04,279.023,279.006,278.988, 278.971,278.952,278.934,278.916,278.898 ,278.879,278.86,278.84,278.821,278.801, 278.781,278.76,278.719,278.677,278.633, 278.588,278.542,278.494,278.431,278.419 ,278.347)
ORBIT_NUMBER = 18048
ORBITAL_ECCENTRICITY = 0.571
ORBITAL_INCLINATION = 86.97
ORBITAL_SEMIMAJOR_AXIS = 8762.74
PERIAPSIS_ALTITUDE = 383.56
PERIAPSIS_ARGUMENT_ANGLE = 109.6
PERIAPSIS_TIME = 2018-04-06T02:49:46.000Z
SPACECRAFT_ORIENTATION = (0.0,-1.0,0.0)
^MEX_ORIENTATION_DESC = "MEX_ORIENTATION_DESC.TXT"
SPACECRAFT_POINTING_MODE = NADIR
^MEX_POINTING_DESC = "MEX_POINTING_DESC.TXT"
RIGHT_ASCENSION = -1e+32
DECLINATION = -1e+32
OFFSET_ANGLE = -1e+32
SPACECRAFT_SOLAR_DISTANCE = 2.28294e+08
TARGET_NAME = MARS
/* CAMERA DATA ELEMENTS */
DETECTOR_TEMPERATURE = 18.3705
FOCAL_PLANE_TEMPERATURE = 7.9716
INST_CMPRS_NAME = "DISCRETE COSINE TRANSFORMATION (DCT)"
INST_CMPRS_RATIO = 6.51409
INST_CMPRS_QUALITY = 0
INST_CMPRS_QUANTZ_TBL_ID = 0
INSTRUMENT_TEMPERATURE = 11.6418
LENS_TEMPERATURE = 8.5833
MACROPIXEL_SIZE = 1
MISSING_FRAMES = 0
PIXEL_SUBSAMPLING_FLAG = N
SIGNAL_CHAIN_ID = 0
/* RADIOMETRIC DATA ELEMENTS */
BANDWIDTH = 177.0
CENTER_FILTER_WAVELENGTH = 677.5
RADIANCE_OFFSET = 3.88172
RADIANCE_SCALING_FACTOR = 0.019028
REFLECTANCE_SCALING_FACTOR = 0.000526826
MEX:REFLECTANCE_OFFSET = 0.107473
/* IMAGE OBJECT DEFINITIONS */
OBJECT = IMAGE
  INTERCHANGE_FORMAT = BINARY
  LINES = 49910
  LINE_SAMPLES = 9774
  SAMPLE_TYPE = UNSIGNED_INTEGER
  SAMPLE_BITS = 8
  BANDS = 1
  BAND_STORAGE_TYPE = BAND_SEQUENTIAL
  MAXIMUM = 255
  MEAN = 91.5676
  MINIMUM = 1
  STANDARD_DEVIATION = 24.9681
END_OBJECT = IMAGE
/* MAP OBJECT DEFINITIONS */
OBJECT = IMAGE_MAP_PROJECTION
  ^DATA_SET_MAP_PROJECTION_CATALOG= "DSMAP.CAT"
  A_AXIS_RADIUS = 3396.0
  B_AXIS_RADIUS = 3396.0
  C_AXIS_RADIUS = 3396.0
  CENTER_LATITUDE = 0.0
  CENTER_LONGITUDE = 278.0
  COORDINATE_SYSTEM_NAME = PLANETOGRAPHIC
  COORDINATE_SYSTEM_TYPE = "BODY-FIXED ROTATING"
  EASTERNMOST_LONGITUDE = 279.34
  FIRST_STANDARD_PARALLEL = "N/A"
  LINE_FIRST_PIXEL = 1
  LINE_LAST_PIXEL = 49910
  LINE_PROJECTION_OFFSET = 288543.0
  MAP_PROJECTION_ROTATION = 0.0
  MAP_PROJECTION_TYPE = SINUSOIDAL
  MAP_RESOLUTION = 4741.71043093333
  MAP_SCALE = 0.0125
  MAXIMUM_LATITUDE = 60.849
  MINIMUM_LATITUDE = 50.3264
  POSITIVE_LONGITUDE_DIRECTION = EAST
  REFERENCE_LATITUDE = "N/A"
  REFERENCE_LONGITUDE = "N/A"
  SAMPLE_FIRST_PIXEL = 1
  SAMPLE_LAST_PIXEL = 9774
  SAMPLE_PROJECTION_OFFSET = 5722.0
  SECOND_STANDARD_PARALLEL = "N/A"
  WESTERNMOST_LONGITUDE = 275.53
END_OBJECT = IMAGE_MAP_PROJECTION
END
