PDS_VERSION_ID = PDS3
/* FILE DATA ELEMENTS */
RECORD_TYPE = UNDEFINED
/* POINTERS TO DATA OBJECTS */
^IMAGE = ("HI053_0000_BL4.TIF")
/* IDENTIFICATION DATA ELEMENTS */
DATA_SET_ID = "MEX-M-HRSC-4-REFDR-MAPPROJECT-EXT6-V4.0"
DATA_SET_NAME = "MARS EXPRESS HRSC MAP PROJECTED REFDR EXTENSION6 V4.0"
DETECTOR_ID = MEX_HRSC_BLUE
EVENT_TYPE = "MARS-REGIONAL-MAPPING-Im-Pf-Eo"
INSTRUMENT_HOST_ID = MEX
INSTRUMENT_HOST_NAME = "MARS EXPRESS"
INSTRUMENT_ID = HRSC
INSTRUMENT_NAME = "HIGH RESOLUTION STEREO CAMERA"
MISSION_NAME = "MARS EXPRESS"
MISSION_PHASE_NAME = ME_Phase_38
PROCESSING_LEVEL_ID = 4
PRODUCT_CREATION_TIME = 2023-01-29T08:20:11.000Z
PRODUCT_ID = "HI053_0000_BL4.TIF"
RELEASE_ID = 0004
REVISION_ID = 0000
/* QUALITY DATA ELEMENTS */
DATA_QUALITY_ID = 1
DATA_QUALITY_DESC = "Data calculated based on original SPICE kernels"
/* TIME DATA ELEMENTS */
SPACECRAFT_CLOCK_START_COUNT = "1/0471188654.09076"
SPACECRAFT_CLOCK_STOP_COUNT = "1/0471188883.22406"
START_TIME = 2018-04-07T13:45:04.771Z
STOP_TIME = 2018-04-07T13:47:38.081Z
/* ORBITAL DATA ELEMENTS */
ASCENDING_NODE_LONGITUDE = 235.26
MAXIMUM_RESOLUTION = 0.062
FOOTPRINT_POINT_LATITUDE = (69.5298,69.4981,69.4499,69.3951, 69.3612,69.3592,69.3733,69.18,68.9867, 68.7934,68.6,68.3099,68.1165,67.9231, 67.7296,67.5362,67.3427,67.1493,66.9558 ,66.7624,66.569,66.3755,66.1821,65.9887 ,65.7952,65.6019,65.4085,65.2152,65.022 ,64.8287,64.6355,64.4423,64.1526, 63.9595,63.7665,63.5735,63.3806,63.1877 ,62.9949,62.6094,62.2242,61.8392, 61.3584,60.9741,60.5901,60.2065,59.8232 ,59.7275,59.7176,59.752,59.7697,59.7938 ,59.8072,59.8256,59.8263,59.8276, 60.2127,60.5983,60.9843,61.3707,61.7575 ,61.951,62.1446,62.3383,62.532,62.7259, 62.9198,63.1138,63.3078,63.502,63.6962, 63.8905,64.0848,64.3765,64.571,64.7656, 64.9602,65.1549,65.3497,65.6419,65.8368 ,66.0317,66.2267,66.4217,66.7144, 66.9095,67.1047,67.2998,67.4951,67.6904 ,67.8857,68.081,68.2763,68.4716,68.7647 ,68.9602,69.1556,69.4488,69.5465, 69.5298)
FOOTPRINT_POINT_LONGITUDE = (125.545,124.739,123.663,122.588, 121.984,121.95,121.793,121.886,121.976, 122.064,122.151,122.278,122.36,122.44, 122.519,122.596,122.672,122.745,122.818 ,122.889,122.959,123.027,123.094,123.16 ,123.225,123.288,123.35,123.41,123.47, 123.528,123.585,123.641,123.723,123.777 ,123.829,123.881,123.931,123.981,124.03 ,124.124,124.215,124.303,124.408, 124.489,124.567,124.641,124.714,124.731 ,124.733,125.48,125.907,126.547,126.946 ,127.558,127.584,127.593,127.542, 127.489,127.435,127.379,127.321,127.291 ,127.261,127.231,127.199,127.168, 127.136,127.103,127.07,127.036,127.001, 126.966,126.931,126.876,126.839,126.801 ,126.763,126.724,126.684,126.623, 126.581,126.538,126.495,126.451,126.384 ,126.338,126.291,126.243,126.194, 126.144,126.094,126.042,125.989,125.935 ,125.853,125.796,125.739,125.65,125.62, 125.545)
ORBIT_NUMBER = 18053
ORBITAL_ECCENTRICITY = 0.571
ORBITAL_INCLINATION = 86.98
ORBITAL_SEMIMAJOR_AXIS = 8763.58
PERIAPSIS_ALTITUDE = 384.07
PERIAPSIS_ARGUMENT_ANGLE = 108.73
PERIAPSIS_TIME = 2018-04-07T13:44:34.000Z
SPACECRAFT_ORIENTATION = (0.0,-1.0,0.0)
^MEX_ORIENTATION_DESC = "MEX_ORIENTATION_DESC.TXT"
SPACECRAFT_POINTING_MODE = ACROSSTRACK
^MEX_POINTING_DESC = "MEX_POINTING_DESC.TXT"
RIGHT_ASCENSION = -1e+32
DECLINATION = -1e+32
OFFSET_ANGLE = -0.18
SPACECRAFT_SOLAR_DISTANCE = 2.28011e+08
TARGET_NAME = MARS
/* CAMERA DATA ELEMENTS */
DETECTOR_TEMPERATURE = 18.9822
FOCAL_PLANE_TEMPERATURE = 10.4184
INST_CMPRS_NAME = "DISCRETE COSINE TRANSFORMATION (DCT)"
INST_CMPRS_RATIO = 9.02293
INST_CMPRS_QUALITY = 0
INST_CMPRS_QUANTZ_TBL_ID = 0
INSTRUMENT_TEMPERATURE = 11.234
LENS_TEMPERATURE = 10.8262
MACROPIXEL_SIZE = 4
MISSING_FRAMES = 0
PIXEL_SUBSAMPLING_FLAG = N
SIGNAL_CHAIN_ID = 2
/* RADIOMETRIC DATA ELEMENTS */
BANDWIDTH = 76.0
CENTER_FILTER_WAVELENGTH = 444.0
RADIANCE_OFFSET = 0.544351
RADIANCE_SCALING_FACTOR = 0.00148502
REFLECTANCE_SCALING_FACTOR = 7.93233e-05
MEX:REFLECTANCE_OFFSET = 0.0290769
/* IMAGE OBJECT DEFINITIONS */
OBJECT = IMAGE
  INTERCHANGE_FORMAT = BINARY
  LINES = 11683
  LINE_SAMPLES = 2891
  SAMPLE_TYPE = UNSIGNED_INTEGER
  SAMPLE_BITS = 8
  BANDS = 1
  BAND_STORAGE_TYPE = BAND_SEQUENTIAL
  MAXIMUM = 255
  MEAN = 122.306
  MINIMUM = 1
  STANDARD_DEVIATION = 39.3133
END_OBJECT = IMAGE
/* MAP OBJECT DEFINITIONS */
OBJECT = IMAGE_MAP_PROJECTION
  ^DATA_SET_MAP_PROJECTION_CATALOG= "DSMAP.CAT"
  A_AXIS_RADIUS = 3396.0
  B_AXIS_RADIUS = 3396.0
  C_AXIS_RADIUS = 3396.0
  CENTER_LATITUDE = 0.0
  CENTER_LONGITUDE = 125.0
  COORDINATE_SYSTEM_NAME = PLANETOGRAPHIC
  COORDINATE_SYSTEM_TYPE = "BODY-FIXED ROTATING"
  EASTERNMOST_LONGITUDE = 127.593
  FIRST_STANDARD_PARALLEL = "N/A"
  LINE_FIRST_PIXEL = 1
  LINE_LAST_PIXEL = 11683
  LINE_PROJECTION_OFFSET = 82463.625
  MAP_PROJECTION_ROTATION = 0.0
  MAP_PROJECTION_TYPE = SINUSOIDAL
  MAP_RESOLUTION = 1185.42760773333
  MAP_SCALE = 0.05
  MAXIMUM_LATITUDE = 69.54649999999999
  MINIMUM_LATITUDE = 59.7176
  POSITIVE_LONGITUDE_DIRECTION = EAST
  REFERENCE_LATITUDE = "N/A"
  REFERENCE_LONGITUDE = "N/A"
  SAMPLE_FIRST_PIXEL = 1
  SAMPLE_LAST_PIXEL = 2891
  SAMPLE_PROJECTION_OFFSET = 1348.875
  SECOND_STANDARD_PARALLEL = "N/A"
  WESTERNMOST_LONGITUDE = 121.793
END_OBJECT = IMAGE_MAP_PROJECTION
END
