PDS_VERSION_ID = PDS3
/* FILE DATA ELEMENTS */
RECORD_TYPE = UNDEFINED
/* POINTERS TO DATA OBJECTS */
^IMAGE = ("HI058_0000_GR4.TIF")
/* IDENTIFICATION DATA ELEMENTS */
DATA_SET_ID = "MEX-M-HRSC-4-REFDR-MAPPROJECT-EXT6-V4.0"
DATA_SET_NAME = "MARS EXPRESS HRSC MAP PROJECTED REFDR EXTENSION6 V4.0"
DETECTOR_ID = MEX_HRSC_GREEN
EVENT_TYPE = "MARS-REGIONAL-MAPPING-Gl-Pf-Eo"
INSTRUMENT_HOST_ID = MEX
INSTRUMENT_HOST_NAME = "MARS EXPRESS"
INSTRUMENT_ID = HRSC
INSTRUMENT_NAME = "HIGH RESOLUTION STEREO CAMERA"
MISSION_NAME = "MARS EXPRESS"
MISSION_PHASE_NAME = ME_Phase_38
PROCESSING_LEVEL_ID = 4
PRODUCT_CREATION_TIME = 2023-01-29T08:20:11.000Z
PRODUCT_ID = "HI058_0000_GR4.TIF"
RELEASE_ID = 0004
REVISION_ID = 0000
/* QUALITY DATA ELEMENTS */
DATA_QUALITY_ID = 1
DATA_QUALITY_DESC = "Data calculated based on original SPICE kernels"
/* TIME DATA ELEMENTS */
SPACECRAFT_CLOCK_START_COUNT = "1/0471314298.09053"
SPACECRAFT_CLOCK_STOP_COUNT = "1/0471314496.31409"
START_TIME = 2018-04-09T00:38:53.138Z
STOP_TIME = 2018-04-09T00:41:07.250Z
/* ORBITAL DATA ELEMENTS */
ASCENDING_NODE_LONGITUDE = 235.16
MAXIMUM_RESOLUTION = 0.062
FOOTPRINT_POINT_LATITUDE = (74.1199,74.0747,74.0373,73.9662, 73.9077,73.9052,73.9024,73.6245,73.3462 ,73.1606,72.7891,72.4172,72.0449, 71.6722,71.2992,71.0193,70.8325,70.6457 ,70.2719,69.9912,69.804,69.5229,69.2418 ,69.0543,68.773,68.4915,68.3038,68.1159 ,67.928,67.74,67.5519,67.3638,67.1756, 66.8932,66.7049,66.4221,66.2336,66.045, 65.8563,65.6675,65.4787,65.1953,64.9117 ,64.7226,64.5334,64.4388,64.4275, 64.4559,64.4795,64.504,64.5402,64.565, 64.566,64.5674,64.7576,64.9478,65.1378, 65.328,65.613,65.8029,66.0878,66.2776, 66.4674,66.752,66.9417,67.1313,67.4157, 67.7,67.8895,68.1736,68.363,68.647, 68.8363,69.0255,69.2147,69.4039,69.593, 69.7821,69.9711,70.1602,70.3491,70.6325 ,70.8214,71.0103,71.1992,71.388,71.6711 ,71.9542,72.2372,72.5201,72.7087, 72.8972,73.0857,73.2742,73.4627,73.6511 ,73.8394,74.0278,74.1219,74.1199)
FOOTPRINT_POINT_LONGITUDE = (333.727,332.568,331.713,330.271, 329.216,329.174,329.009,329.228,329.44, 329.577,329.841,330.092,330.333,330.563 ,330.782,330.941,331.044,331.144, 331.339,331.48,331.571,331.704,331.833, 331.917,332.04,332.16,332.238,332.314, 332.388,332.461,332.533,332.603,332.672 ,332.773,332.839,332.935,332.997, 333.059,333.119,333.178,333.237,333.322 ,333.405,333.459,333.512,333.538, 333.541,334.077,334.556,335.095,335.997 ,336.721,336.751,336.761,336.726,336.69 ,336.654,336.617,336.561,336.523, 336.464,336.424,336.383,336.321,336.279 ,336.236,336.169,336.102,336.055, 335.985,335.936,335.862,335.811,335.76, 335.707,335.653,335.599,335.543,335.486 ,335.428,335.369,335.279,335.216, 335.153,335.088,335.022,334.92,334.815, 334.707,334.594,334.518,334.439,334.358 ,334.276,334.192,334.105,334.017, 333.926,333.88,333.727)
ORBIT_NUMBER = 18058
ORBITAL_ECCENTRICITY = 0.57
ORBITAL_INCLINATION = 86.99
ORBITAL_SEMIMAJOR_AXIS = 8759.93
PERIAPSIS_ALTITUDE = 384.28
PERIAPSIS_ARGUMENT_ANGLE = 107.86
PERIAPSIS_TIME = 2018-04-09T00:39:25.000Z
SPACECRAFT_ORIENTATION = (0.0,-1.0,0.0)
^MEX_ORIENTATION_DESC = "MEX_ORIENTATION_DESC.TXT"
SPACECRAFT_POINTING_MODE = INERT
^MEX_POINTING_DESC = "MEX_POINTING_DESC.TXT"
RIGHT_ASCENSION = 166.327
DECLINATION = -63.198
OFFSET_ANGLE = -1e+32
SPACECRAFT_SOLAR_DISTANCE = 2.27728e+08
TARGET_NAME = MARS
/* CAMERA DATA ELEMENTS */
DETECTOR_TEMPERATURE = 18.3705
FOCAL_PLANE_TEMPERATURE = 8.5833
INST_CMPRS_NAME = "DISCRETE COSINE TRANSFORMATION (DCT)"
INST_CMPRS_RATIO = 20.3938
INST_CMPRS_QUALITY = 0
INST_CMPRS_QUANTZ_TBL_ID = 0
INSTRUMENT_TEMPERATURE = 11.234
LENS_TEMPERATURE = 8.9911
MACROPIXEL_SIZE = 4
MISSING_FRAMES = 0
PIXEL_SUBSAMPLING_FLAG = N
SIGNAL_CHAIN_ID = 2
/* RADIOMETRIC DATA ELEMENTS */
BANDWIDTH = 88.0
CENTER_FILTER_WAVELENGTH = 538.0
RADIANCE_OFFSET = 1.32512
RADIANCE_SCALING_FACTOR = 0.00444442
REFLECTANCE_SCALING_FACTOR = 0.000198445
MEX:REFLECTANCE_OFFSET = 0.0591671
/* IMAGE OBJECT DEFINITIONS */
OBJECT = IMAGE
  INTERCHANGE_FORMAT = BINARY
  LINES = 11487
  LINE_SAMPLES = 3050
  SAMPLE_TYPE = UNSIGNED_INTEGER
  SAMPLE_BITS = 8
  BANDS = 1
  BAND_STORAGE_TYPE = BAND_SEQUENTIAL
  MAXIMUM = 255
  MEAN = 94.4861
  MINIMUM = 1
  STANDARD_DEVIATION = 38.7591
END_OBJECT = IMAGE
/* MAP OBJECT DEFINITIONS */
OBJECT = IMAGE_MAP_PROJECTION
  ^DATA_SET_MAP_PROJECTION_CATALOG= "DSMAP.CAT"
  A_AXIS_RADIUS = 3396.0
  B_AXIS_RADIUS = 3396.0
  C_AXIS_RADIUS = 3396.0
  CENTER_LATITUDE = 0.0
  CENTER_LONGITUDE = 334.0
  COORDINATE_SYSTEM_NAME = PLANETOGRAPHIC
  COORDINATE_SYSTEM_TYPE = "BODY-FIXED ROTATING"
  EASTERNMOST_LONGITUDE = 336.761
  FIRST_STANDARD_PARALLEL = "N/A"
  LINE_FIRST_PIXEL = 1
  LINE_LAST_PIXEL = 11487
  LINE_PROJECTION_OFFSET = 87876.875
  MAP_PROJECTION_ROTATION = 0.0
  MAP_PROJECTION_TYPE = SINUSOIDAL
  MAP_RESOLUTION = 1185.42760773333
  MAP_SCALE = 0.05
  MAXIMUM_LATITUDE = 74.1219
  MINIMUM_LATITUDE = 64.42749999999999
  POSITIVE_LONGITUDE_DIRECTION = EAST
  REFERENCE_LATITUDE = "N/A"
  REFERENCE_LONGITUDE = "N/A"
  SAMPLE_FIRST_PIXEL = 1
  SAMPLE_LAST_PIXEL = 3050
  SAMPLE_PROJECTION_OFFSET = 1648.125
  SECOND_STANDARD_PARALLEL = "N/A"
  WESTERNMOST_LONGITUDE = 329.009
END_OBJECT = IMAGE_MAP_PROJECTION
END
