PDS_VERSION_ID = PDS3
/* FILE DATA ELEMENTS */
RECORD_TYPE = UNDEFINED
/* POINTERS TO DATA OBJECTS */
^IMAGE = ("HI058_0000_ND4.TIF")
/* IDENTIFICATION DATA ELEMENTS */
DATA_SET_ID = "MEX-M-HRSC-4-REFDR-MAPPROJECT-EXT6-V4.0"
DATA_SET_NAME = "MARS EXPRESS HRSC MAP PROJECTED REFDR EXTENSION6 V4.0"
DETECTOR_ID = MEX_HRSC_NADIR
EVENT_TYPE = "MARS-REGIONAL-MAPPING-Gl-Pf-Eo"
INSTRUMENT_HOST_ID = MEX
INSTRUMENT_HOST_NAME = "MARS EXPRESS"
INSTRUMENT_ID = HRSC
INSTRUMENT_NAME = "HIGH RESOLUTION STEREO CAMERA"
MISSION_NAME = "MARS EXPRESS"
MISSION_PHASE_NAME = ME_Phase_38
PROCESSING_LEVEL_ID = 4
PRODUCT_CREATION_TIME = 2023-01-29T08:20:11.000Z
PRODUCT_ID = "HI058_0000_ND4.TIF"
RELEASE_ID = 0004
REVISION_ID = 0000
/* QUALITY DATA ELEMENTS */
DATA_QUALITY_ID = 1
DATA_QUALITY_DESC = "Data calculated based on original SPICE kernels"
/* TIME DATA ELEMENTS */
SPACECRAFT_CLOCK_START_COUNT = "1/0471314298.09053"
SPACECRAFT_CLOCK_STOP_COUNT = "1/0471314496.31409"
START_TIME = 2018-04-09T00:38:58.574Z
STOP_TIME = 2018-04-09T00:41:12.573Z
/* ORBITAL DATA ELEMENTS */
ASCENDING_NODE_LONGITUDE = 235.16
MAXIMUM_RESOLUTION = 0.0155
FOOTPRINT_POINT_LATITUDE = (74.0968,74.0365,73.9638,73.883,73.8804 ,73.8986,73.5242,73.3368,73.1494, 72.9619,72.7743,72.5866,72.3988,72.1169 ,71.8349,71.6468,71.4587,71.2705, 71.0822,70.8938,70.6111,70.4226,70.1397 ,69.7623,69.479,69.1012,68.7232,68.4395 ,68.1557,67.8717,67.493,67.3035,67.114, 66.8296,66.5452,66.3554,66.0707,65.8809 ,65.691,65.501,65.311,65.1209,64.9308, 64.7406,64.5503,64.4552,64.4412,64.4649 ,64.4965,64.5196,64.5557,64.5802, 64.5812,64.582,64.8689,65.0601,65.2513, 65.4426,65.6336,65.8248,66.1114,66.3979 ,66.5889,66.8754,67.0663,67.2572, 67.4481,67.6389,67.8298,68.0206,68.2114 ,68.4975,68.6882,68.879,69.0697,69.2603 ,69.451,69.6416,69.9276,70.1182,70.3088 ,70.4993,70.6899,70.8804,71.0709, 71.2615,71.5472,71.8329,72.1185,72.309, 72.4994,72.785,73.0706,73.2609,73.4512, 73.6416,73.8319,74.0221,74.1173, 74.0968)
FOOTPRINT_POINT_LONGITUDE = (333.755,332.248,330.708,329.225,329.18 ,328.985,329.279,329.421,329.559, 329.694,329.826,329.955,330.081,330.264 ,330.441,330.555,330.667,330.776, 330.884,330.988,331.141,331.24,331.384, 331.57,331.704,331.876,332.042,332.162, 332.279,332.391,332.536,332.607,332.676 ,332.777,332.875,332.939,333.033, 333.094,333.154,333.213,333.271,333.327 ,333.383,333.437,333.491,333.517, 333.521,333.965,334.6,335.108,336.001, 336.705,336.737,336.753,336.7,336.664, 336.628,336.59,336.553,336.515,336.456, 336.396,336.355,336.292,336.249,336.206 ,336.161,336.116,336.07,336.023,335.976 ,335.903,335.853,335.802,335.75,335.697 ,335.644,335.589,335.504,335.447, 335.388,335.328,335.267,335.204,335.14, 335.075,334.974,334.871,334.763,334.69, 334.615,334.499,334.379,334.297,334.212 ,334.126,334.037,333.947,333.9,333.755)
ORBIT_NUMBER = 18058
ORBITAL_ECCENTRICITY = 0.57
ORBITAL_INCLINATION = 86.99
ORBITAL_SEMIMAJOR_AXIS = 8759.93
PERIAPSIS_ALTITUDE = 384.28
PERIAPSIS_ARGUMENT_ANGLE = 107.86
PERIAPSIS_TIME = 2018-04-09T00:39:25.000Z
SPACECRAFT_ORIENTATION = (0.0,-1.0,0.0)
^MEX_ORIENTATION_DESC = "MEX_ORIENTATION_DESC.TXT"
SPACECRAFT_POINTING_MODE = INERT
^MEX_POINTING_DESC = "MEX_POINTING_DESC.TXT"
RIGHT_ASCENSION = 166.327
DECLINATION = -63.198
OFFSET_ANGLE = -1e+32
SPACECRAFT_SOLAR_DISTANCE = 2.27728e+08
TARGET_NAME = MARS
/* CAMERA DATA ELEMENTS */
DETECTOR_TEMPERATURE = 18.3705
FOCAL_PLANE_TEMPERATURE = 8.5833
INST_CMPRS_NAME = "DISCRETE COSINE TRANSFORMATION (DCT)"
INST_CMPRS_RATIO = 6.98047
INST_CMPRS_QUALITY = 0
INST_CMPRS_QUANTZ_TBL_ID = 0
INSTRUMENT_TEMPERATURE = 11.234
LENS_TEMPERATURE = 8.9911
MACROPIXEL_SIZE = 1
MISSING_FRAMES = 0
PIXEL_SUBSAMPLING_FLAG = N
SIGNAL_CHAIN_ID = 0
/* RADIOMETRIC DATA ELEMENTS */
BANDWIDTH = 177.0
CENTER_FILTER_WAVELENGTH = 677.5
RADIANCE_OFFSET = 2.75737
RADIANCE_SCALING_FACTOR = 0.0128838
REFLECTANCE_SCALING_FACTOR = 0.000354946
MEX:REFLECTANCE_OFFSET = 0.0759647
/* IMAGE OBJECT DEFINITIONS */
OBJECT = IMAGE
  INTERCHANGE_FORMAT = BINARY
  LINES = 45948
  LINE_SAMPLES = 12197
  SAMPLE_TYPE = UNSIGNED_INTEGER
  SAMPLE_BITS = 8
  BANDS = 1
  BAND_STORAGE_TYPE = BAND_SEQUENTIAL
  MAXIMUM = 255
  MEAN = 112.791
  MINIMUM = 1
  STANDARD_DEVIATION = 46.1504
END_OBJECT = IMAGE
/* MAP OBJECT DEFINITIONS */
OBJECT = IMAGE_MAP_PROJECTION
  ^DATA_SET_MAP_PROJECTION_CATALOG= "DSMAP.CAT"
  A_AXIS_RADIUS = 3396.0
  B_AXIS_RADIUS = 3396.0
  C_AXIS_RADIUS = 3396.0
  CENTER_LATITUDE = 0.0
  CENTER_LONGITUDE = 334.0
  COORDINATE_SYSTEM_NAME = PLANETOGRAPHIC
  COORDINATE_SYSTEM_TYPE = "BODY-FIXED ROTATING"
  EASTERNMOST_LONGITUDE = 336.753
  FIRST_STANDARD_PARALLEL = "N/A"
  LINE_FIRST_PIXEL = 1
  LINE_LAST_PIXEL = 45948
  LINE_PROJECTION_OFFSET = 351509.0
  MAP_PROJECTION_ROTATION = 0.0
  MAP_PROJECTION_TYPE = SINUSOIDAL
  MAP_RESOLUTION = 4741.71043093333
  MAP_SCALE = 0.0125
  MAXIMUM_LATITUDE = 74.1173
  MINIMUM_LATITUDE = 64.44119999999999
  POSITIVE_LONGITUDE_DIRECTION = EAST
  REFERENCE_LATITUDE = "N/A"
  REFERENCE_LONGITUDE = "N/A"
  SAMPLE_FIRST_PIXEL = 1
  SAMPLE_LAST_PIXEL = 12197
  SAMPLE_PROJECTION_OFFSET = 6594.0
  SECOND_STANDARD_PARALLEL = "N/A"
  WESTERNMOST_LONGITUDE = 328.985
END_OBJECT = IMAGE_MAP_PROJECTION
END
