PDS_VERSION_ID = PDS3
/* FILE DATA ELEMENTS */
RECORD_TYPE = UNDEFINED
/* POINTERS TO DATA OBJECTS */
^IMAGE = ("HI058_0000_RE4.TIF")
/* IDENTIFICATION DATA ELEMENTS */
DATA_SET_ID = "MEX-M-HRSC-4-REFDR-MAPPROJECT-EXT6-V4.0"
DATA_SET_NAME = "MARS EXPRESS HRSC MAP PROJECTED REFDR EXTENSION6 V4.0"
DETECTOR_ID = MEX_HRSC_RED
EVENT_TYPE = "MARS-REGIONAL-MAPPING-Gl-Pf-Eo"
INSTRUMENT_HOST_ID = MEX
INSTRUMENT_HOST_NAME = "MARS EXPRESS"
INSTRUMENT_ID = HRSC
INSTRUMENT_NAME = "HIGH RESOLUTION STEREO CAMERA"
MISSION_NAME = "MARS EXPRESS"
MISSION_PHASE_NAME = ME_Phase_38
PROCESSING_LEVEL_ID = 4
PRODUCT_CREATION_TIME = 2023-01-29T08:20:11.000Z
PRODUCT_ID = "HI058_0000_RE4.TIF"
RELEASE_ID = 0004
REVISION_ID = 0000
/* QUALITY DATA ELEMENTS */
DATA_QUALITY_ID = 1
DATA_QUALITY_DESC = "Data calculated based on original SPICE kernels"
/* TIME DATA ELEMENTS */
SPACECRAFT_CLOCK_START_COUNT = "1/0471314298.09053"
SPACECRAFT_CLOCK_STOP_COUNT = "1/0471314496.31409"
START_TIME = 2018-04-09T00:39:25.091Z
STOP_TIME = 2018-04-09T00:41:38.951Z
/* ORBITAL DATA ELEMENTS */
ASCENDING_NODE_LONGITUDE = 235.16
MAXIMUM_RESOLUTION = 0.0648
FOOTPRINT_POINT_LATITUDE = (74.0087,73.9629,73.9253,73.891,73.7966 ,73.7942,73.9175,73.5418,73.3538, 73.1659,72.9781,72.6962,72.5083,72.3201 ,72.1323,71.9444,71.7566,71.5687, 71.3809,71.0991,70.8173,70.5357,70.3478 ,70.0662,69.8788,69.6915,69.5042, 69.3166,69.0355,68.7542,68.5666,68.3791 ,68.1917,68.0045,67.8172,67.63,67.4428, 67.2556,66.9748,66.7878,66.6006,66.2267 ,65.8527,65.5724,65.2921,65.012,64.6385 ,64.5451,64.4584,64.4887,64.526,64.55, 64.572,64.5942,64.5952,64.5966,65.0661, 65.4416,65.6298,66.0059,66.1941,66.3822 ,66.5705,66.7588,66.9471,67.1356,67.324 ,67.5125,67.7011,67.9841,68.2675, 68.4564,68.6453,68.9288,69.118,69.3071, 69.4963,69.6856,69.9698,70.2541,70.4437 ,70.7284,70.9182,71.1081,71.2981, 71.4879,71.6776,71.8683,72.1536,72.3441 ,72.5346,72.7252,72.9157,73.1066, 73.2974,73.4883,73.6793,73.9658,74.0613 ,74.0087)
FOOTPRINT_POINT_LONGITUDE = (333.864,332.69,331.825,331.093,329.296 ,329.253,328.988,329.284,329.426, 329.565,329.701,329.898,330.025,330.15, 330.271,330.39,330.506,330.619,330.729, 330.891,331.047,331.198,331.296,331.438 ,331.53,331.62,331.709,331.795,331.922, 332.045,332.125,332.203,332.28,332.355, 332.428,332.5,332.571,332.64,332.741, 332.807,332.872,332.998,333.118,333.206 ,333.292,333.374,333.481,333.508, 333.532,334.121,334.919,335.482,336.047 ,336.672,336.702,336.712,336.628, 336.559,336.523,336.451,336.413,336.375 ,336.336,336.297,336.257,336.216, 336.174,336.132,336.089,336.023,335.955 ,335.908,335.861,335.788,335.739, 335.688,335.636,335.583,335.503,335.419 ,335.362,335.274,335.214,335.152,335.09 ,335.025,334.959,334.893,334.789, 334.718,334.646,334.571,334.495,334.417 ,334.338,334.256,334.172,334.043, 333.998,333.864)
ORBIT_NUMBER = 18058
ORBITAL_ECCENTRICITY = 0.57
ORBITAL_INCLINATION = 86.99
ORBITAL_SEMIMAJOR_AXIS = 8759.93
PERIAPSIS_ALTITUDE = 384.28
PERIAPSIS_ARGUMENT_ANGLE = 107.86
PERIAPSIS_TIME = 2018-04-09T00:39:25.000Z
SPACECRAFT_ORIENTATION = (0.0,-1.0,0.0)
^MEX_ORIENTATION_DESC = "MEX_ORIENTATION_DESC.TXT"
SPACECRAFT_POINTING_MODE = INERT
^MEX_POINTING_DESC = "MEX_POINTING_DESC.TXT"
RIGHT_ASCENSION = 166.327
DECLINATION = -63.198
OFFSET_ANGLE = -1e+32
SPACECRAFT_SOLAR_DISTANCE = 2.27728e+08
TARGET_NAME = MARS
/* CAMERA DATA ELEMENTS */
DETECTOR_TEMPERATURE = 19.1861
FOCAL_PLANE_TEMPERATURE = 8.5833
INST_CMPRS_NAME = "DISCRETE COSINE TRANSFORMATION (DCT)"
INST_CMPRS_RATIO = 36.5185
INST_CMPRS_QUALITY = 0
INST_CMPRS_QUANTZ_TBL_ID = 0
INSTRUMENT_TEMPERATURE = 11.234
LENS_TEMPERATURE = 8.9911
MACROPIXEL_SIZE = 4
MISSING_FRAMES = 0
PIXEL_SUBSAMPLING_FLAG = N
SIGNAL_CHAIN_ID = 2
/* RADIOMETRIC DATA ELEMENTS */
BANDWIDTH = 48.0
CENTER_FILTER_WAVELENGTH = 748.0
RADIANCE_OFFSET = 0.843024
RADIANCE_SCALING_FACTOR = 0.00305167
REFLECTANCE_SCALING_FACTOR = 0.00036116
MEX:REFLECTANCE_OFFSET = 0.0997703
/* IMAGE OBJECT DEFINITIONS */
OBJECT = IMAGE
  INTERCHANGE_FORMAT = BINARY
  LINES = 11487
  LINE_SAMPLES = 3050
  SAMPLE_TYPE = UNSIGNED_INTEGER
  SAMPLE_BITS = 8
  BANDS = 1
  BAND_STORAGE_TYPE = BAND_SEQUENTIAL
  MAXIMUM = 255
  MEAN = 116.243
  MINIMUM = 1
  STANDARD_DEVIATION = 55.386
END_OBJECT = IMAGE
/* MAP OBJECT DEFINITIONS */
OBJECT = IMAGE_MAP_PROJECTION
  ^DATA_SET_MAP_PROJECTION_CATALOG= "DSMAP.CAT"
  A_AXIS_RADIUS = 3396.0
  B_AXIS_RADIUS = 3396.0
  C_AXIS_RADIUS = 3396.0
  CENTER_LATITUDE = 0.0
  CENTER_LONGITUDE = 334.0
  COORDINATE_SYSTEM_NAME = PLANETOGRAPHIC
  COORDINATE_SYSTEM_TYPE = "BODY-FIXED ROTATING"
  EASTERNMOST_LONGITUDE = 336.712
  FIRST_STANDARD_PARALLEL = "N/A"
  LINE_FIRST_PIXEL = 1
  LINE_LAST_PIXEL = 11487
  LINE_PROJECTION_OFFSET = 87876.875
  MAP_PROJECTION_ROTATION = 0.0
  MAP_PROJECTION_TYPE = SINUSOIDAL
  MAP_RESOLUTION = 1185.42760773333
  MAP_SCALE = 0.05
  MAXIMUM_LATITUDE = 74.0613
  MINIMUM_LATITUDE = 64.4584
  POSITIVE_LONGITUDE_DIRECTION = EAST
  REFERENCE_LATITUDE = "N/A"
  REFERENCE_LONGITUDE = "N/A"
  SAMPLE_FIRST_PIXEL = 1
  SAMPLE_LAST_PIXEL = 3050
  SAMPLE_PROJECTION_OFFSET = 1648.125
  SECOND_STANDARD_PARALLEL = "N/A"
  WESTERNMOST_LONGITUDE = 328.988
END_OBJECT = IMAGE_MAP_PROJECTION
END
