PDS_VERSION_ID = PDS3
/* FILE DATA ELEMENTS */
RECORD_TYPE = UNDEFINED
/* POINTERS TO DATA OBJECTS */
^IMAGE = ("HI059_0000_ND4.TIF")
/* IDENTIFICATION DATA ELEMENTS */
DATA_SET_ID = "MEX-M-HRSC-4-REFDR-MAPPROJECT-EXT6-V4.0"
DATA_SET_NAME = "MARS EXPRESS HRSC MAP PROJECTED REFDR EXTENSION6 V4.0"
DETECTOR_ID = MEX_HRSC_NADIR
EVENT_TYPE = "MARS-LOCAL-CARTOGRAPHY-Pf-Ot"
INSTRUMENT_HOST_ID = MEX
INSTRUMENT_HOST_NAME = "MARS EXPRESS"
INSTRUMENT_ID = HRSC
INSTRUMENT_NAME = "HIGH RESOLUTION STEREO CAMERA"
MISSION_NAME = "MARS EXPRESS"
MISSION_PHASE_NAME = ME_Phase_38
PROCESSING_LEVEL_ID = 4
PRODUCT_CREATION_TIME = 2023-01-29T08:20:11.000Z
PRODUCT_ID = "HI059_0000_ND4.TIF"
RELEASE_ID = 0004
REVISION_ID = 0000
/* QUALITY DATA ELEMENTS */
DATA_QUALITY_ID = 1
DATA_QUALITY_DESC = "Data calculated based on original SPICE kernels"
/* TIME DATA ELEMENTS */
SPACECRAFT_CLOCK_START_COUNT = "1/0471339441.07302"
SPACECRAFT_CLOCK_STOP_COUNT = "1/0471339628.33010"
START_TIME = 2018-04-09T07:38:06.167Z
STOP_TIME = 2018-04-09T07:39:59.168Z
/* ORBITAL DATA ELEMENTS */
ASCENDING_NODE_LONGITUDE = 235.14
MAXIMUM_RESOLUTION = 0.0155
FOOTPRINT_POINT_LATITUDE = (73.2202,73.1969,73.1757,73.1523, 73.1267,73.099,73.0693,73.0674,73.07, 72.8551,72.6401,72.4967,72.3533,72.2098 ,72.0663,71.9227,71.7792,71.6356, 71.4919,71.2765,71.1328,70.9172,70.7735 ,70.6297,70.4859,70.3422,70.1983, 70.0545,69.9107,69.7668,69.623,69.4791, 69.3352,69.0474,68.7597,68.4719,68.1841 ,67.8963,67.6086,67.3208,67.0331, 66.8153,66.5276,66.24,65.9525,65.8806, 65.8751,65.8954,65.9141,65.9341,65.949, 65.9651,65.9739,65.9746,65.9751,66.2643 ,66.5536,66.843,66.9878,67.207,67.3517, 67.4966,67.6414,67.7862,67.9311,68.076, 68.2209,68.3658,68.5107,68.6557,68.8007 ,68.9456,69.0906,69.2356,69.3805, 69.5255,69.6706,69.8156,69.9606,70.1057 ,70.2507,70.4684,70.6134,70.7585, 70.9036,71.1212,71.2663,71.4839,71.7015 ,71.8465,71.9916,72.1367,72.2817, 72.4993,72.6444,72.7894,72.9345,73.1519 ,73.2244,73.2202)
FOOTPRINT_POINT_LONGITUDE = (234.899,233.99,233.274,232.566,231.868 ,231.179,230.497,230.454,230.467,230.58 ,230.691,230.762,230.833,230.902,230.97 ,231.037,231.102,231.167,231.23,231.322 ,231.383,231.471,231.529,231.586, 231.642,231.697,231.75,231.803,231.855, 231.907,231.957,232.006,232.055,232.15, 232.242,232.33,232.416,232.499,232.58, 232.658,232.733,232.789,232.86,232.929, 232.996,233.012,233.013,233.54,234.072, 234.712,235.257,235.947,236.401,236.436 ,236.453,236.42,236.386,236.351,236.334 ,236.306,236.287,236.269,236.25,236.23, 236.211,236.191,236.169,236.151,236.129 ,236.107,236.087,236.066,236.044, 236.021,235.995,235.971,235.947,235.923 ,235.898,235.873,235.848,235.812, 235.786,235.759,235.732,235.691,235.662 ,235.62,235.573,235.543,235.513,235.481 ,235.449,235.402,235.369,235.335, 235.301,235.247,235.227,234.899)
ORBIT_NUMBER = 18059
ORBITAL_ECCENTRICITY = 0.571
ORBITAL_INCLINATION = 86.99
ORBITAL_SEMIMAJOR_AXIS = 8759.07
PERIAPSIS_ALTITUDE = 383.5
PERIAPSIS_ARGUMENT_ANGLE = 107.68
PERIAPSIS_TIME = 2018-04-09T07:38:21.000Z
SPACECRAFT_ORIENTATION = (0.0,-1.0,0.0)
^MEX_ORIENTATION_DESC = "MEX_ORIENTATION_DESC.TXT"
SPACECRAFT_POINTING_MODE = ACROSSTRACK
^MEX_POINTING_DESC = "MEX_POINTING_DESC.TXT"
RIGHT_ASCENSION = -1e+32
DECLINATION = -1e+32
OFFSET_ANGLE = 0.79
SPACECRAFT_SOLAR_DISTANCE = 2.27672e+08
TARGET_NAME = MARS
/* CAMERA DATA ELEMENTS */
DETECTOR_TEMPERATURE = 18.3705
FOCAL_PLANE_TEMPERATURE = 8.1755
INST_CMPRS_NAME = "DISCRETE COSINE TRANSFORMATION (DCT)"
INST_CMPRS_RATIO = 7.34263
INST_CMPRS_QUALITY = 0
INST_CMPRS_QUANTZ_TBL_ID = 0
INSTRUMENT_TEMPERATURE = 11.0301
LENS_TEMPERATURE = 8.7872
MACROPIXEL_SIZE = 1
MISSING_FRAMES = 0
MISSING_FRAMES = 1
PIXEL_SUBSAMPLING_FLAG = N
SIGNAL_CHAIN_ID = 0
/* RADIOMETRIC DATA ELEMENTS */
BANDWIDTH = 177.0
CENTER_FILTER_WAVELENGTH = 677.5
RADIANCE_OFFSET = 3.63738
RADIANCE_SCALING_FACTOR = 0.00851252
REFLECTANCE_SCALING_FACTOR = 0.000234402
MEX:REFLECTANCE_OFFSET = 0.100159
/* IMAGE OBJECT DEFINITIONS */
OBJECT = IMAGE
  INTERCHANGE_FORMAT = BINARY
  LINES = 34875
  LINE_SAMPLES = 9613
  SAMPLE_TYPE = UNSIGNED_INTEGER
  SAMPLE_BITS = 8
  BANDS = 1
  BAND_STORAGE_TYPE = BAND_SEQUENTIAL
  MAXIMUM = 255
  MEAN = 125.561
  MINIMUM = 1
  STANDARD_DEVIATION = 26.8958
END_OBJECT = IMAGE
/* MAP OBJECT DEFINITIONS */
OBJECT = IMAGE_MAP_PROJECTION
  ^DATA_SET_MAP_PROJECTION_CATALOG= "DSMAP.CAT"
  A_AXIS_RADIUS = 3396.0
  B_AXIS_RADIUS = 3396.0
  C_AXIS_RADIUS = 3396.0
  CENTER_LATITUDE = 0.0
  CENTER_LONGITUDE = 234.0
  COORDINATE_SYSTEM_NAME = PLANETOGRAPHIC
  COORDINATE_SYSTEM_TYPE = "BODY-FIXED ROTATING"
  EASTERNMOST_LONGITUDE = 236.453
  FIRST_STANDARD_PARALLEL = "N/A"
  LINE_FIRST_PIXEL = 1
  LINE_LAST_PIXEL = 34875
  LINE_PROJECTION_OFFSET = 347235.0
  MAP_PROJECTION_ROTATION = 0.0
  MAP_PROJECTION_TYPE = SINUSOIDAL
  MAP_RESOLUTION = 4741.71043093333
  MAP_SCALE = 0.0125
  MAXIMUM_LATITUDE = 73.2244
  MINIMUM_LATITUDE = 65.8751
  POSITIVE_LONGITUDE_DIRECTION = EAST
  REFERENCE_LATITUDE = "N/A"
  REFERENCE_LONGITUDE = "N/A"
  SAMPLE_FIRST_PIXEL = 1
  SAMPLE_LAST_PIXEL = 9613
  SAMPLE_PROJECTION_OFFSET = 4878.0
  SECOND_STANDARD_PARALLEL = "N/A"
  WESTERNMOST_LONGITUDE = 230.454
END_OBJECT = IMAGE_MAP_PROJECTION
END
