PDS_VERSION_ID = PDS3
/* FILE DATA ELEMENTS */
RECORD_TYPE = UNDEFINED
/* POINTERS TO DATA OBJECTS */
^IMAGE = ("HI059_0000_P14.TIF")
/* IDENTIFICATION DATA ELEMENTS */
DATA_SET_ID = "MEX-M-HRSC-4-REFDR-MAPPROJECT-EXT6-V4.0"
DATA_SET_NAME = "MARS EXPRESS HRSC MAP PROJECTED REFDR EXTENSION6 V4.0"
DETECTOR_ID = MEX_HRSC_P1
EVENT_TYPE = "MARS-LOCAL-CARTOGRAPHY-Pf-Ot"
INSTRUMENT_HOST_ID = MEX
INSTRUMENT_HOST_NAME = "MARS EXPRESS"
INSTRUMENT_ID = HRSC
INSTRUMENT_NAME = "HIGH RESOLUTION STEREO CAMERA"
MISSION_NAME = "MARS EXPRESS"
MISSION_PHASE_NAME = ME_Phase_38
PROCESSING_LEVEL_ID = 4
PRODUCT_CREATION_TIME = 2023-01-29T08:20:11.000Z
PRODUCT_ID = "HI059_0000_P14.TIF"
RELEASE_ID = 0004
REVISION_ID = 0000
/* QUALITY DATA ELEMENTS */
DATA_QUALITY_ID = 1
DATA_QUALITY_DESC = "Data calculated based on original SPICE kernels"
/* TIME DATA ELEMENTS */
SPACECRAFT_CLOCK_START_COUNT = "1/0471339441.07302"
SPACECRAFT_CLOCK_STOP_COUNT = "1/0471339628.33010"
START_TIME = 2018-04-09T07:37:43.052Z
STOP_TIME = 2018-04-09T07:39:35.829Z
/* ORBITAL DATA ELEMENTS */
ASCENDING_NODE_LONGITUDE = 235.14
MAXIMUM_RESOLUTION = 0.0317
FOOTPRINT_POINT_LATITUDE = (73.2703,73.2538,73.239,73.2217,73.2021 ,73.1802,73.1561,73.1545,73.0687, 72.8561,72.5017,72.147,71.9343,71.6501, 71.5078,71.2235,70.9388,70.7963,70.6536 ,70.5109,70.3682,70.1542,70.0115, 69.8686,69.7255,69.5111,69.2256,68.9395 ,68.7956,68.652,68.5088,68.3656,68.2222 ,68.0786,67.8633,67.7199,67.5049, 67.3615,67.2176,67.0021,66.8586,66.7149 ,66.4994,66.3554,66.2115,65.9957, 65.9238,65.8802,65.8942,65.9072,65.9144 ,65.9234,65.9319,65.9377,65.9378, 65.9384,66.1554,66.3725,66.5172,66.6619 ,66.8066,66.9512,67.1681,67.3128, 67.4574,67.6017,67.7464,67.8909,68.0355 ,68.1802,68.3965,68.6133,68.8294, 68.9737,69.1901,69.335,69.552,69.6962, 69.8402,69.9845,70.1287,70.2723,70.4161 ,70.5598,70.7036,70.8473,70.9912,71.207 ,71.351,71.565,71.7101,71.8536,72.0688, 72.2124,72.4269,72.6419,72.9282,73.0717 ,73.1433,73.2703)
FOOTPRINT_POINT_LONGITUDE = (234.913,233.922,233.211,232.509, 231.815,231.13,230.452,230.41,230.477, 230.59,230.772,230.945,231.045,231.175, 231.238,231.36,231.479,231.537,231.594, 231.65,231.705,231.785,231.838,231.89, 231.941,232.016,232.112,232.206,232.252 ,232.297,232.342,232.385,232.428,232.47 ,232.533,232.573,232.632,232.671,232.71 ,232.766,232.803,232.84,232.893,232.928 ,232.962,233.013,233.03,233.04,233.553, 234.106,234.467,234.996,235.666,236.413 ,236.448,236.46,236.436,236.412,236.395 ,236.378,236.361,236.344,236.317, 236.299,236.281,236.263,236.244,236.225 ,236.205,236.185,236.156,236.125, 236.095,236.073,236.041,236.017,235.98, 235.957,235.934,235.91,235.885,235.862, 235.838,235.813,235.788,235.762,235.735 ,235.694,235.666,235.629,235.594, 235.565,235.521,235.489,235.445,235.397 ,235.331,235.296,235.278,234.913)
ORBIT_NUMBER = 18059
ORBITAL_ECCENTRICITY = 0.571
ORBITAL_INCLINATION = 86.99
ORBITAL_SEMIMAJOR_AXIS = 8759.07
PERIAPSIS_ALTITUDE = 383.5
PERIAPSIS_ARGUMENT_ANGLE = 107.68
PERIAPSIS_TIME = 2018-04-09T07:38:21.000Z
SPACECRAFT_ORIENTATION = (0.0,-1.0,0.0)
^MEX_ORIENTATION_DESC = "MEX_ORIENTATION_DESC.TXT"
SPACECRAFT_POINTING_MODE = ACROSSTRACK
^MEX_POINTING_DESC = "MEX_POINTING_DESC.TXT"
RIGHT_ASCENSION = -1e+32
DECLINATION = -1e+32
OFFSET_ANGLE = 0.79
SPACECRAFT_SOLAR_DISTANCE = 2.27672e+08
TARGET_NAME = MARS
/* CAMERA DATA ELEMENTS */
DETECTOR_TEMPERATURE = 17.5549
FOCAL_PLANE_TEMPERATURE = 8.1755
INST_CMPRS_NAME = "DISCRETE COSINE TRANSFORMATION (DCT)"
INST_CMPRS_RATIO = 16.9979
INST_CMPRS_QUALITY = 0
INST_CMPRS_QUANTZ_TBL_ID = 0
INSTRUMENT_TEMPERATURE = 11.0301
LENS_TEMPERATURE = 8.7872
MACROPIXEL_SIZE = 2
MISSING_FRAMES = 0
PIXEL_SUBSAMPLING_FLAG = N
SIGNAL_CHAIN_ID = 3
/* RADIOMETRIC DATA ELEMENTS */
BANDWIDTH = 174.0
CENTER_FILTER_WAVELENGTH = 675.0
RADIANCE_OFFSET = 4.02561
RADIANCE_SCALING_FACTOR = 0.00798845
REFLECTANCE_SCALING_FACTOR = 0.000222724
MEX:REFLECTANCE_OFFSET = 0.112237
/* IMAGE OBJECT DEFINITIONS */
OBJECT = IMAGE
  INTERCHANGE_FORMAT = BINARY
  LINES = 17438
  LINE_SAMPLES = 4807
  SAMPLE_TYPE = UNSIGNED_INTEGER
  SAMPLE_BITS = 8
  BANDS = 1
  BAND_STORAGE_TYPE = BAND_SEQUENTIAL
  MAXIMUM = 255
  MEAN = 118.606
  MINIMUM = 1
  STANDARD_DEVIATION = 27.8412
END_OBJECT = IMAGE
/* MAP OBJECT DEFINITIONS */
OBJECT = IMAGE_MAP_PROJECTION
  ^DATA_SET_MAP_PROJECTION_CATALOG= "DSMAP.CAT"
  A_AXIS_RADIUS = 3396.0
  B_AXIS_RADIUS = 3396.0
  C_AXIS_RADIUS = 3396.0
  CENTER_LATITUDE = 0.0
  CENTER_LONGITUDE = 234.0
  COORDINATE_SYSTEM_NAME = PLANETOGRAPHIC
  COORDINATE_SYSTEM_TYPE = "BODY-FIXED ROTATING"
  EASTERNMOST_LONGITUDE = 236.46
  FIRST_STANDARD_PARALLEL = "N/A"
  LINE_FIRST_PIXEL = 1
  LINE_LAST_PIXEL = 17438
  LINE_PROJECTION_OFFSET = 173617.25
  MAP_PROJECTION_ROTATION = 0.0
  MAP_PROJECTION_TYPE = SINUSOIDAL
  MAP_RESOLUTION = 2370.85521546667
  MAP_SCALE = 0.025
  MAXIMUM_LATITUDE = 73.27030000000001
  MINIMUM_LATITUDE = 65.8802
  POSITIVE_LONGITUDE_DIRECTION = EAST
  REFERENCE_LATITUDE = "N/A"
  REFERENCE_LONGITUDE = "N/A"
  SAMPLE_FIRST_PIXEL = 1
  SAMPLE_LAST_PIXEL = 4807
  SAMPLE_PROJECTION_OFFSET = 2438.75
  SECOND_STANDARD_PARALLEL = "N/A"
  WESTERNMOST_LONGITUDE = 230.41
END_OBJECT = IMAGE_MAP_PROJECTION
END
