PDS_VERSION_ID = PDS3
/* FILE DATA ELEMENTS */
RECORD_TYPE = UNDEFINED
/* POINTERS TO DATA OBJECTS */
^IMAGE = ("HI059_0000_S24.TIF")
/* IDENTIFICATION DATA ELEMENTS */
DATA_SET_ID = "MEX-M-HRSC-4-REFDR-MAPPROJECT-EXT6-V4.0"
DATA_SET_NAME = "MARS EXPRESS HRSC MAP PROJECTED REFDR EXTENSION6 V4.0"
DETECTOR_ID = MEX_HRSC_S2
EVENT_TYPE = "MARS-LOCAL-CARTOGRAPHY-Pf-Ot"
INSTRUMENT_HOST_ID = MEX
INSTRUMENT_HOST_NAME = "MARS EXPRESS"
INSTRUMENT_ID = HRSC
INSTRUMENT_NAME = "HIGH RESOLUTION STEREO CAMERA"
MISSION_NAME = "MARS EXPRESS"
MISSION_PHASE_NAME = ME_Phase_38
PROCESSING_LEVEL_ID = 4
PRODUCT_CREATION_TIME = 2023-01-29T08:20:11.000Z
PRODUCT_ID = "HI059_0000_S24.TIF"
RELEASE_ID = 0004
REVISION_ID = 0000
/* QUALITY DATA ELEMENTS */
DATA_QUALITY_ID = 1
DATA_QUALITY_DESC = "Data calculated based on original SPICE kernels"
/* TIME DATA ELEMENTS */
SPACECRAFT_CLOCK_START_COUNT = "1/0471339441.07302"
SPACECRAFT_CLOCK_STOP_COUNT = "1/0471339628.33010"
START_TIME = 2018-04-09T07:38:41.562Z
STOP_TIME = 2018-04-09T07:40:36.047Z
/* ORBITAL DATA ELEMENTS */
ASCENDING_NODE_LONGITUDE = 235.14
MAXIMUM_RESOLUTION = 0.0165
FOOTPRINT_POINT_LATITUDE = (73.1341,73.098,73.067,73.0342,72.9996, 72.9634,72.9254,72.923,73.0614,72.9167, 72.7723,72.6275,72.4101,72.193,72.0474, 71.9025,71.7573,71.6128,71.4678,71.3231 ,71.1782,71.0334,70.8164,70.5998, 70.4554,70.311,70.1664,70.0218,69.8056, 69.5897,69.4454,69.3005,69.1555,69.0113 ,68.7254,68.5816,68.3661,68.2223, 68.0789,67.7924,67.6484,67.5049,67.3615 ,67.0759,66.7893,66.5035,66.2895, 65.9334,65.8621,65.8606,65.8903,65.9188 ,65.9456,65.9742,65.9894,66.0045, 66.0234,66.0248,66.0256,66.3125,66.5994 ,66.8867,67.2463,67.3904,67.5346, 67.7507,67.8951,68.0393,68.1837,68.4003 ,68.5446,68.6902,68.8353,68.9803, 69.1252,69.2701,69.5584,69.7762,69.9216 ,70.0667,70.2127,70.3588,70.5778, 70.7239,70.87,71.0158,71.2345,71.3801, 71.5292,71.819,71.9662,72.1119,72.3329, 72.5526,72.7727,72.9198,73.0661,73.212, 73.2848,73.1341)
FOOTPRINT_POINT_LONGITUDE = (234.976,234.067,233.35,232.643,231.947 ,231.259,230.58,230.537,230.479,230.555 ,230.629,230.702,230.809,230.913, 230.981,231.047,231.112,231.176,231.238 ,231.3,231.36,231.42,231.507,231.591, 231.646,231.7,231.754,231.806,231.882, 231.957,232.006,232.054,232.101,232.147 ,232.237,232.281,232.345,232.387, 232.429,232.509,232.549,232.587,232.625 ,232.7,232.771,232.841,232.892,232.973, 232.989,232.99,233.529,234.076,234.627, 235.256,235.61,235.966,236.468,236.504, 236.521,236.488,236.454,236.419,236.373 ,236.355,236.336,236.307,236.287, 236.267,236.246,236.215,236.193,236.173 ,236.151,236.129,236.107,236.084, 236.033,235.997,235.972,235.946,235.922 ,235.897,235.858,235.831,235.804, 235.776,235.733,235.703,235.678,235.612 ,235.583,235.549,235.503,235.452, 235.401,235.366,235.329,235.291,235.271 ,234.976)
ORBIT_NUMBER = 18059
ORBITAL_ECCENTRICITY = 0.571
ORBITAL_INCLINATION = 86.99
ORBITAL_SEMIMAJOR_AXIS = 8759.07
PERIAPSIS_ALTITUDE = 383.5
PERIAPSIS_ARGUMENT_ANGLE = 107.68
PERIAPSIS_TIME = 2018-04-09T07:38:21.000Z
SPACECRAFT_ORIENTATION = (0.0,-1.0,0.0)
^MEX_ORIENTATION_DESC = "MEX_ORIENTATION_DESC.TXT"
SPACECRAFT_POINTING_MODE = ACROSSTRACK
^MEX_POINTING_DESC = "MEX_POINTING_DESC.TXT"
RIGHT_ASCENSION = -1e+32
DECLINATION = -1e+32
OFFSET_ANGLE = 0.79
SPACECRAFT_SOLAR_DISTANCE = 2.27672e+08
TARGET_NAME = MARS
/* CAMERA DATA ELEMENTS */
DETECTOR_TEMPERATURE = 18.3705
FOCAL_PLANE_TEMPERATURE = 8.1755
INST_CMPRS_NAME = "DISCRETE COSINE TRANSFORMATION (DCT)"
INST_CMPRS_RATIO = 9.29022
INST_CMPRS_QUALITY = 0
INST_CMPRS_QUANTZ_TBL_ID = 0
INSTRUMENT_TEMPERATURE = 11.0301
LENS_TEMPERATURE = 8.7872
MACROPIXEL_SIZE = 1
MISSING_FRAMES = 0
PIXEL_SUBSAMPLING_FLAG = N
SIGNAL_CHAIN_ID = 1
/* RADIOMETRIC DATA ELEMENTS */
BANDWIDTH = 178.0
CENTER_FILTER_WAVELENGTH = 679.0
RADIANCE_OFFSET = 4.12125
RADIANCE_SCALING_FACTOR = 0.00875429
REFLECTANCE_SCALING_FACTOR = 0.000240309
MEX:REFLECTANCE_OFFSET = 0.11313
/* IMAGE OBJECT DEFINITIONS */
OBJECT = IMAGE
  INTERCHANGE_FORMAT = BINARY
  LINES = 34875
  LINE_SAMPLES = 9613
  SAMPLE_TYPE = UNSIGNED_INTEGER
  SAMPLE_BITS = 8
  BANDS = 1
  BAND_STORAGE_TYPE = BAND_SEQUENTIAL
  MAXIMUM = 255
  MEAN = 143.825
  MINIMUM = 4
  STANDARD_DEVIATION = 26.1459
END_OBJECT = IMAGE
/* MAP OBJECT DEFINITIONS */
OBJECT = IMAGE_MAP_PROJECTION
  ^DATA_SET_MAP_PROJECTION_CATALOG= "DSMAP.CAT"
  A_AXIS_RADIUS = 3396.0
  B_AXIS_RADIUS = 3396.0
  C_AXIS_RADIUS = 3396.0
  CENTER_LATITUDE = 0.0
  CENTER_LONGITUDE = 234.0
  COORDINATE_SYSTEM_NAME = PLANETOGRAPHIC
  COORDINATE_SYSTEM_TYPE = "BODY-FIXED ROTATING"
  EASTERNMOST_LONGITUDE = 236.521
  FIRST_STANDARD_PARALLEL = "N/A"
  LINE_FIRST_PIXEL = 1
  LINE_LAST_PIXEL = 34875
  LINE_PROJECTION_OFFSET = 347235.0
  MAP_PROJECTION_ROTATION = 0.0
  MAP_PROJECTION_TYPE = SINUSOIDAL
  MAP_RESOLUTION = 4741.71043093333
  MAP_SCALE = 0.0125
  MAXIMUM_LATITUDE = 73.2848
  MINIMUM_LATITUDE = 65.86060000000001
  POSITIVE_LONGITUDE_DIRECTION = EAST
  REFERENCE_LATITUDE = "N/A"
  REFERENCE_LONGITUDE = "N/A"
  SAMPLE_FIRST_PIXEL = 1
  SAMPLE_LAST_PIXEL = 9613
  SAMPLE_PROJECTION_OFFSET = 4878.0
  SECOND_STANDARD_PARALLEL = "N/A"
  WESTERNMOST_LONGITUDE = 230.479
END_OBJECT = IMAGE_MAP_PROJECTION
END
