PDS_VERSION_ID = PDS3
/* FILE DATA ELEMENTS */
RECORD_TYPE = UNDEFINED
/* POINTERS TO DATA OBJECTS */
^IMAGE = ("HI060_0000_GR4.TIF")
/* IDENTIFICATION DATA ELEMENTS */
DATA_SET_ID = "MEX-M-HRSC-4-REFDR-MAPPROJECT-EXT6-V4.0"
DATA_SET_NAME = "MARS EXPRESS HRSC MAP PROJECTED REFDR EXTENSION6 V4.0"
DETECTOR_ID = MEX_HRSC_GREEN
EVENT_TYPE = "MARS-REGIONAL-MAPPING-Im-Pf-Eo"
INSTRUMENT_HOST_ID = MEX
INSTRUMENT_HOST_NAME = "MARS EXPRESS"
INSTRUMENT_ID = HRSC
INSTRUMENT_NAME = "HIGH RESOLUTION STEREO CAMERA"
MISSION_NAME = "MARS EXPRESS"
MISSION_PHASE_NAME = ME_Phase_38
PROCESSING_LEVEL_ID = 4
PRODUCT_CREATION_TIME = 2023-01-29T08:20:11.000Z
PRODUCT_ID = "HI060_0000_GR4.TIF"
RELEASE_ID = 0004
REVISION_ID = 0000
/* QUALITY DATA ELEMENTS */
DATA_QUALITY_ID = 1
DATA_QUALITY_DESC = "Data calculated based on original SPICE kernels"
/* TIME DATA ELEMENTS */
SPACECRAFT_CLOCK_START_COUNT = "1/0471364634.09051"
SPACECRAFT_CLOCK_STOP_COUNT = "1/0471364922.62843"
START_TIME = 2018-04-09T14:37:52.931Z
STOP_TIME = 2018-04-09T14:41:21.101Z
/* ORBITAL DATA ELEMENTS */
ASCENDING_NODE_LONGITUDE = 235.13
MAXIMUM_RESOLUTION = 0.0621
FOOTPRINT_POINT_LATITUDE = (70.0093,69.9444,69.8951,69.8257, 69.8236,69.7934,69.5345,69.1458,68.7569 ,68.3678,68.1083,67.7188,67.459,67.1992 ,66.9314,66.6715,66.4116,66.1517, 65.8918,65.6319,65.3712,65.112,64.8518, 64.5918,64.3318,64.0719,63.8119,63.552, 63.0323,62.5128,61.9936,61.4747,60.9561 ,60.4382,59.9202,59.5247,59.2592, 58.9938,58.7286,58.4634,58.1985,57.9336 ,57.6631,57.3916,57.1203,56.8493, 56.7138,56.6492,56.6869,56.7077,56.7338 ,56.7526,56.7533,56.7546,57.0268, 57.2991,57.5717,57.8444,58.1144,58.3805 ,58.6469,58.9133,59.18,59.4468,59.7137, 59.9792,60.4997,61.0208,61.5423,62.0643 ,62.3254,62.5866,62.848,63.1094,63.3708 ,63.6327,63.8941,64.1558,64.4177, 64.6796,64.9414,65.2034,65.4654,65.7275 ,65.9896,66.2517,66.5139,66.9071, 67.3085,67.5707,67.8329,68.0951,68.3573 ,68.7506,69.0128,69.2749,69.537,69.7991 ,69.9301,70.0093)
FOOTPRINT_POINT_LONGITUDE = (130.387,128.909,127.947,126.743, 126.708,126.56,126.691,126.881,127.063, 127.237,127.349,127.512,127.616,127.718 ,127.82,127.917,128.01,128.102,128.191, 128.278,128.36,128.446,128.525,128.603, 128.679,128.753,128.826,128.896,129.032 ,129.161,129.283,129.4,129.512,129.619, 129.719,129.792,129.84,129.887,129.933, 129.977,130.021,130.063,130.105,130.146 ,130.187,130.226,130.245,130.254, 131.076,131.589,132.331,132.969,132.995 ,133.003,132.974,132.944,132.914, 132.883,132.851,132.82,132.787,132.754, 132.721,132.686,132.651,132.616,132.544 ,132.469,132.39,132.309,132.266,132.223 ,132.179,132.134,132.088,132.04,131.992 ,131.943,131.893,131.841,131.788, 131.734,131.679,131.622,131.563,131.504 ,131.443,131.348,131.248,131.181, 131.112,131.041,130.968,130.855,130.777 ,130.697,130.614,130.53,130.487, 130.387)
ORBIT_NUMBER = 18060
ORBITAL_ECCENTRICITY = 0.571
ORBITAL_INCLINATION = 86.98
ORBITAL_SEMIMAJOR_AXIS = 8762.13
PERIAPSIS_ALTITUDE = 384.74
PERIAPSIS_ARGUMENT_ANGLE = 107.52
PERIAPSIS_TIME = 2018-04-09T14:37:23.000Z
SPACECRAFT_ORIENTATION = (0.0,-1.0,0.0)
^MEX_ORIENTATION_DESC = "MEX_ORIENTATION_DESC.TXT"
SPACECRAFT_POINTING_MODE = ACROSSTRACK
^MEX_POINTING_DESC = "MEX_POINTING_DESC.TXT"
RIGHT_ASCENSION = -1e+32
DECLINATION = -1e+32
OFFSET_ANGLE = -0.23
SPACECRAFT_SOLAR_DISTANCE = 2.27615e+08
TARGET_NAME = MARS
/* CAMERA DATA ELEMENTS */
DETECTOR_TEMPERATURE = 18.7783
FOCAL_PLANE_TEMPERATURE = 10.4184
INST_CMPRS_NAME = "DISCRETE COSINE TRANSFORMATION (DCT)"
INST_CMPRS_RATIO = 20.1004
INST_CMPRS_QUALITY = 0
INST_CMPRS_QUANTZ_TBL_ID = 0
INSTRUMENT_TEMPERATURE = 12.2535
LENS_TEMPERATURE = 9.6028
MACROPIXEL_SIZE = 4
MISSING_FRAMES = 1
PIXEL_SUBSAMPLING_FLAG = N
SIGNAL_CHAIN_ID = 2
/* RADIOMETRIC DATA ELEMENTS */
BANDWIDTH = 88.0
CENTER_FILTER_WAVELENGTH = 538.0
RADIANCE_OFFSET = 1.32334
RADIANCE_SCALING_FACTOR = 0.00324349
REFLECTANCE_SCALING_FACTOR = 0.000144678
MEX:REFLECTANCE_OFFSET = 0.0590286
/* IMAGE OBJECT DEFINITIONS */
OBJECT = IMAGE
  INTERCHANGE_FORMAT = BINARY
  LINES = 15814
  LINE_SAMPLES = 3136
  SAMPLE_TYPE = UNSIGNED_INTEGER
  SAMPLE_BITS = 8
  BANDS = 1
  BAND_STORAGE_TYPE = BAND_SEQUENTIAL
  MAXIMUM = 255
  MEAN = 128.706
  MINIMUM = 1
  STANDARD_DEVIATION = 39.2194
END_OBJECT = IMAGE
/* MAP OBJECT DEFINITIONS */
OBJECT = IMAGE_MAP_PROJECTION
  ^DATA_SET_MAP_PROJECTION_CATALOG= "DSMAP.CAT"
  A_AXIS_RADIUS = 3396.0
  B_AXIS_RADIUS = 3396.0
  C_AXIS_RADIUS = 3396.0
  CENTER_LATITUDE = 0.0
  CENTER_LONGITUDE = 131.0
  COORDINATE_SYSTEM_NAME = PLANETOGRAPHIC
  COORDINATE_SYSTEM_TYPE = "BODY-FIXED ROTATING"
  EASTERNMOST_LONGITUDE = 133.003
  FIRST_STANDARD_PARALLEL = "N/A"
  LINE_FIRST_PIXEL = 1
  LINE_LAST_PIXEL = 15814
  LINE_PROJECTION_OFFSET = 82975.875
  MAP_PROJECTION_ROTATION = 0.0
  MAP_PROJECTION_TYPE = SINUSOIDAL
  MAP_RESOLUTION = 1185.42760773333
  MAP_SCALE = 0.05
  MAXIMUM_LATITUDE = 70.0093
  MINIMUM_LATITUDE = 56.6492
  POSITIVE_LONGITUDE_DIRECTION = EAST
  REFERENCE_LATITUDE = "N/A"
  REFERENCE_LONGITUDE = "N/A"
  SAMPLE_FIRST_PIXEL = 1
  SAMPLE_LAST_PIXEL = 3136
  SAMPLE_PROJECTION_OFFSET = 1827.875
  SECOND_STANDARD_PARALLEL = "N/A"
  WESTERNMOST_LONGITUDE = 126.56
END_OBJECT = IMAGE_MAP_PROJECTION
END
