PDS_VERSION_ID = PDS3
/* FILE DATA ELEMENTS */
RECORD_TYPE = UNDEFINED
/* POINTERS TO DATA OBJECTS */
^IMAGE = ("HI060_0000_IR4.TIF")
/* IDENTIFICATION DATA ELEMENTS */
DATA_SET_ID = "MEX-M-HRSC-4-REFDR-MAPPROJECT-EXT6-V4.0"
DATA_SET_NAME = "MARS EXPRESS HRSC MAP PROJECTED REFDR EXTENSION6 V4.0"
DETECTOR_ID = MEX_HRSC_IR
EVENT_TYPE = "MARS-REGIONAL-MAPPING-Im-Pf-Eo"
INSTRUMENT_HOST_ID = MEX
INSTRUMENT_HOST_NAME = "MARS EXPRESS"
INSTRUMENT_ID = HRSC
INSTRUMENT_NAME = "HIGH RESOLUTION STEREO CAMERA"
MISSION_NAME = "MARS EXPRESS"
MISSION_PHASE_NAME = ME_Phase_38
PROCESSING_LEVEL_ID = 4
PRODUCT_CREATION_TIME = 2023-01-29T08:20:11.000Z
PRODUCT_ID = "HI060_0000_IR4.TIF"
RELEASE_ID = 0004
REVISION_ID = 0000
/* QUALITY DATA ELEMENTS */
DATA_QUALITY_ID = 1
DATA_QUALITY_DESC = "Data calculated based on original SPICE kernels"
/* TIME DATA ELEMENTS */
SPACECRAFT_CLOCK_START_COUNT = "1/0471364634.09051"
SPACECRAFT_CLOCK_STOP_COUNT = "1/0471364922.62843"
START_TIME = 2018-04-09T14:37:29.818Z
STOP_TIME = 2018-04-09T14:40:55.299Z
/* ORBITAL DATA ELEMENTS */
ASCENDING_NODE_LONGITUDE = 235.13
MAXIMUM_RESOLUTION = 0.0647
FOOTPRINT_POINT_LATITUDE = (70.0901,70.052,69.9946,69.8888,69.8865 ,69.771,69.1282,68.7419,68.4841,68.0972 ,67.7091,67.4502,67.0538,66.6649, 66.4056,66.146,65.8867,65.6275,65.3644, 64.846,64.5853,64.3249,64.0643,63.673, 63.4121,63.1507,62.8895,62.6284,62.3672 ,62.1058,61.8443,61.452,61.1905,60.929, 60.6676,60.4066,60.0137,59.6205,59.228, 58.9662,58.5738,58.3121,58.0462,57.7774 ,57.5087,57.2401,56.837,56.7027,56.634, 56.6628,56.7011,56.7362,56.7538,56.7546 ,56.7559,57.0257,57.4303,57.8353, 58.1053,58.3742,58.6372,59.0318,59.2948 ,59.5583,59.8212,60.0841,60.3474, 60.7421,61.0051,61.2682,61.6628,61.9259 ,62.1889,62.4519,62.8464,63.2409,63.503 ,63.8976,64.1601,64.423,64.6857,65.0791 ,65.3413,65.7347,65.997,66.2589,66.521, 66.9136,67.1747,67.4363,67.8364,68.0975 ,68.4889,68.7497,69.0105,69.271,69.5312 ,69.7915,69.9216,70.0901)
FOOTPRINT_POINT_LONGITUDE = (130.369,129.54,128.434,126.708,126.674 ,126.569,126.889,127.07,127.187,127.357 ,127.519,127.624,127.779,127.925,128.02 ,128.112,128.201,128.289,128.372, 128.537,128.616,128.693,128.768,128.877 ,128.947,129.016,129.083,129.148, 129.212,129.274,129.335,129.423,129.48, 129.536,129.591,129.644,129.721,129.796 ,129.868,129.914,129.982,130.026, 130.069,130.112,130.154,130.195,130.254 ,130.274,130.283,130.812,131.593, 132.447,132.948,132.973,132.981,132.953 ,132.909,132.864,132.833,132.802,132.77 ,132.722,132.689,132.655,132.621, 132.586,132.55,132.495,132.457,132.419, 132.359,132.319,132.277,132.235,132.169 ,132.102,132.056,131.984,131.935, 131.885,131.834,131.755,131.701,131.617 ,131.559,131.5,131.44,131.347,131.283, 131.217,131.113,131.044,130.935,130.861 ,130.784,130.705,130.625,130.542, 130.499,130.369)
ORBIT_NUMBER = 18060
ORBITAL_ECCENTRICITY = 0.571
ORBITAL_INCLINATION = 86.98
ORBITAL_SEMIMAJOR_AXIS = 8762.13
PERIAPSIS_ALTITUDE = 384.74
PERIAPSIS_ARGUMENT_ANGLE = 107.52
PERIAPSIS_TIME = 2018-04-09T14:37:23.000Z
SPACECRAFT_ORIENTATION = (0.0,-1.0,0.0)
^MEX_ORIENTATION_DESC = "MEX_ORIENTATION_DESC.TXT"
SPACECRAFT_POINTING_MODE = ACROSSTRACK
^MEX_POINTING_DESC = "MEX_POINTING_DESC.TXT"
RIGHT_ASCENSION = -1e+32
DECLINATION = -1e+32
OFFSET_ANGLE = -0.23
SPACECRAFT_SOLAR_DISTANCE = 2.27615e+08
TARGET_NAME = MARS
/* CAMERA DATA ELEMENTS */
DETECTOR_TEMPERATURE = 17.9627
FOCAL_PLANE_TEMPERATURE = 10.4184
INST_CMPRS_NAME = "DISCRETE COSINE TRANSFORMATION (DCT)"
INST_CMPRS_RATIO = 17.5086
INST_CMPRS_QUALITY = 0
INST_CMPRS_QUANTZ_TBL_ID = 0
INSTRUMENT_TEMPERATURE = 12.2535
LENS_TEMPERATURE = 9.6028
MACROPIXEL_SIZE = 4
MISSING_FRAMES = 1
PIXEL_SUBSAMPLING_FLAG = N
SIGNAL_CHAIN_ID = 2
/* RADIOMETRIC DATA ELEMENTS */
BANDWIDTH = 81.0
CENTER_FILTER_WAVELENGTH = 955.5
RADIANCE_OFFSET = 0.897084
RADIANCE_SCALING_FACTOR = 0.00340449
REFLECTANCE_SCALING_FACTOR = 0.000380525
MEX:REFLECTANCE_OFFSET = 0.100268
/* IMAGE OBJECT DEFINITIONS */
OBJECT = IMAGE
  INTERCHANGE_FORMAT = BINARY
  LINES = 15814
  LINE_SAMPLES = 3136
  SAMPLE_TYPE = UNSIGNED_INTEGER
  SAMPLE_BITS = 8
  BANDS = 1
  BAND_STORAGE_TYPE = BAND_SEQUENTIAL
  MAXIMUM = 255
  MEAN = 105.19
  MINIMUM = 1
  STANDARD_DEVIATION = 36.0573
END_OBJECT = IMAGE
/* MAP OBJECT DEFINITIONS */
OBJECT = IMAGE_MAP_PROJECTION
  ^DATA_SET_MAP_PROJECTION_CATALOG= "DSMAP.CAT"
  A_AXIS_RADIUS = 3396.0
  B_AXIS_RADIUS = 3396.0
  C_AXIS_RADIUS = 3396.0
  CENTER_LATITUDE = 0.0
  CENTER_LONGITUDE = 131.0
  COORDINATE_SYSTEM_NAME = PLANETOGRAPHIC
  COORDINATE_SYSTEM_TYPE = "BODY-FIXED ROTATING"
  EASTERNMOST_LONGITUDE = 132.981
  FIRST_STANDARD_PARALLEL = "N/A"
  LINE_FIRST_PIXEL = 1
  LINE_LAST_PIXEL = 15814
  LINE_PROJECTION_OFFSET = 82975.875
  MAP_PROJECTION_ROTATION = 0.0
  MAP_PROJECTION_TYPE = SINUSOIDAL
  MAP_RESOLUTION = 1185.42760773333
  MAP_SCALE = 0.05
  MAXIMUM_LATITUDE = 70.09010000000001
  MINIMUM_LATITUDE = 56.634
  POSITIVE_LONGITUDE_DIRECTION = EAST
  REFERENCE_LATITUDE = "N/A"
  REFERENCE_LONGITUDE = "N/A"
  SAMPLE_FIRST_PIXEL = 1
  SAMPLE_LAST_PIXEL = 3136
  SAMPLE_PROJECTION_OFFSET = 1827.875
  SECOND_STANDARD_PARALLEL = "N/A"
  WESTERNMOST_LONGITUDE = 126.569
END_OBJECT = IMAGE_MAP_PROJECTION
END
