PDS_VERSION_ID = PDS3
/* FILE DATA ELEMENTS */
RECORD_TYPE = UNDEFINED
/* POINTERS TO DATA OBJECTS */
^IMAGE = ("HI063_0000_ND4.TIF")
/* IDENTIFICATION DATA ELEMENTS */
DATA_SET_ID = "MEX-M-HRSC-4-REFDR-MAPPROJECT-EXT6-V4.0"
DATA_SET_NAME = "MARS EXPRESS HRSC MAP PROJECTED REFDR EXTENSION6 V4.0"
DETECTOR_ID = MEX_HRSC_NADIR
EVENT_TYPE = "MARS-REGIONAL-MAPPING-Im-Pf-Eo"
INSTRUMENT_HOST_ID = MEX
INSTRUMENT_HOST_NAME = "MARS EXPRESS"
INSTRUMENT_ID = HRSC
INSTRUMENT_NAME = "HIGH RESOLUTION STEREO CAMERA"
MISSION_NAME = "MARS EXPRESS"
MISSION_PHASE_NAME = ME_Phase_38
PROCESSING_LEVEL_ID = 4
PRODUCT_CREATION_TIME = 2023-01-29T08:20:11.000Z
PRODUCT_ID = "HI063_0000_ND4.TIF"
RELEASE_ID = 0004
REVISION_ID = 0000
/* QUALITY DATA ELEMENTS */
DATA_QUALITY_ID = 1
DATA_QUALITY_DESC = "Data calculated based on original SPICE kernels"
/* TIME DATA ELEMENTS */
SPACECRAFT_CLOCK_START_COUNT = "1/0471440012.08306"
SPACECRAFT_CLOCK_STOP_COUNT = "1/0471440257.40103"
START_TIME = 2018-04-10T11:34:17.091Z
STOP_TIME = 2018-04-10T11:37:06.074Z
/* ORBITAL DATA ELEMENTS */
ASCENDING_NODE_LONGITUDE = 235.06
MAXIMUM_RESOLUTION = 0.0155
FOOTPRINT_POINT_LATITUDE = (72.9704,72.9256,72.8764,72.8189,72.817 ,72.8193,72.4977,72.2833,72.0688, 71.8542,71.6395,71.4248,71.21,70.9952, 70.7803,70.5654,70.3505,70.1356,69.9206 ,69.7056,69.4906,69.2755,69.0605, 68.8455,68.6304,68.4154,68.2003,67.9853 ,67.7703,67.5553,67.3403,67.1254, 66.9104,66.6955,66.4806,66.2658,66.051, 65.6216,65.1923,64.7632,64.3344,63.9058 ,63.4776,63.0496,62.622,62.1947,62.0879 ,62.0844,62.109,62.1295,62.1417,62.1545 ,62.1673,62.1678,62.1682,62.5974, 63.0269,63.4569,63.8872,64.3178,64.7489 ,64.9645,65.1802,65.396,65.6118,65.8277 ,66.0437,66.2598,66.4759,66.6921, 66.9083,67.1246,67.341,67.5573,67.7738, 67.9903,68.2068,68.4234,68.64,68.8567, 69.0734,69.2901,69.5068,69.7236,69.9404 ,70.1572,70.374,70.5909,70.8078,71.0246 ,71.2415,71.4584,71.6753,71.8922, 72.1091,72.326,72.5428,72.8681,72.9765, 72.9704)
FOOTPRINT_POINT_LONGITUDE = (186.304,184.703,183.317,181.963, 181.921,181.924,182.09,182.196,182.3, 182.401,182.499,182.595,182.688,182.778 ,182.866,182.952,183.036,183.118, 183.197,183.275,183.35,183.424,183.496, 183.566,183.634,183.701,183.766,183.829 ,183.891,183.952,184.011,184.068, 184.124,184.179,184.233,184.285,184.336 ,184.435,184.529,184.619,184.705, 184.787,184.865,184.94,185.012,185.08, 185.096,185.097,185.788,186.457,186.919 ,187.479,188.172,188.204,188.22,188.183 ,188.145,188.106,188.065,188.023, 187.979,187.956,187.933,187.909,187.885 ,187.86,187.835,187.809,187.782,187.755 ,187.727,187.698,187.67,187.64,187.611, 187.579,187.548,187.515,187.482,187.449 ,187.413,187.378,187.342,187.304, 187.266,187.226,187.186,187.145,187.104 ,187.06,187.016,186.971,186.924,186.876 ,186.827,186.777,186.725,186.644, 186.616,186.304)
ORBIT_NUMBER = 18063
ORBITAL_ECCENTRICITY = 0.57
ORBITAL_INCLINATION = 86.98
ORBITAL_SEMIMAJOR_AXIS = 8758.97
PERIAPSIS_ALTITUDE = 384.71
PERIAPSIS_ARGUMENT_ANGLE = 107.01
PERIAPSIS_TIME = 2018-04-10T11:34:18.000Z
SPACECRAFT_ORIENTATION = (0.0,-1.0,0.0)
^MEX_ORIENTATION_DESC = "MEX_ORIENTATION_DESC.TXT"
SPACECRAFT_POINTING_MODE = ACROSSTRACK
^MEX_POINTING_DESC = "MEX_POINTING_DESC.TXT"
RIGHT_ASCENSION = -1e+32
DECLINATION = -1e+32
OFFSET_ANGLE = 0.75
SPACECRAFT_SOLAR_DISTANCE = 2.27445e+08
TARGET_NAME = MARS
/* CAMERA DATA ELEMENTS */
DETECTOR_TEMPERATURE = 18.5744
FOCAL_PLANE_TEMPERATURE = 8.7872
INST_CMPRS_NAME = "DISCRETE COSINE TRANSFORMATION (DCT)"
INST_CMPRS_RATIO = 7.16678
INST_CMPRS_QUALITY = 0
INST_CMPRS_QUANTZ_TBL_ID = 0
INSTRUMENT_TEMPERATURE = 11.8457
LENS_TEMPERATURE = 9.3989
MACROPIXEL_SIZE = 1
MISSING_FRAMES = 0
PIXEL_SUBSAMPLING_FLAG = N
SIGNAL_CHAIN_ID = 0
/* RADIOMETRIC DATA ELEMENTS */
BANDWIDTH = 177.0
CENTER_FILTER_WAVELENGTH = 677.5
RADIANCE_OFFSET = 2.5117
RADIANCE_SCALING_FACTOR = 0.0162045
REFLECTANCE_SCALING_FACTOR = 0.00044532
MEX:REFLECTANCE_OFFSET = 0.0690246
/* IMAGE OBJECT DEFINITIONS */
OBJECT = IMAGE
  INTERCHANGE_FORMAT = BINARY
  LINES = 51664
  LINE_SAMPLES = 10622
  SAMPLE_TYPE = UNSIGNED_INTEGER
  SAMPLE_BITS = 8
  BANDS = 1
  BAND_STORAGE_TYPE = BAND_SEQUENTIAL
  MAXIMUM = 255
  MEAN = 108.659
  MINIMUM = 1
  STANDARD_DEVIATION = 36.9993
END_OBJECT = IMAGE
/* MAP OBJECT DEFINITIONS */
OBJECT = IMAGE_MAP_PROJECTION
  ^DATA_SET_MAP_PROJECTION_CATALOG= "DSMAP.CAT"
  A_AXIS_RADIUS = 3396.0
  B_AXIS_RADIUS = 3396.0
  C_AXIS_RADIUS = 3396.0
  CENTER_LATITUDE = 0.0
  CENTER_LONGITUDE = 186.0
  COORDINATE_SYSTEM_NAME = PLANETOGRAPHIC
  COORDINATE_SYSTEM_TYPE = "BODY-FIXED ROTATING"
  EASTERNMOST_LONGITUDE = 188.22
  FIRST_STANDARD_PARALLEL = "N/A"
  LINE_FIRST_PIXEL = 1
  LINE_LAST_PIXEL = 51664
  LINE_PROJECTION_OFFSET = 346050.0
  MAP_PROJECTION_ROTATION = 0.0
  MAP_PROJECTION_TYPE = SINUSOIDAL
  MAP_RESOLUTION = 4741.71043093333
  MAP_SCALE = 0.0125
  MAXIMUM_LATITUDE = 72.9765
  MINIMUM_LATITUDE = 62.0844
  POSITIVE_LONGITUDE_DIRECTION = EAST
  REFERENCE_LATITUDE = "N/A"
  REFERENCE_LONGITUDE = "N/A"
  SAMPLE_FIRST_PIXEL = 1
  SAMPLE_LAST_PIXEL = 10622
  SAMPLE_PROJECTION_OFFSET = 5708.0
  SECOND_STANDARD_PARALLEL = "N/A"
  WESTERNMOST_LONGITUDE = 181.921
END_OBJECT = IMAGE_MAP_PROJECTION
END
