PDS_VERSION_ID = PDS3
/* FILE DATA ELEMENTS */
RECORD_TYPE = UNDEFINED
/* POINTERS TO DATA OBJECTS */
^IMAGE = ("HI065_0000_GR4.TIF")
/* IDENTIFICATION DATA ELEMENTS */
DATA_SET_ID = "MEX-M-HRSC-4-REFDR-MAPPROJECT-EXT6-V4.0"
DATA_SET_NAME = "MARS EXPRESS HRSC MAP PROJECTED REFDR EXTENSION6 V4.0"
DETECTOR_ID = MEX_HRSC_GREEN
EVENT_TYPE = "MARS-REGIONAL-MAPPING-Im-Pf-Eo"
INSTRUMENT_HOST_ID = MEX
INSTRUMENT_HOST_NAME = "MARS EXPRESS"
INSTRUMENT_ID = HRSC
INSTRUMENT_NAME = "HIGH RESOLUTION STEREO CAMERA"
MISSION_NAME = "MARS EXPRESS"
MISSION_PHASE_NAME = ME_Phase_38
PROCESSING_LEVEL_ID = 4
PRODUCT_CREATION_TIME = 2023-01-29T08:20:11.000Z
PRODUCT_ID = "HI065_0000_GR4.TIF"
RELEASE_ID = 0004
REVISION_ID = 0000
/* QUALITY DATA ELEMENTS */
DATA_QUALITY_ID = 1
DATA_QUALITY_DESC = "Data calculated based on original SPICE kernels"
/* TIME DATA ELEMENTS */
SPACECRAFT_CLOCK_START_COUNT = "1/0471490390.09061"
SPACECRAFT_CLOCK_STOP_COUNT = "1/0471490604.55800"
START_TIME = 2018-04-11T01:33:49.044Z
STOP_TIME = 2018-04-11T01:36:03.432Z
/* ORBITAL DATA ELEMENTS */
ASCENDING_NODE_LONGITUDE = 235.03
MAXIMUM_RESOLUTION = 0.0632
FOOTPRINT_POINT_LATITUDE = (66.7211,66.704,66.6892,66.6676,66.6494 ,66.6297,66.6086,66.6072,66.5844, 66.3313,66.1626,65.994,65.8254,65.6566, 65.488,65.3194,65.0664,64.8978,64.7292, 64.5606,64.3921,64.2236,64.0551,63.8867 ,63.5498,63.2132,62.7924,62.456,62.1198 ,61.7837,61.4479,61.1121,60.7766,60.519 ,60.3469,60.1748,60.0028,59.8309, 59.6591,59.4874,59.2297,59.0581,58.8865 ,58.7123,58.5364,58.3605,58.1847, 58.0969,58.0739,58.0935,58.1183,58.1308 ,58.1398,58.1485,58.149,58.1501,58.3265 ,58.5031,58.6797,58.9435,59.1158, 59.2882,59.4606,59.6331,59.8057,59.9783 ,60.151,60.3238,60.4967,60.6696,61.0109 ,61.2637,61.6011,61.9386,62.3609, 62.5298,62.6989,62.868,63.0372,63.2063, 63.3755,63.5448,63.7141,63.8834,64.0528 ,64.2222,64.4765,64.646,64.8156,65.07, 65.2396,65.4942,65.6639,65.8336,66.0034 ,66.1732,66.428,66.5978,66.6828, 66.7211)
FOOTPRINT_POINT_LONGITUDE = (342.398,341.744,341.249,340.603, 340.115,339.629,339.146,339.116,339.077 ,339.149,339.196,339.242,339.287, 339.331,339.375,339.418,339.48,339.521, 339.561,339.601,339.64,339.678,339.715, 339.752,339.824,339.893,339.976,340.041 ,340.103,340.162,340.22,340.276,340.33, 340.37,340.397,340.423,340.448,340.473, 340.498,340.522,340.557,340.58,340.603, 340.626,340.648,340.67,340.692,340.702, 340.705,341.255,342.076,342.583,343.012 ,343.524,343.551,343.56,343.547,343.532 ,343.517,343.496,343.481,343.466, 343.451,343.435,343.42,343.404,343.388, 343.372,343.355,343.339,343.305,343.279 ,343.244,343.208,343.161,343.142, 343.123,343.103,343.082,343.063,343.042 ,343.021,343.0,342.978,342.956,342.934, 342.9,342.877,342.853,342.817,342.793, 342.755,342.73,342.704,342.678,342.651, 342.61,342.582,342.568,342.398)
ORBIT_NUMBER = 18065
ORBITAL_ECCENTRICITY = 0.57
ORBITAL_INCLINATION = 86.99
ORBITAL_SEMIMAJOR_AXIS = 8758.99
PERIAPSIS_ALTITUDE = 384.65
PERIAPSIS_ARGUMENT_ANGLE = 106.65
PERIAPSIS_TIME = 2018-04-11T01:32:13.000Z
SPACECRAFT_ORIENTATION = (0.0,-1.0,0.0)
^MEX_ORIENTATION_DESC = "MEX_ORIENTATION_DESC.TXT"
SPACECRAFT_POINTING_MODE = ACROSSTRACK
^MEX_POINTING_DESC = "MEX_POINTING_DESC.TXT"
RIGHT_ASCENSION = -1e+32
DECLINATION = -1e+32
OFFSET_ANGLE = 0.4
SPACECRAFT_SOLAR_DISTANCE = 2.27331e+08
TARGET_NAME = MARS
/* CAMERA DATA ELEMENTS */
DETECTOR_TEMPERATURE = 18.9822
FOCAL_PLANE_TEMPERATURE = 10.2145
INST_CMPRS_NAME = "DISCRETE COSINE TRANSFORMATION (DCT)"
INST_CMPRS_RATIO = 20.7189
INST_CMPRS_QUALITY = 0
INST_CMPRS_QUANTZ_TBL_ID = 0
INSTRUMENT_TEMPERATURE = 11.6418
LENS_TEMPERATURE = 10.6223
MACROPIXEL_SIZE = 4
MISSING_FRAMES = 0
PIXEL_SUBSAMPLING_FLAG = N
SIGNAL_CHAIN_ID = 2
/* RADIOMETRIC DATA ELEMENTS */
BANDWIDTH = 88.0
CENTER_FILTER_WAVELENGTH = 538.0
RADIANCE_OFFSET = 1.37297
RADIANCE_SCALING_FACTOR = 0.00259479
REFLECTANCE_SCALING_FACTOR = 0.000115454
MEX:REFLECTANCE_OFFSET = 0.0610896
/* IMAGE OBJECT DEFINITIONS */
OBJECT = IMAGE
  INTERCHANGE_FORMAT = BINARY
  LINES = 10235
  LINE_SAMPLES = 2369
  SAMPLE_TYPE = UNSIGNED_INTEGER
  SAMPLE_BITS = 8
  BANDS = 1
  BAND_STORAGE_TYPE = BAND_SEQUENTIAL
  MAXIMUM = 255
  MEAN = 142.373
  MINIMUM = 1
  STANDARD_DEVIATION = 42.8113
END_OBJECT = IMAGE
/* MAP OBJECT DEFINITIONS */
OBJECT = IMAGE_MAP_PROJECTION
  ^DATA_SET_MAP_PROJECTION_CATALOG= "DSMAP.CAT"
  A_AXIS_RADIUS = 3396.0
  B_AXIS_RADIUS = 3396.0
  C_AXIS_RADIUS = 3396.0
  CENTER_LATITUDE = 0.0
  CENTER_LONGITUDE = 342.0
  COORDINATE_SYSTEM_NAME = PLANETOGRAPHIC
  COORDINATE_SYSTEM_TYPE = "BODY-FIXED ROTATING"
  EASTERNMOST_LONGITUDE = 343.56
  FIRST_STANDARD_PARALLEL = "N/A"
  LINE_FIRST_PIXEL = 1
  LINE_LAST_PIXEL = 10235
  LINE_PROJECTION_OFFSET = 79075.375
  MAP_PROJECTION_ROTATION = 0.0
  MAP_PROJECTION_TYPE = SINUSOIDAL
  MAP_RESOLUTION = 1185.42760773333
  MAP_SCALE = 0.05
  MAXIMUM_LATITUDE = 66.72110000000001
  MINIMUM_LATITUDE = 58.0739
  POSITIVE_LONGITUDE_DIRECTION = EAST
  REFERENCE_LATITUDE = "N/A"
  REFERENCE_LONGITUDE = "N/A"
  SAMPLE_FIRST_PIXEL = 1
  SAMPLE_LAST_PIXEL = 2369
  SAMPLE_PROJECTION_OFFSET = 1387.125
  SECOND_STANDARD_PARALLEL = "N/A"
  WESTERNMOST_LONGITUDE = 339.077
END_OBJECT = IMAGE_MAP_PROJECTION
END
