PDS_VERSION_ID = PDS3
/* FILE DATA ELEMENTS */
RECORD_TYPE = UNDEFINED
/* POINTERS TO DATA OBJECTS */
^IMAGE = ("HI068_0000_GR4.TIF")
/* IDENTIFICATION DATA ELEMENTS */
DATA_SET_ID = "MEX-M-HRSC-4-REFDR-MAPPROJECT-EXT6-V4.0"
DATA_SET_NAME = "MARS EXPRESS HRSC MAP PROJECTED REFDR EXTENSION6 V4.0"
DETECTOR_ID = MEX_HRSC_GREEN
EVENT_TYPE = "MARS-REGIONAL-MAPPING-Im-Pf-Eo"
INSTRUMENT_HOST_ID = MEX
INSTRUMENT_HOST_NAME = "MARS EXPRESS"
INSTRUMENT_ID = HRSC
INSTRUMENT_NAME = "HIGH RESOLUTION STEREO CAMERA"
MISSION_NAME = "MARS EXPRESS"
MISSION_PHASE_NAME = ME_Phase_38
PROCESSING_LEVEL_ID = 4
PRODUCT_CREATION_TIME = 2023-01-29T08:20:11.000Z
PRODUCT_ID = "HI068_0000_GR4.TIF"
RELEASE_ID = 0004
REVISION_ID = 0000
/* QUALITY DATA ELEMENTS */
DATA_QUALITY_ID = 1
DATA_QUALITY_DESC = "Data calculated based on original SPICE kernels"
/* TIME DATA ELEMENTS */
SPACECRAFT_CLOCK_START_COUNT = "1/0471565681.07347"
SPACECRAFT_CLOCK_STOP_COUNT = "1/0471565933.38599"
START_TIME = 2018-04-11T22:28:36.025Z
STOP_TIME = 2018-04-11T22:31:42.804Z
/* ORBITAL DATA ELEMENTS */
ASCENDING_NODE_LONGITUDE = 234.97
MAXIMUM_RESOLUTION = 0.062
FOOTPRINT_POINT_LATITUDE = (75.9583,75.8631,75.7815,75.7145, 75.7117,75.7213,75.3335,74.945,74.6857, 74.4262,74.1664,73.9064,73.6461,73.3857 ,73.125,72.8641,72.603,72.0803,71.5569, 71.0328,70.7706,70.5081,70.1142,69.8514 ,69.5885,69.3254,68.9305,68.6671, 68.4035,68.1399,67.8761,67.4801,67.216, 66.8194,66.4226,66.158,65.8931,65.6281, 65.3632,65.0982,64.8327,64.567,64.1685, 63.9026,63.6367,63.3705,63.1043,62.7046 ,62.5713,62.5374,62.5912,62.6393, 62.6679,62.6688,62.6702,63.0717,63.3393 ,63.6067,63.874,64.2749,64.5419,64.9423 ,65.3425,65.6091,66.009,66.2754,66.5418 ,66.8082,67.0743,67.4735,67.8725, 68.1384,68.4042,68.6699,69.0684,69.3339 ,69.5994,69.8649,70.2629,70.5282,70.926 ,71.1911,71.5887,71.8537,72.251,72.5158 ,72.7806,73.0453,73.3099,73.5745,73.839 ,74.1034,74.3678,74.6321,74.8964, 75.1605,75.4246,75.8205,75.9525, 75.9583)
FOOTPRINT_POINT_LONGITUDE = (31.3801,29.1133,27.4945,26.3137, 26.2666,26.0694,26.464,26.837,27.0743, 27.3029,27.5237,27.7365,27.9422,28.1409 ,28.3335,28.5193,28.6984,29.0401, 29.3609,29.6617,29.8054,29.9448,30.1461 ,30.2755,30.4009,30.523,30.6993,30.8129 ,30.9231,31.0305,31.135,31.2862,31.3837 ,31.5248,31.6605,31.7482,31.8333, 31.9162,31.9974,32.0767,32.1532,32.2279 ,32.3367,32.4069,32.4756,32.5425, 32.6078,32.7027,32.7336,32.7414,33.8078 ,34.9669,35.81,35.8392,35.8487,35.7836, 35.739,35.6935,35.6471,35.5753,35.5263, 35.4508,35.3726,35.3191,35.2362,35.1795 ,35.1212,35.0616,35.0008,34.9064, 34.8084,34.7412,34.6723,34.6014,34.4919 ,34.4163,34.3387,34.259,34.1351,34.0496 ,33.9165,33.8248,33.6818,33.5827, 33.4285,33.3218,33.2115,33.0978,32.9805 ,32.8591,32.7334,32.6038,32.4695, 32.3302,32.1862,32.0368,31.8816,31.6379 ,31.5533,31.3801)
ORBIT_NUMBER = 18068
ORBITAL_ECCENTRICITY = 0.571
ORBITAL_INCLINATION = 86.98
ORBITAL_SEMIMAJOR_AXIS = 8761.19
PERIAPSIS_ALTITUDE = 385.03
PERIAPSIS_ARGUMENT_ANGLE = 106.14
PERIAPSIS_TIME = 2018-04-11T22:29:07.000Z
SPACECRAFT_ORIENTATION = (0.0,-1.0,0.0)
^MEX_ORIENTATION_DESC = "MEX_ORIENTATION_DESC.TXT"
SPACECRAFT_POINTING_MODE = INERT
^MEX_POINTING_DESC = "MEX_POINTING_DESC.TXT"
RIGHT_ASCENSION = 163.185
DECLINATION = -62.201
OFFSET_ANGLE = -1e+32
SPACECRAFT_SOLAR_DISTANCE = 2.27161e+08
TARGET_NAME = MARS
/* CAMERA DATA ELEMENTS */
DETECTOR_TEMPERATURE = 18.5744
FOCAL_PLANE_TEMPERATURE = 10.4184
INST_CMPRS_NAME = "DISCRETE COSINE TRANSFORMATION (DCT)"
INST_CMPRS_RATIO = 22.0462
INST_CMPRS_QUALITY = 0
INST_CMPRS_QUANTZ_TBL_ID = 0
INSTRUMENT_TEMPERATURE = 12.0496
LENS_TEMPERATURE = 10.6223
MACROPIXEL_SIZE = 4
MISSING_FRAMES = 0
PIXEL_SUBSAMPLING_FLAG = N
SIGNAL_CHAIN_ID = 2
/* RADIOMETRIC DATA ELEMENTS */
BANDWIDTH = 88.0
CENTER_FILTER_WAVELENGTH = 538.0
RADIANCE_OFFSET = 1.15076
RADIANCE_SCALING_FACTOR = 0.00294015
REFLECTANCE_SCALING_FACTOR = 0.000130626
MEX:REFLECTANCE_OFFSET = 0.0511262
/* IMAGE OBJECT DEFINITIONS */
OBJECT = IMAGE
  INTERCHANGE_FORMAT = BINARY
  LINES = 15938
  LINE_SAMPLES = 3834
  SAMPLE_TYPE = UNSIGNED_INTEGER
  SAMPLE_BITS = 8
  BANDS = 1
  BAND_STORAGE_TYPE = BAND_SEQUENTIAL
  MAXIMUM = 255
  MEAN = 168.306
  MINIMUM = 2
  STANDARD_DEVIATION = 32.6891
END_OBJECT = IMAGE
/* MAP OBJECT DEFINITIONS */
OBJECT = IMAGE_MAP_PROJECTION
  ^DATA_SET_MAP_PROJECTION_CATALOG= "DSMAP.CAT"
  A_AXIS_RADIUS = 3396.0
  B_AXIS_RADIUS = 3396.0
  C_AXIS_RADIUS = 3396.0
  CENTER_LATITUDE = 0.0
  CENTER_LONGITUDE = 32.0
  COORDINATE_SYSTEM_NAME = PLANETOGRAPHIC
  COORDINATE_SYSTEM_TYPE = "BODY-FIXED ROTATING"
  EASTERNMOST_LONGITUDE = 35.8487
  FIRST_STANDARD_PARALLEL = "N/A"
  LINE_FIRST_PIXEL = 1
  LINE_LAST_PIXEL = 15938
  LINE_PROJECTION_OFFSET = 90075.625
  MAP_PROJECTION_ROTATION = 0.0
  MAP_PROJECTION_TYPE = SINUSOIDAL
  MAP_RESOLUTION = 1185.42760773333
  MAP_SCALE = 0.05
  MAXIMUM_LATITUDE = 75.95829999999999
  MINIMUM_LATITUDE = 62.5374
  POSITIVE_LONGITUDE_DIRECTION = EAST
  REFERENCE_LATITUDE = "N/A"
  REFERENCE_LONGITUDE = "N/A"
  SAMPLE_FIRST_PIXEL = 1
  SAMPLE_LAST_PIXEL = 3834
  SAMPLE_PROJECTION_OFFSET = 1742.625
  SECOND_STANDARD_PARALLEL = "N/A"
  WESTERNMOST_LONGITUDE = 26.0694
END_OBJECT = IMAGE_MAP_PROJECTION
END
