PDS_VERSION_ID = PDS3
/* FILE DATA ELEMENTS */
RECORD_TYPE = UNDEFINED
/* POINTERS TO DATA OBJECTS */
^IMAGE = ("HI068_0000_P24.TIF")
/* IDENTIFICATION DATA ELEMENTS */
DATA_SET_ID = "MEX-M-HRSC-4-REFDR-MAPPROJECT-EXT6-V4.0"
DATA_SET_NAME = "MARS EXPRESS HRSC MAP PROJECTED REFDR EXTENSION6 V4.0"
DETECTOR_ID = MEX_HRSC_P2
EVENT_TYPE = "MARS-REGIONAL-MAPPING-Im-Pf-Eo"
INSTRUMENT_HOST_ID = MEX
INSTRUMENT_HOST_NAME = "MARS EXPRESS"
INSTRUMENT_ID = HRSC
INSTRUMENT_NAME = "HIGH RESOLUTION STEREO CAMERA"
MISSION_NAME = "MARS EXPRESS"
MISSION_PHASE_NAME = ME_Phase_38
PROCESSING_LEVEL_ID = 4
PRODUCT_CREATION_TIME = 2023-01-29T08:20:11.000Z
PRODUCT_ID = "HI068_0000_P24.TIF"
RELEASE_ID = 0004
REVISION_ID = 0000
/* QUALITY DATA ELEMENTS */
DATA_QUALITY_ID = 1
DATA_QUALITY_DESC = "Data calculated based on original SPICE kernels"
/* TIME DATA ELEMENTS */
SPACECRAFT_CLOCK_START_COUNT = "1/0471565681.07347"
SPACECRAFT_CLOCK_STOP_COUNT = "1/0471565933.38599"
START_TIME = 2018-04-11T22:29:02.926Z
STOP_TIME = 2018-04-11T22:32:10.169Z
/* ORBITAL DATA ELEMENTS */
ASCENDING_NODE_LONGITUDE = 234.97
MAXIMUM_RESOLUTION = 0.0645
FOOTPRINT_POINT_LATITUDE = (75.8604,75.7988,75.7091,75.6142, 75.6114,75.7236,75.331,74.938,74.6759, 74.414,74.1517,73.8896,73.4961,73.2337, 72.9709,72.7089,72.4465,72.1841,71.7904 ,71.5279,71.2656,70.872,70.6096,70.3472 ,70.0848,69.8225,69.5602,69.2978, 69.0357,68.7735,68.5112,68.2491,67.8557 ,67.5936,67.3316,66.9385,66.6767, 66.2837,66.0218,65.7601,65.4982,65.2364 ,64.7129,64.3206,63.7974,63.2744, 62.7505,62.6163,62.5548,62.5978,62.6249 ,62.6532,62.6849,62.6858,62.6873, 62.9558,63.3499,63.744,64.2697,64.5327, 64.7958,65.0589,65.3221,65.5854,65.8488 ,66.244,66.5074,66.9029,67.2987,67.5625 ,67.8266,68.2228,68.4871,68.8838, 69.1482,69.4128,69.6776,69.9425,70.34, 70.7376,71.0029,71.4011,71.6665,71.9322 ,72.1979,72.4638,72.8629,73.1291, 73.3956,73.662,73.9285,74.1954,74.4622, 74.7292,74.9962,75.2633,75.5304,75.7979 ,75.9315,75.8604)
FOOTPRINT_POINT_LONGITUDE = (31.5706,30.0409,28.1363,26.3974, 26.3493,26.0465,26.4468,26.8247,27.0647 ,27.2955,27.5184,27.733,28.041,28.2378, 28.4285,28.611,28.7882,28.9595,29.2064, 29.3644,29.517,29.7375,29.8788,30.0159, 30.1487,30.2777,30.4028,30.5244,30.6422 ,30.7566,30.868,30.9761,31.133,31.2338, 31.3318,31.474,31.5653,31.6983,31.7839, 31.8669,31.9482,32.0274,32.1796,32.2883 ,32.4273,32.5595,32.6856,32.7169, 32.7312,33.5866,34.1877,34.8765,35.7687 ,35.7975,35.807,35.7656,35.7033,35.6388 ,35.5493,35.5032,35.4561,35.4078, 35.3584,35.3079,35.2561,35.1761,35.121, 35.036,34.9479,34.8871,34.8249,34.7286, 34.6622,34.5595,34.4884,34.4156,34.3407 ,34.2638,34.144,34.019,33.9326,33.7981, 33.7048,33.6087,33.5095,33.4072,33.2475 ,33.1365,33.0219,32.9033,32.7804, 32.6534,32.5217,32.3852,32.2436,32.0965 ,31.9437,31.785,31.7032,31.5706)
ORBIT_NUMBER = 18068
ORBITAL_ECCENTRICITY = 0.571
ORBITAL_INCLINATION = 86.98
ORBITAL_SEMIMAJOR_AXIS = 8761.19
PERIAPSIS_ALTITUDE = 385.03
PERIAPSIS_ARGUMENT_ANGLE = 106.14
PERIAPSIS_TIME = 2018-04-11T22:29:07.000Z
SPACECRAFT_ORIENTATION = (0.0,-1.0,0.0)
^MEX_ORIENTATION_DESC = "MEX_ORIENTATION_DESC.TXT"
SPACECRAFT_POINTING_MODE = INERT
^MEX_POINTING_DESC = "MEX_POINTING_DESC.TXT"
RIGHT_ASCENSION = 163.185
DECLINATION = -62.201
OFFSET_ANGLE = -1e+32
SPACECRAFT_SOLAR_DISTANCE = 2.27161e+08
TARGET_NAME = MARS
/* CAMERA DATA ELEMENTS */
DETECTOR_TEMPERATURE = 19.1861
FOCAL_PLANE_TEMPERATURE = 10.4184
INST_CMPRS_NAME = "DISCRETE COSINE TRANSFORMATION (DCT)"
INST_CMPRS_RATIO = 17.3067
INST_CMPRS_QUALITY = 0
INST_CMPRS_QUANTZ_TBL_ID = 0
INSTRUMENT_TEMPERATURE = 12.0496
LENS_TEMPERATURE = 10.6223
MACROPIXEL_SIZE = 4
MISSING_FRAMES = 0
PIXEL_SUBSAMPLING_FLAG = N
SIGNAL_CHAIN_ID = 3
/* RADIOMETRIC DATA ELEMENTS */
BANDWIDTH = 177.0
CENTER_FILTER_WAVELENGTH = 676.5
RADIANCE_OFFSET = 2.75552
RADIANCE_SCALING_FACTOR = 0.0139195
REFLECTANCE_SCALING_FACTOR = 0.000380846
MEX:REFLECTANCE_OFFSET = 0.0753926
/* IMAGE OBJECT DEFINITIONS */
OBJECT = IMAGE
  INTERCHANGE_FORMAT = BINARY
  LINES = 15938
  LINE_SAMPLES = 3834
  SAMPLE_TYPE = UNSIGNED_INTEGER
  SAMPLE_BITS = 8
  BANDS = 1
  BAND_STORAGE_TYPE = BAND_SEQUENTIAL
  MAXIMUM = 254
  MEAN = 162.842
  MINIMUM = 1
  STANDARD_DEVIATION = 38.2527
END_OBJECT = IMAGE
/* MAP OBJECT DEFINITIONS */
OBJECT = IMAGE_MAP_PROJECTION
  ^DATA_SET_MAP_PROJECTION_CATALOG= "DSMAP.CAT"
  A_AXIS_RADIUS = 3396.0
  B_AXIS_RADIUS = 3396.0
  C_AXIS_RADIUS = 3396.0
  CENTER_LATITUDE = 0.0
  CENTER_LONGITUDE = 32.0
  COORDINATE_SYSTEM_NAME = PLANETOGRAPHIC
  COORDINATE_SYSTEM_TYPE = "BODY-FIXED ROTATING"
  EASTERNMOST_LONGITUDE = 35.807
  FIRST_STANDARD_PARALLEL = "N/A"
  LINE_FIRST_PIXEL = 1
  LINE_LAST_PIXEL = 15938
  LINE_PROJECTION_OFFSET = 90075.625
  MAP_PROJECTION_ROTATION = 0.0
  MAP_PROJECTION_TYPE = SINUSOIDAL
  MAP_RESOLUTION = 1185.42760773333
  MAP_SCALE = 0.05
  MAXIMUM_LATITUDE = 75.9315
  MINIMUM_LATITUDE = 62.5548
  POSITIVE_LONGITUDE_DIRECTION = EAST
  REFERENCE_LATITUDE = "N/A"
  REFERENCE_LONGITUDE = "N/A"
  SAMPLE_FIRST_PIXEL = 1
  SAMPLE_LAST_PIXEL = 3834
  SAMPLE_PROJECTION_OFFSET = 1742.625
  SECOND_STANDARD_PARALLEL = "N/A"
  WESTERNMOST_LONGITUDE = 26.0465
END_OBJECT = IMAGE_MAP_PROJECTION
END
