PDS_VERSION_ID = PDS3
/* FILE DATA ELEMENTS */
RECORD_TYPE = UNDEFINED
/* POINTERS TO DATA OBJECTS */
^IMAGE = ("HI068_0000_RE4.TIF")
/* IDENTIFICATION DATA ELEMENTS */
DATA_SET_ID = "MEX-M-HRSC-4-REFDR-MAPPROJECT-EXT6-V4.0"
DATA_SET_NAME = "MARS EXPRESS HRSC MAP PROJECTED REFDR EXTENSION6 V4.0"
DETECTOR_ID = MEX_HRSC_RED
EVENT_TYPE = "MARS-REGIONAL-MAPPING-Im-Pf-Eo"
INSTRUMENT_HOST_ID = MEX
INSTRUMENT_HOST_NAME = "MARS EXPRESS"
INSTRUMENT_ID = HRSC
INSTRUMENT_NAME = "HIGH RESOLUTION STEREO CAMERA"
MISSION_NAME = "MARS EXPRESS"
MISSION_PHASE_NAME = ME_Phase_38
PROCESSING_LEVEL_ID = 4
PRODUCT_CREATION_TIME = 2023-01-29T08:20:11.000Z
PRODUCT_ID = "HI068_0000_RE4.TIF"
RELEASE_ID = 0004
REVISION_ID = 0000
/* QUALITY DATA ELEMENTS */
DATA_QUALITY_ID = 1
DATA_QUALITY_DESC = "Data calculated based on original SPICE kernels"
/* TIME DATA ELEMENTS */
SPACECRAFT_CLOCK_START_COUNT = "1/0471565681.07347"
SPACECRAFT_CLOCK_STOP_COUNT = "1/0471565933.38599"
START_TIME = 2018-04-11T22:29:08.357Z
STOP_TIME = 2018-04-11T22:32:15.617Z
/* ORBITAL DATA ELEMENTS */
ASCENDING_NODE_LONGITUDE = 234.97
MAXIMUM_RESOLUTION = 0.0654
FOOTPRINT_POINT_LATITUDE = (75.8561,75.7292,75.6101,75.6073, 75.7416,75.3474,74.9529,74.6899,74.427, 74.164,73.9011,73.5065,73.2432,72.9797, 72.7171,72.4541,72.1912,71.7968,71.5337 ,71.271,71.0081,70.7455,70.3514,70.0888 ,69.8261,69.5637,69.3012,69.0388, 68.7766,68.3832,68.1209,67.7277,67.4657 ,67.2036,66.9418,66.6802,66.2875, 66.0258,65.7645,65.503,65.2414,64.9797, 64.7187,64.3271,63.805,63.283,63.0181, 62.7503,62.6164,62.5642,62.6159,62.6549 ,62.6933,62.6942,62.6957,62.9647, 63.3667,63.76,64.2846,64.5471,64.8098, 65.0725,65.3353,65.5982,65.8613,66.2561 ,66.5193,66.9145,67.31,67.5737,67.8377, 68.234,68.4983,68.7628,69.0274,69.2921, 69.5569,69.822,70.0871,70.3523,70.7505, 71.0161,71.2819,71.5478,71.947,72.2132, 72.4796,72.7463,73.0131,73.4138,73.681, 74.0821,74.3498,74.6175,74.8856,75.1537 ,75.4218,75.8246,75.9588,75.8561)
FOOTPRINT_POINT_LONGITUDE = (31.5943,28.6336,26.3985,26.3501, 26.0241,26.4274,26.8077,27.0491,27.2814 ,27.5054,27.721,28.0305,28.2283,28.4198 ,28.6028,28.7807,28.9526,29.2002, 29.3588,29.5118,29.6606,29.8042,30.0118 ,30.1449,30.2741,30.3993,30.521,30.6391 ,30.7536,30.9196,31.0264,31.1811, 31.2805,31.3775,31.4714,31.5628,31.6957 ,31.7814,31.8643,31.9454,32.0248, 32.1023,32.1769,32.2855,32.4244,32.5565 ,32.6213,32.6848,32.7161,32.7281, 33.7809,34.6953,35.7565,35.7852,35.7947 ,35.7535,35.6904,35.6266,35.538,35.4923 ,35.4456,35.3977,35.3487,35.2986, 35.2473,35.168,35.1133,35.029,34.9415, 34.8812,34.8195,34.7239,34.658,34.5904, 34.5209,34.4495,34.376,34.3006,34.2229, 34.143,34.0186,33.9326,33.8441,33.7527, 33.6103,33.5116,33.4096,33.3044,33.1957 ,33.0258,32.9075,32.7222,32.5931, 32.4593,32.3205,32.1764,32.0267,31.791, 31.7093,31.5943)
ORBIT_NUMBER = 18068
ORBITAL_ECCENTRICITY = 0.571
ORBITAL_INCLINATION = 86.98
ORBITAL_SEMIMAJOR_AXIS = 8761.19
PERIAPSIS_ALTITUDE = 385.03
PERIAPSIS_ARGUMENT_ANGLE = 106.14
PERIAPSIS_TIME = 2018-04-11T22:29:07.000Z
SPACECRAFT_ORIENTATION = (0.0,-1.0,0.0)
^MEX_ORIENTATION_DESC = "MEX_ORIENTATION_DESC.TXT"
SPACECRAFT_POINTING_MODE = INERT
^MEX_POINTING_DESC = "MEX_POINTING_DESC.TXT"
RIGHT_ASCENSION = 163.185
DECLINATION = -62.201
OFFSET_ANGLE = -1e+32
SPACECRAFT_SOLAR_DISTANCE = 2.27161e+08
TARGET_NAME = MARS
/* CAMERA DATA ELEMENTS */
DETECTOR_TEMPERATURE = 19.1861
FOCAL_PLANE_TEMPERATURE = 10.4184
INST_CMPRS_NAME = "DISCRETE COSINE TRANSFORMATION (DCT)"
INST_CMPRS_RATIO = 34.2016
INST_CMPRS_QUALITY = 0
INST_CMPRS_QUANTZ_TBL_ID = 0
INSTRUMENT_TEMPERATURE = 12.0496
LENS_TEMPERATURE = 10.6223
MACROPIXEL_SIZE = 4
MISSING_FRAMES = 0
PIXEL_SUBSAMPLING_FLAG = N
SIGNAL_CHAIN_ID = 2
/* RADIOMETRIC DATA ELEMENTS */
BANDWIDTH = 48.0
CENTER_FILTER_WAVELENGTH = 748.0
RADIANCE_OFFSET = 0.726128
RADIANCE_SCALING_FACTOR = 0.00445705
REFLECTANCE_SCALING_FACTOR = 0.00052486
MEX:REFLECTANCE_OFFSET = 0.0855085
/* IMAGE OBJECT DEFINITIONS */
OBJECT = IMAGE
  INTERCHANGE_FORMAT = BINARY
  LINES = 15938
  LINE_SAMPLES = 3834
  SAMPLE_TYPE = UNSIGNED_INTEGER
  SAMPLE_BITS = 8
  BANDS = 1
  BAND_STORAGE_TYPE = BAND_SEQUENTIAL
  MAXIMUM = 255
  MEAN = 162.776
  MINIMUM = 1
  STANDARD_DEVIATION = 39.699
END_OBJECT = IMAGE
/* MAP OBJECT DEFINITIONS */
OBJECT = IMAGE_MAP_PROJECTION
  ^DATA_SET_MAP_PROJECTION_CATALOG= "DSMAP.CAT"
  A_AXIS_RADIUS = 3396.0
  B_AXIS_RADIUS = 3396.0
  C_AXIS_RADIUS = 3396.0
  CENTER_LATITUDE = 0.0
  CENTER_LONGITUDE = 32.0
  COORDINATE_SYSTEM_NAME = PLANETOGRAPHIC
  COORDINATE_SYSTEM_TYPE = "BODY-FIXED ROTATING"
  EASTERNMOST_LONGITUDE = 35.7947
  FIRST_STANDARD_PARALLEL = "N/A"
  LINE_FIRST_PIXEL = 1
  LINE_LAST_PIXEL = 15938
  LINE_PROJECTION_OFFSET = 90075.625
  MAP_PROJECTION_ROTATION = 0.0
  MAP_PROJECTION_TYPE = SINUSOIDAL
  MAP_RESOLUTION = 1185.42760773333
  MAP_SCALE = 0.05
  MAXIMUM_LATITUDE = 75.9588
  MINIMUM_LATITUDE = 62.5642
  POSITIVE_LONGITUDE_DIRECTION = EAST
  REFERENCE_LATITUDE = "N/A"
  REFERENCE_LONGITUDE = "N/A"
  SAMPLE_FIRST_PIXEL = 1
  SAMPLE_LAST_PIXEL = 3834
  SAMPLE_PROJECTION_OFFSET = 1742.625
  SECOND_STANDARD_PARALLEL = "N/A"
  WESTERNMOST_LONGITUDE = 26.0241
END_OBJECT = IMAGE_MAP_PROJECTION
END
