PDS_VERSION_ID = PDS3
/* FILE DATA ELEMENTS */
RECORD_TYPE = UNDEFINED
/* POINTERS TO DATA OBJECTS */
^IMAGE = ("HI070_0000_RE4.TIF")
/* IDENTIFICATION DATA ELEMENTS */
DATA_SET_ID = "MEX-M-HRSC-4-REFDR-MAPPROJECT-EXT6-V4.0"
DATA_SET_NAME = "MARS EXPRESS HRSC MAP PROJECTED REFDR EXTENSION6 V4.0"
DETECTOR_ID = MEX_HRSC_RED
EVENT_TYPE = "MARS-REGIONAL-MAPPING-Im-Pf-Eo"
INSTRUMENT_HOST_ID = MEX
INSTRUMENT_HOST_NAME = "MARS EXPRESS"
INSTRUMENT_ID = HRSC
INSTRUMENT_NAME = "HIGH RESOLUTION STEREO CAMERA"
MISSION_NAME = "MARS EXPRESS"
MISSION_PHASE_NAME = ME_Phase_38
PROCESSING_LEVEL_ID = 4
PRODUCT_CREATION_TIME = 2023-01-29T08:20:11.000Z
PRODUCT_ID = "HI070_0000_RE4.TIF"
RELEASE_ID = 0004
REVISION_ID = 0000
/* QUALITY DATA ELEMENTS */
DATA_QUALITY_ID = 1
DATA_QUALITY_DESC = "Data calculated based on original SPICE kernels"
/* TIME DATA ELEMENTS */
SPACECRAFT_CLOCK_START_COUNT = "1/0471615970.09086"
SPACECRAFT_CLOCK_STOP_COUNT = "1/0471616233.24958"
START_TIME = 2018-04-12T12:27:16.837Z
STOP_TIME = 2018-04-12T12:30:35.490Z
/* ORBITAL DATA ELEMENTS */
ASCENDING_NODE_LONGITUDE = 234.93
MAXIMUM_RESOLUTION = 0.0642
FOOTPRINT_POINT_LATITUDE = (74.9499,74.894,74.8077,74.6964,74.6936 ,74.7916,74.517,74.1044,73.6916,73.4164 ,73.1412,72.866,72.4531,72.1775,71.9022 ,71.6269,71.3513,71.0758,70.8004, 70.5249,70.1114,69.8361,69.5606,69.2851 ,69.0097,68.7343,68.4589,68.1836, 67.7707,67.4953,67.2201,66.9447,66.6694 ,66.2565,65.9814,65.5686,65.0184, 64.4683,64.0555,63.634,63.3515,63.0691, 62.7867,62.5043,62.222,61.7895,61.4997, 61.0651,60.9202,60.829,60.8935,60.9472, 60.9818,60.9829,60.9845,61.4206,61.8568 ,62.1477,62.5766,62.8601,63.1437, 63.4275,63.7111,63.9949,64.2751,64.828, 65.1045,65.3812,65.6579,65.9346,66.2115 ,66.4884,66.7654,67.0425,67.4579,67.874 ,68.29,68.5679,68.8454,69.2622,69.6792, 69.9573,70.2354,70.6528,70.9311,71.2096 ,71.4884,71.9069,72.1856,72.4646, 72.7438,73.0227,73.3023,73.5814,73.8614 ,74.1409,74.5611,74.8409,74.9809, 74.9499)
FOOTPRINT_POINT_LONGITUDE = (187.711,186.492,184.837,182.98,182.936 ,182.666,182.912,183.265,183.599, 183.811,184.015,184.212,184.494,184.675 ,184.849,185.017,185.18,185.337,185.489 ,185.636,185.849,185.985,186.117, 186.245,186.368,186.489,186.605,186.718 ,186.881,186.986,187.088,187.187, 187.284,187.423,187.513,187.643,187.808 ,187.964,188.076,188.186,188.257, 188.327,188.394,188.459,188.523,188.618 ,188.679,188.768,188.797,188.815, 189.897,190.93,191.693,191.721,191.73, 191.669,191.607,191.564,191.499,191.455 ,191.41,191.364,191.316,191.268,191.219 ,191.119,191.067,191.014,190.959, 190.904,190.846,190.788,190.728,190.666 ,190.569,190.47,190.366,190.295,190.221 ,190.106,189.987,189.904,189.819, 189.686,189.594,189.5,189.402,189.249, 189.143,189.033,188.92,188.802,188.681, 188.555,188.425,188.289,188.077,187.928 ,187.851,187.711)
ORBIT_NUMBER = 18070
ORBITAL_ECCENTRICITY = 0.57
ORBITAL_INCLINATION = 86.98
ORBITAL_SEMIMAJOR_AXIS = 8757.77
PERIAPSIS_ALTITUDE = 384.92
PERIAPSIS_ARGUMENT_ANGLE = 105.8
PERIAPSIS_TIME = 2018-04-12T12:27:05.000Z
SPACECRAFT_ORIENTATION = (0.0,-1.0,0.0)
^MEX_ORIENTATION_DESC = "MEX_ORIENTATION_DESC.TXT"
SPACECRAFT_POINTING_MODE = INERT
^MEX_POINTING_DESC = "MEX_POINTING_DESC.TXT"
RIGHT_ASCENSION = 162.611
DECLINATION = -62.018
OFFSET_ANGLE = -1e+32
SPACECRAFT_SOLAR_DISTANCE = 2.27047e+08
TARGET_NAME = MARS
/* CAMERA DATA ELEMENTS */
DETECTOR_TEMPERATURE = 18.5744
FOCAL_PLANE_TEMPERATURE = 8.5833
INST_CMPRS_NAME = "DISCRETE COSINE TRANSFORMATION (DCT)"
INST_CMPRS_RATIO = 32.7346
INST_CMPRS_QUALITY = 0
INST_CMPRS_QUANTZ_TBL_ID = 0
INSTRUMENT_TEMPERATURE = 11.8457
LENS_TEMPERATURE = 9.195
MACROPIXEL_SIZE = 4
MISSING_FRAMES = 0
PIXEL_SUBSAMPLING_FLAG = N
SIGNAL_CHAIN_ID = 2
/* RADIOMETRIC DATA ELEMENTS */
BANDWIDTH = 48.0
CENTER_FILTER_WAVELENGTH = 748.0
RADIANCE_OFFSET = 0.769035
RADIANCE_SCALING_FACTOR = 0.00386025
REFLECTANCE_SCALING_FACTOR = 0.000454126
MEX:REFLECTANCE_OFFSET = 0.0904705
/* IMAGE OBJECT DEFINITIONS */
OBJECT = IMAGE
  INTERCHANGE_FORMAT = BINARY
  LINES = 16883
  LINE_SAMPLES = 3609
  SAMPLE_TYPE = UNSIGNED_INTEGER
  SAMPLE_BITS = 8
  BANDS = 1
  BAND_STORAGE_TYPE = BAND_SEQUENTIAL
  MAXIMUM = 255
  MEAN = 118.736
  MINIMUM = 1
  STANDARD_DEVIATION = 41.9169
END_OBJECT = IMAGE
/* MAP OBJECT DEFINITIONS */
OBJECT = IMAGE_MAP_PROJECTION
  ^DATA_SET_MAP_PROJECTION_CATALOG= "DSMAP.CAT"
  A_AXIS_RADIUS = 3396.0
  B_AXIS_RADIUS = 3396.0
  C_AXIS_RADIUS = 3396.0
  CENTER_LATITUDE = 0.0
  CENTER_LONGITUDE = 189.0
  COORDINATE_SYSTEM_NAME = PLANETOGRAPHIC
  COORDINATE_SYSTEM_TYPE = "BODY-FIXED ROTATING"
  EASTERNMOST_LONGITUDE = 191.73
  FIRST_STANDARD_PARALLEL = "N/A"
  LINE_FIRST_PIXEL = 1
  LINE_LAST_PIXEL = 16883
  LINE_PROJECTION_OFFSET = 88967.875
  MAP_PROJECTION_ROTATION = 0.0
  MAP_PROJECTION_TYPE = SINUSOIDAL
  MAP_RESOLUTION = 1185.42760773333
  MAP_SCALE = 0.05
  MAXIMUM_LATITUDE = 74.98090000000001
  MINIMUM_LATITUDE = 60.829
  POSITIVE_LONGITUDE_DIRECTION = EAST
  REFERENCE_LATITUDE = "N/A"
  REFERENCE_LONGITUDE = "N/A"
  SAMPLE_FIRST_PIXEL = 1
  SAMPLE_LAST_PIXEL = 3609
  SAMPLE_PROJECTION_OFFSET = 1935.875
  SECOND_STANDARD_PARALLEL = "N/A"
  WESTERNMOST_LONGITUDE = 182.666
END_OBJECT = IMAGE_MAP_PROJECTION
END
