PDS_VERSION_ID = PDS3
/* FILE DATA ELEMENTS */
RECORD_TYPE = UNDEFINED
/* POINTERS TO DATA OBJECTS */
^IMAGE = ("HI070_0000_S24.TIF")
/* IDENTIFICATION DATA ELEMENTS */
DATA_SET_ID = "MEX-M-HRSC-4-REFDR-MAPPROJECT-EXT6-V4.0"
DATA_SET_NAME = "MARS EXPRESS HRSC MAP PROJECTED REFDR EXTENSION6 V4.0"
DETECTOR_ID = MEX_HRSC_S2
EVENT_TYPE = "MARS-REGIONAL-MAPPING-Im-Pf-Eo"
INSTRUMENT_HOST_ID = MEX
INSTRUMENT_HOST_NAME = "MARS EXPRESS"
INSTRUMENT_ID = HRSC
INSTRUMENT_NAME = "HIGH RESOLUTION STEREO CAMERA"
MISSION_NAME = "MARS EXPRESS"
MISSION_PHASE_NAME = ME_Phase_38
PROCESSING_LEVEL_ID = 4
PRODUCT_CREATION_TIME = 2023-01-29T08:20:11.000Z
PRODUCT_ID = "HI070_0000_S24.TIF"
RELEASE_ID = 0004
REVISION_ID = 0000
/* QUALITY DATA ELEMENTS */
DATA_QUALITY_ID = 1
DATA_QUALITY_DESC = "Data calculated based on original SPICE kernels"
/* TIME DATA ELEMENTS */
SPACECRAFT_CLOCK_START_COUNT = "1/0471615970.09086"
SPACECRAFT_CLOCK_STOP_COUNT = "1/0471616233.24958"
START_TIME = 2018-04-12T12:27:22.272Z
STOP_TIME = 2018-04-12T12:30:41.005Z
/* ORBITAL DATA ELEMENTS */
ASCENDING_NODE_LONGITUDE = 234.93
MAXIMUM_RESOLUTION = 0.0325
FOOTPRINT_POINT_LATITUDE = (74.9242,74.8377,74.7677,74.6708, 74.6679,74.7872,74.5106,74.0952,73.8183 ,73.5412,73.2645,72.9875,72.7107, 72.4337,72.1566,71.8798,71.603,71.1875, 70.9106,70.6338,70.3569,70.08,69.8034, 69.5267,69.2501,68.9735,68.5588,68.2824 ,68.006,67.7298,67.3155,66.9012,66.625, 66.349,66.0732,65.7972,65.1077,64.5564, 64.1372,63.8543,63.5714,63.1469,62.8643 ,62.5816,62.1483,61.8582,61.5682, 61.2783,60.9884,60.8408,60.8253,60.8627 ,60.896,60.934,60.977,60.9782,60.9792, 61.4186,61.7096,62.1462,62.4373,62.7272 ,63.0112,63.4373,63.8636,64.1478, 64.5729,65.1271,65.6818,65.9592,66.2368 ,66.5146,66.7924,67.0704,67.4871, 67.9046,68.183,68.4617,68.8798,69.1588, 69.4379,69.7173,70.1363,70.4156,70.6954 ,70.9752,71.255,71.5352,71.8159,72.0962 ,72.3766,72.7977,73.0784,73.3599, 73.7818,74.0632,74.4861,74.9088,75.0497 ,74.9242)
FOOTPRINT_POINT_LONGITUDE = (187.708,185.882,184.584,182.976, 182.931,182.636,182.884,183.241,183.467 ,183.685,183.894,184.096,184.29,184.478 ,184.66,184.835,185.004,185.247,185.403 ,185.553,185.699,185.84,185.976,186.108 ,186.237,186.361,186.54,186.655,186.766 ,186.875,187.031,187.181,187.278, 187.371,187.462,187.551,187.762,187.92, 188.035,188.11,188.183,188.289,188.357, 188.423,188.522,188.585,188.647,188.707 ,188.766,188.795,188.798,189.413, 190.001,190.731,191.66,191.688,191.698, 191.638,191.596,191.533,191.489,191.445 ,191.4,191.332,191.261,191.212,191.136, 191.034,190.926,190.87,190.813,190.754, 190.694,190.632,190.535,190.436,190.366 ,190.296,190.185,190.109,190.031, 189.951,189.825,189.738,189.648,189.556 ,189.46,189.362,189.26,189.155,189.046, 188.875,188.757,188.634,188.441,188.307 ,188.096,187.872,187.794,187.708)
ORBIT_NUMBER = 18070
ORBITAL_ECCENTRICITY = 0.57
ORBITAL_INCLINATION = 86.98
ORBITAL_SEMIMAJOR_AXIS = 8757.77
PERIAPSIS_ALTITUDE = 384.92
PERIAPSIS_ARGUMENT_ANGLE = 105.8
PERIAPSIS_TIME = 2018-04-12T12:27:05.000Z
SPACECRAFT_ORIENTATION = (0.0,-1.0,0.0)
^MEX_ORIENTATION_DESC = "MEX_ORIENTATION_DESC.TXT"
SPACECRAFT_POINTING_MODE = INERT
^MEX_POINTING_DESC = "MEX_POINTING_DESC.TXT"
RIGHT_ASCENSION = 162.611
DECLINATION = -62.018
OFFSET_ANGLE = -1e+32
SPACECRAFT_SOLAR_DISTANCE = 2.27047e+08
TARGET_NAME = MARS
/* CAMERA DATA ELEMENTS */
DETECTOR_TEMPERATURE = 18.5744
FOCAL_PLANE_TEMPERATURE = 8.5833
INST_CMPRS_NAME = "DISCRETE COSINE TRANSFORMATION (DCT)"
INST_CMPRS_RATIO = 15.0389
INST_CMPRS_QUALITY = 0
INST_CMPRS_QUANTZ_TBL_ID = 0
INSTRUMENT_TEMPERATURE = 11.8457
LENS_TEMPERATURE = 9.195
MACROPIXEL_SIZE = 2
MISSING_FRAMES = 0
PIXEL_SUBSAMPLING_FLAG = N
SIGNAL_CHAIN_ID = 1
/* RADIOMETRIC DATA ELEMENTS */
BANDWIDTH = 178.0
CENTER_FILTER_WAVELENGTH = 679.0
RADIANCE_OFFSET = 3.03655
RADIANCE_SCALING_FACTOR = 0.0129526
REFLECTANCE_SCALING_FACTOR = 0.000353607
MEX:REFLECTANCE_OFFSET = 0.0828979
/* IMAGE OBJECT DEFINITIONS */
OBJECT = IMAGE
  INTERCHANGE_FORMAT = BINARY
  LINES = 33766
  LINE_SAMPLES = 7217
  SAMPLE_TYPE = UNSIGNED_INTEGER
  SAMPLE_BITS = 8
  BANDS = 1
  BAND_STORAGE_TYPE = BAND_SEQUENTIAL
  MAXIMUM = 255
  MEAN = 118.985
  MINIMUM = 1
  STANDARD_DEVIATION = 43.7144
END_OBJECT = IMAGE
/* MAP OBJECT DEFINITIONS */
OBJECT = IMAGE_MAP_PROJECTION
  ^DATA_SET_MAP_PROJECTION_CATALOG= "DSMAP.CAT"
  A_AXIS_RADIUS = 3396.0
  B_AXIS_RADIUS = 3396.0
  C_AXIS_RADIUS = 3396.0
  CENTER_LATITUDE = 0.0
  CENTER_LONGITUDE = 189.0
  COORDINATE_SYSTEM_NAME = PLANETOGRAPHIC
  COORDINATE_SYSTEM_TYPE = "BODY-FIXED ROTATING"
  EASTERNMOST_LONGITUDE = 191.698
  FIRST_STANDARD_PARALLEL = "N/A"
  LINE_FIRST_PIXEL = 1
  LINE_LAST_PIXEL = 33766
  LINE_PROJECTION_OFFSET = 177936.25
  MAP_PROJECTION_ROTATION = 0.0
  MAP_PROJECTION_TYPE = SINUSOIDAL
  MAP_RESOLUTION = 2370.85521546667
  MAP_SCALE = 0.025
  MAXIMUM_LATITUDE = 75.0497
  MINIMUM_LATITUDE = 60.8253
  POSITIVE_LONGITUDE_DIRECTION = EAST
  REFERENCE_LATITUDE = "N/A"
  REFERENCE_LONGITUDE = "N/A"
  SAMPLE_FIRST_PIXEL = 1
  SAMPLE_LAST_PIXEL = 7217
  SAMPLE_PROJECTION_OFFSET = 3872.25
  SECOND_STANDARD_PARALLEL = "N/A"
  WESTERNMOST_LONGITUDE = 182.636
END_OBJECT = IMAGE_MAP_PROJECTION
END
