PDS_VERSION_ID = PDS3
/* FILE DATA ELEMENTS */
RECORD_TYPE = UNDEFINED
/* POINTERS TO DATA OBJECTS */
^IMAGE = ("HI141_0000_GR4.TIF")
/* IDENTIFICATION DATA ELEMENTS */
DATA_SET_ID = "MEX-M-HRSC-4-REFDR-MAPPROJECT-EXT6-V4.0"
DATA_SET_NAME = "MARS EXPRESS HRSC MAP PROJECTED REFDR EXTENSION6 V4.0"
DETECTOR_ID = MEX_HRSC_GREEN
EVENT_TYPE = "MARS-REGIONAL-MAPPING-Pf-Eo"
INSTRUMENT_HOST_ID = MEX
INSTRUMENT_HOST_NAME = "MARS EXPRESS"
INSTRUMENT_ID = HRSC
INSTRUMENT_NAME = "HIGH RESOLUTION STEREO CAMERA"
MISSION_NAME = "MARS EXPRESS"
MISSION_PHASE_NAME = ME_Phase_38
PROCESSING_LEVEL_ID = 4
PRODUCT_CREATION_TIME = 2023-01-29T08:20:11.000Z
PRODUCT_ID = "HI141_0000_GR4.TIF"
RELEASE_ID = 0004
REVISION_ID = 0000
/* QUALITY DATA ELEMENTS */
DATA_QUALITY_ID = 1
DATA_QUALITY_DESC = "Data calculated based on original SPICE kernels"
/* TIME DATA ELEMENTS */
SPACECRAFT_CLOCK_START_COUNT = "1/0473401034.23923"
SPACECRAFT_CLOCK_STOP_COUNT = "1/0473401287.14817"
START_TIME = 2018-05-03T04:18:13.601Z
STOP_TIME = 2018-05-03T04:21:02.345Z
/* ORBITAL DATA ELEMENTS */
ASCENDING_NODE_LONGITUDE = 233.67
MAXIMUM_RESOLUTION = 0.0706
FOOTPRINT_POINT_LATITUDE = (71.3833,71.3345,71.2736,71.2114, 71.2094,71.2396,70.9245,70.6034,70.1726 ,69.7416,69.3105,68.958,68.5171,68.2961 ,68.0751,67.7435,67.5225,67.3014, 66.9629,66.7365,66.5101,66.2836,66.0571 ,65.8306,65.6001,65.3683,65.1364, 64.7885,64.5565,64.3228,64.0855,63.8481 ,63.4813,63.2438,63.0034,62.7605, 62.5176,62.2747,62.0317,61.7845,61.536, 61.2876,61.0391,60.7889,60.5349,60.2809 ,60.0268,59.7726,59.6455,59.5284, 59.5688,59.5899,59.6065,59.6253,59.6443 ,59.6449,59.6465,59.9016,60.2841, 60.6665,60.9214,61.1722,61.4216,61.671, 61.9203,62.1683,62.4123,62.6564,62.9003 ,63.1441,63.3854,63.6239,63.8731, 64.1116,64.3501,64.5873,64.8204,65.0535 ,65.4032,65.6363,65.9843,66.2121, 66.4398,66.6676,66.8954,67.1231,67.4635 ,67.686,67.9085,68.2422,68.4647,68.6872 ,68.9097,69.2691,69.8123,70.1383, 70.5729,71.2199,71.326,71.3833)
FOOTPRINT_POINT_LONGITUDE = (140.337,138.746,137.18,135.844,135.803 ,135.723,135.878,136.03,136.225,136.411 ,136.588,136.727,136.893,136.973, 137.052,137.166,137.241,137.313,137.421 ,137.491,137.559,137.626,137.692, 137.756,137.819,137.882,137.943,138.032 ,138.09,138.147,138.204,138.259,138.343 ,138.395,138.447,138.498,138.548, 138.597,138.645,138.693,138.74,138.786, 138.831,138.875,138.919,138.962,139.004 ,139.045,139.065,139.083,140.027, 140.606,141.12,141.81,142.714,142.749, 142.76,142.73,142.683,142.636,142.603, 142.571,142.538,142.505,142.472,142.437 ,142.403,142.367,142.332,142.296,142.26 ,142.223,142.184,142.147,142.108, 142.069,142.031,141.991,141.93,141.888, 141.825,141.782,141.739,141.695,141.65, 141.604,141.533,141.486,141.438,141.365 ,141.314,141.263,141.21,141.122,140.985 ,140.899,140.779,140.59,140.558, 140.337)
ORBIT_NUMBER = 18141
ORBITAL_ECCENTRICITY = 0.57
ORBITAL_INCLINATION = 86.97
ORBITAL_SEMIMAJOR_AXIS = 8753.37
PERIAPSIS_ALTITUDE = 387.52
PERIAPSIS_ARGUMENT_ANGLE = 93.55
PERIAPSIS_TIME = 2018-05-03T04:14:09.000Z
SPACECRAFT_ORIENTATION = (0.0,-1.0,0.0)
^MEX_ORIENTATION_DESC = "MEX_ORIENTATION_DESC.TXT"
SPACECRAFT_POINTING_MODE = INERT
^MEX_POINTING_DESC = "MEX_POINTING_DESC.TXT"
RIGHT_ASCENSION = 145.367
DECLINATION = -53.718
OFFSET_ANGLE = -1e+32
SPACECRAFT_SOLAR_DISTANCE = 2.2302e+08
TARGET_NAME = MARS
/* CAMERA DATA ELEMENTS */
DETECTOR_TEMPERATURE = 18.3705
FOCAL_PLANE_TEMPERATURE = 7.3599
INST_CMPRS_NAME = "DISCRETE COSINE TRANSFORMATION (DCT)"
INST_CMPRS_RATIO = 19.6308
INST_CMPRS_QUALITY = 0
INST_CMPRS_QUANTZ_TBL_ID = 0
INSTRUMENT_TEMPERATURE = 10.8262
LENS_TEMPERATURE = 8.7872
MACROPIXEL_SIZE = 4
PIXEL_SUBSAMPLING_FLAG = N
SIGNAL_CHAIN_ID = 2
/* RADIOMETRIC DATA ELEMENTS */
BANDWIDTH = 88.0
CENTER_FILTER_WAVELENGTH = 538.0
RADIANCE_OFFSET = 1.26341
RADIANCE_SCALING_FACTOR = 0.00237185
REFLECTANCE_SCALING_FACTOR = 0.000101569
MEX:REFLECTANCE_OFFSET = 0.0541025
/* IMAGE OBJECT DEFINITIONS */
OBJECT = IMAGE
  INTERCHANGE_FORMAT = BINARY
  LINES = 14115
  LINE_SAMPLES = 3306
  SAMPLE_TYPE = UNSIGNED_INTEGER
  SAMPLE_BITS = 8
  BANDS = 1
  BAND_STORAGE_TYPE = BAND_SEQUENTIAL
  MAXIMUM = 255
  MEAN = 110.612
  MINIMUM = 1
  STANDARD_DEVIATION = 32.5753
END_OBJECT = IMAGE
/* MAP OBJECT DEFINITIONS */
OBJECT = IMAGE_MAP_PROJECTION
  ^DATA_SET_MAP_PROJECTION_CATALOG= "DSMAP.CAT"
  A_AXIS_RADIUS = 3396.0
  B_AXIS_RADIUS = 3396.0
  C_AXIS_RADIUS = 3396.0
  CENTER_LATITUDE = 0.0
  CENTER_LONGITUDE = 140.0
  COORDINATE_SYSTEM_NAME = PLANETOGRAPHIC
  COORDINATE_SYSTEM_TYPE = "BODY-FIXED ROTATING"
  EASTERNMOST_LONGITUDE = 142.76
  FIRST_STANDARD_PARALLEL = "N/A"
  LINE_FIRST_PIXEL = 1
  LINE_LAST_PIXEL = 14115
  LINE_PROJECTION_OFFSET = 84681.625
  MAP_PROJECTION_ROTATION = 0.0
  MAP_PROJECTION_TYPE = SINUSOIDAL
  MAP_RESOLUTION = 1185.42760773333
  MAP_SCALE = 0.05
  MAXIMUM_LATITUDE = 71.38330000000001
  MINIMUM_LATITUDE = 59.5284
  POSITIVE_LONGITUDE_DIRECTION = EAST
  REFERENCE_LATITUDE = "N/A"
  REFERENCE_LONGITUDE = "N/A"
  SAMPLE_FIRST_PIXEL = 1
  SAMPLE_LAST_PIXEL = 3306
  SAMPLE_PROJECTION_OFFSET = 1644.875
  SECOND_STANDARD_PARALLEL = "N/A"
  WESTERNMOST_LONGITUDE = 135.723
END_OBJECT = IMAGE_MAP_PROJECTION
END
