PDS_VERSION_ID = PDS3
/* FILE DATA ELEMENTS */
RECORD_TYPE = UNDEFINED
/* POINTERS TO DATA OBJECTS */
^IMAGE = ("HI141_0000_IR4.TIF")
/* IDENTIFICATION DATA ELEMENTS */
DATA_SET_ID = "MEX-M-HRSC-4-REFDR-MAPPROJECT-EXT6-V4.0"
DATA_SET_NAME = "MARS EXPRESS HRSC MAP PROJECTED REFDR EXTENSION6 V4.0"
DETECTOR_ID = MEX_HRSC_IR
EVENT_TYPE = "MARS-REGIONAL-MAPPING-Pf-Eo"
INSTRUMENT_HOST_ID = MEX
INSTRUMENT_HOST_NAME = "MARS EXPRESS"
INSTRUMENT_ID = HRSC
INSTRUMENT_NAME = "HIGH RESOLUTION STEREO CAMERA"
MISSION_NAME = "MARS EXPRESS"
MISSION_PHASE_NAME = ME_Phase_38
PROCESSING_LEVEL_ID = 4
PRODUCT_CREATION_TIME = 2023-01-29T08:20:11.000Z
PRODUCT_ID = "HI141_0000_IR4.TIF"
RELEASE_ID = 0004
REVISION_ID = 0000
/* QUALITY DATA ELEMENTS */
DATA_QUALITY_ID = 1
DATA_QUALITY_DESC = "Data calculated based on original SPICE kernels"
/* TIME DATA ELEMENTS */
SPACECRAFT_CLOCK_START_COUNT = "1/0473401034.23923"
SPACECRAFT_CLOCK_STOP_COUNT = "1/0473401287.14817"
START_TIME = 2018-05-03T04:17:50.799Z
STOP_TIME = 2018-05-03T04:20:34.513Z
/* ORBITAL DATA ELEMENTS */
ASCENDING_NODE_LONGITUDE = 233.67
MAXIMUM_RESOLUTION = 0.0695
FOOTPRINT_POINT_LATITUDE = (71.428,71.4061,71.3655,71.3163,71.2793 ,71.2774,71.2331,70.8041,70.3746, 70.0523,69.6219,69.1907,68.7484,68.4165 ,67.9739,67.7524,67.5306,67.2788, 67.0521,66.8245,66.5967,66.369,66.1411, 65.7991,65.5706,65.3377,64.9865,64.6351 ,64.4007,64.1661,63.93,63.6895,63.4489, 63.2081,62.9672,62.7262,62.4831,62.2362 ,61.9891,61.7419,61.4943,61.2467, 60.9932,60.7395,60.4856,60.2315,59.9758 ,59.7158,59.5856,59.5009,59.5245, 59.5521,59.5723,59.5814,59.5886,59.5889 ,59.5905,59.9823,60.3683,60.6234, 60.8782,61.133,61.3864,61.6352,61.8833, 62.1317,62.3801,62.7504,62.9927,63.2347 ,63.4767,63.7185,64.0811,64.3173, 64.5531,64.7887,65.0242,65.2598,65.4951 ,65.7282,65.9578,66.1873,66.4167, 66.7605,67.104,67.333,67.699,67.9222, 68.1453,68.3682,68.7025,68.9252,69.1479 ,69.4787,69.9126,70.3461,70.7796, 71.2127,71.3209,71.428)
FOOTPRINT_POINT_LONGITUDE = (140.112,139.253,137.956,136.677, 135.845,135.806,135.765,135.975,136.174 ,136.318,136.501,136.677,136.848, 136.971,137.13,137.206,137.281,137.363, 137.436,137.507,137.577,137.645,137.712 ,137.809,137.873,137.936,138.028, 138.117,138.175,138.232,138.288,138.343 ,138.398,138.451,138.503,138.554, 138.605,138.655,138.704,138.752,138.798 ,138.844,138.89,138.935,138.979,139.022 ,139.065,139.107,139.128,139.141, 139.762,140.654,141.522,142.059,142.668 ,142.702,142.713,142.662,142.611, 142.577,142.542,142.506,142.47,142.434, 142.399,142.362,142.324,142.266,142.228 ,142.189,142.15,142.11,142.048,142.007, 141.965,141.923,141.88,141.836,141.792, 141.747,141.701,141.655,141.609,141.537 ,141.463,141.412,141.33,141.278,141.225 ,141.172,141.089,141.032,140.974, 140.886,140.767,140.642,140.511,140.374 ,140.339,140.112)
ORBIT_NUMBER = 18141
ORBITAL_ECCENTRICITY = 0.57
ORBITAL_INCLINATION = 86.97
ORBITAL_SEMIMAJOR_AXIS = 8753.37
PERIAPSIS_ALTITUDE = 387.52
PERIAPSIS_ARGUMENT_ANGLE = 93.55
PERIAPSIS_TIME = 2018-05-03T04:14:09.000Z
SPACECRAFT_ORIENTATION = (0.0,-1.0,0.0)
^MEX_ORIENTATION_DESC = "MEX_ORIENTATION_DESC.TXT"
SPACECRAFT_POINTING_MODE = INERT
^MEX_POINTING_DESC = "MEX_POINTING_DESC.TXT"
RIGHT_ASCENSION = 145.367
DECLINATION = -53.718
OFFSET_ANGLE = -1e+32
SPACECRAFT_SOLAR_DISTANCE = 2.2302e+08
TARGET_NAME = MARS
/* CAMERA DATA ELEMENTS */
DETECTOR_TEMPERATURE = 17.9627
FOCAL_PLANE_TEMPERATURE = 7.3599
INST_CMPRS_NAME = "DISCRETE COSINE TRANSFORMATION (DCT)"
INST_CMPRS_RATIO = 17.1304
INST_CMPRS_QUALITY = 0
INST_CMPRS_QUANTZ_TBL_ID = 0
INSTRUMENT_TEMPERATURE = 10.8262
LENS_TEMPERATURE = 8.7872
MACROPIXEL_SIZE = 4
PIXEL_SUBSAMPLING_FLAG = N
SIGNAL_CHAIN_ID = 2
/* RADIOMETRIC DATA ELEMENTS */
BANDWIDTH = 81.0
CENTER_FILTER_WAVELENGTH = 955.5
RADIANCE_OFFSET = 0.737018
RADIANCE_SCALING_FACTOR = 0.00284439
REFLECTANCE_SCALING_FACTOR = 0.000305213
MEX:REFLECTANCE_OFFSET = 0.0790845
/* IMAGE OBJECT DEFINITIONS */
OBJECT = IMAGE
  INTERCHANGE_FORMAT = BINARY
  LINES = 14115
  LINE_SAMPLES = 3306
  SAMPLE_TYPE = UNSIGNED_INTEGER
  SAMPLE_BITS = 8
  BANDS = 1
  BAND_STORAGE_TYPE = BAND_SEQUENTIAL
  MAXIMUM = 255
  MEAN = 113.742
  MINIMUM = 1
  STANDARD_DEVIATION = 40.0582
END_OBJECT = IMAGE
/* MAP OBJECT DEFINITIONS */
OBJECT = IMAGE_MAP_PROJECTION
  ^DATA_SET_MAP_PROJECTION_CATALOG= "DSMAP.CAT"
  A_AXIS_RADIUS = 3396.0
  B_AXIS_RADIUS = 3396.0
  C_AXIS_RADIUS = 3396.0
  CENTER_LATITUDE = 0.0
  CENTER_LONGITUDE = 140.0
  COORDINATE_SYSTEM_NAME = PLANETOGRAPHIC
  COORDINATE_SYSTEM_TYPE = "BODY-FIXED ROTATING"
  EASTERNMOST_LONGITUDE = 142.713
  FIRST_STANDARD_PARALLEL = "N/A"
  LINE_FIRST_PIXEL = 1
  LINE_LAST_PIXEL = 14115
  LINE_PROJECTION_OFFSET = 84681.625
  MAP_PROJECTION_ROTATION = 0.0
  MAP_PROJECTION_TYPE = SINUSOIDAL
  MAP_RESOLUTION = 1185.42760773333
  MAP_SCALE = 0.05
  MAXIMUM_LATITUDE = 71.428
  MINIMUM_LATITUDE = 59.5009
  POSITIVE_LONGITUDE_DIRECTION = EAST
  REFERENCE_LATITUDE = "N/A"
  REFERENCE_LONGITUDE = "N/A"
  SAMPLE_FIRST_PIXEL = 1
  SAMPLE_LAST_PIXEL = 3306
  SAMPLE_PROJECTION_OFFSET = 1644.875
  SECOND_STANDARD_PARALLEL = "N/A"
  WESTERNMOST_LONGITUDE = 135.765
END_OBJECT = IMAGE_MAP_PROJECTION
END
