PDS_VERSION_ID = PDS3
/* FILE DATA ELEMENTS */
RECORD_TYPE = UNDEFINED
/* POINTERS TO DATA OBJECTS */
^IMAGE = ("HI141_0000_P24.TIF")
/* IDENTIFICATION DATA ELEMENTS */
DATA_SET_ID = "MEX-M-HRSC-4-REFDR-MAPPROJECT-EXT6-V4.0"
DATA_SET_NAME = "MARS EXPRESS HRSC MAP PROJECTED REFDR EXTENSION6 V4.0"
DETECTOR_ID = MEX_HRSC_P2
EVENT_TYPE = "MARS-REGIONAL-MAPPING-Pf-Eo"
INSTRUMENT_HOST_ID = MEX
INSTRUMENT_HOST_NAME = "MARS EXPRESS"
INSTRUMENT_ID = HRSC
INSTRUMENT_NAME = "HIGH RESOLUTION STEREO CAMERA"
MISSION_NAME = "MARS EXPRESS"
MISSION_PHASE_NAME = ME_Phase_38
PROCESSING_LEVEL_ID = 4
PRODUCT_CREATION_TIME = 2023-01-29T08:20:11.000Z
PRODUCT_ID = "HI141_0000_P24.TIF"
RELEASE_ID = 0004
REVISION_ID = 0000
/* QUALITY DATA ELEMENTS */
DATA_QUALITY_ID = 1
DATA_QUALITY_DESC = "Data calculated based on original SPICE kernels"
/* TIME DATA ELEMENTS */
SPACECRAFT_CLOCK_START_COUNT = "1/0473401034.23923"
SPACECRAFT_CLOCK_STOP_COUNT = "1/0473401287.14817"
START_TIME = 2018-05-03T04:18:46.346Z
STOP_TIME = 2018-05-03T04:21:40.028Z
/* ORBITAL DATA ELEMENTS */
ASCENDING_NODE_LONGITUDE = 233.67
MAXIMUM_RESOLUTION = 0.0777
FOOTPRINT_POINT_LATITUDE = (71.3043,71.2618,71.2326,71.2012, 71.1675,71.1317,71.0936,71.0911,71.2225 ,70.5737,70.1406,69.8161,69.3798, 68.8271,68.3857,67.9401,67.7142,67.4887 ,67.2633,67.0379,66.8126,66.5836,66.353 ,66.1228,65.7776,65.5478,65.3132, 65.0783,64.7261,64.4914,64.1337,63.8942 ,63.6548,63.4155,63.0508,62.8066, 62.4405,62.0745,61.8307,61.5869,61.3433 ,61.0997,60.8563,60.613,60.3697,60.1266 ,59.7619,59.6403,59.5393,59.5688, 59.5963,59.6263,59.6591,59.6824,59.6968 ,59.6978,59.6995,60.0653,60.3092, 60.5532,60.7973,61.0415,61.2858,61.5301 ,61.7749,62.0197,62.2643,62.5087, 62.8762,63.2439,63.4892,63.7299,63.9702 ,64.2109,64.4516,64.6903,65.0441, 65.2799,65.516,65.7514,65.9825,66.2139, 66.4455,66.6769,67.0227,67.2495,67.4765 ,67.7036,67.9307,68.1581,68.3834, 68.8286,69.274,69.4971,69.8301,70.2662, 70.7033,71.2502,71.3596,71.3043)
FOOTPRINT_POINT_LONGITUDE = (140.634,139.434,138.704,137.978, 137.259,136.545,135.835,135.791,135.658 ,135.97,136.165,136.305,136.485,136.702 ,136.865,137.023,137.101,137.176, 137.249,137.321,137.391,137.46,137.529, 137.596,137.693,137.756,137.818,137.88, 137.969,138.027,138.113,138.169,138.224 ,138.277,138.356,138.408,138.483, 138.555,138.602,138.648,138.693,138.737 ,138.78,138.822,138.863,138.903,138.961 ,138.981,138.996,139.552,140.114, 140.785,141.604,142.286,142.757,142.793 ,142.805,142.766,142.74,142.713,142.686 ,142.658,142.63,142.601,142.573,142.543 ,142.513,142.482,142.435,142.386, 142.353,142.32,142.286,142.252,142.218, 142.182,142.129,142.092,142.055,142.017 ,141.979,141.941,141.902,141.861,141.8, 141.758,141.716,141.673,141.629,141.584 ,141.539,141.447,141.35,141.3,141.224, 141.119,141.01,140.866,140.836,140.634)
ORBIT_NUMBER = 18141
ORBITAL_ECCENTRICITY = 0.57
ORBITAL_INCLINATION = 86.97
ORBITAL_SEMIMAJOR_AXIS = 8753.37
PERIAPSIS_ALTITUDE = 387.52
PERIAPSIS_ARGUMENT_ANGLE = 93.55
PERIAPSIS_TIME = 2018-05-03T04:14:09.000Z
SPACECRAFT_ORIENTATION = (0.0,-1.0,0.0)
^MEX_ORIENTATION_DESC = "MEX_ORIENTATION_DESC.TXT"
SPACECRAFT_POINTING_MODE = INERT
^MEX_POINTING_DESC = "MEX_POINTING_DESC.TXT"
RIGHT_ASCENSION = 145.367
DECLINATION = -53.718
OFFSET_ANGLE = -1e+32
SPACECRAFT_SOLAR_DISTANCE = 2.2302e+08
TARGET_NAME = MARS
/* CAMERA DATA ELEMENTS */
DETECTOR_TEMPERATURE = 18.9822
FOCAL_PLANE_TEMPERATURE = 7.3599
INST_CMPRS_NAME = "DISCRETE COSINE TRANSFORMATION (DCT)"
INST_CMPRS_RATIO = 13.5039
INST_CMPRS_QUALITY = 0
INST_CMPRS_QUANTZ_TBL_ID = 0
INSTRUMENT_TEMPERATURE = 10.8262
LENS_TEMPERATURE = 8.7872
MACROPIXEL_SIZE = 4
MISSING_FRAMES = 0
PIXEL_SUBSAMPLING_FLAG = N
SIGNAL_CHAIN_ID = 3
/* RADIOMETRIC DATA ELEMENTS */
BANDWIDTH = 177.0
CENTER_FILTER_WAVELENGTH = 676.5
RADIANCE_OFFSET = 3.51259
RADIANCE_SCALING_FACTOR = 0.0088449
REFLECTANCE_SCALING_FACTOR = 0.000233258
MEX:REFLECTANCE_OFFSET = 0.0926339
/* IMAGE OBJECT DEFINITIONS */
OBJECT = IMAGE
  INTERCHANGE_FORMAT = BINARY
  LINES = 14115
  LINE_SAMPLES = 3306
  SAMPLE_TYPE = UNSIGNED_INTEGER
  SAMPLE_BITS = 8
  BANDS = 1
  BAND_STORAGE_TYPE = BAND_SEQUENTIAL
  MAXIMUM = 255
  MEAN = 118.213
  MINIMUM = 1
  STANDARD_DEVIATION = 38.5399
END_OBJECT = IMAGE
/* MAP OBJECT DEFINITIONS */
OBJECT = IMAGE_MAP_PROJECTION
  ^DATA_SET_MAP_PROJECTION_CATALOG= "DSMAP.CAT"
  A_AXIS_RADIUS = 3396.0
  B_AXIS_RADIUS = 3396.0
  C_AXIS_RADIUS = 3396.0
  CENTER_LATITUDE = 0.0
  CENTER_LONGITUDE = 140.0
  COORDINATE_SYSTEM_NAME = PLANETOGRAPHIC
  COORDINATE_SYSTEM_TYPE = "BODY-FIXED ROTATING"
  EASTERNMOST_LONGITUDE = 142.805
  FIRST_STANDARD_PARALLEL = "N/A"
  LINE_FIRST_PIXEL = 1
  LINE_LAST_PIXEL = 14115
  LINE_PROJECTION_OFFSET = 84681.625
  MAP_PROJECTION_ROTATION = 0.0
  MAP_PROJECTION_TYPE = SINUSOIDAL
  MAP_RESOLUTION = 1185.42760773333
  MAP_SCALE = 0.05
  MAXIMUM_LATITUDE = 71.3596
  MINIMUM_LATITUDE = 59.5393
  POSITIVE_LONGITUDE_DIRECTION = EAST
  REFERENCE_LATITUDE = "N/A"
  REFERENCE_LONGITUDE = "N/A"
  SAMPLE_FIRST_PIXEL = 1
  SAMPLE_LAST_PIXEL = 3306
  SAMPLE_PROJECTION_OFFSET = 1644.875
  SECOND_STANDARD_PARALLEL = "N/A"
  WESTERNMOST_LONGITUDE = 135.658
END_OBJECT = IMAGE_MAP_PROJECTION
END
