PDS_VERSION_ID = PDS3
/* FILE DATA ELEMENTS */
RECORD_TYPE = UNDEFINED
/* POINTERS TO DATA OBJECTS */
^IMAGE = ("HI141_0000_RE4.TIF")
/* IDENTIFICATION DATA ELEMENTS */
DATA_SET_ID = "MEX-M-HRSC-4-REFDR-MAPPROJECT-EXT6-V4.0"
DATA_SET_NAME = "MARS EXPRESS HRSC MAP PROJECTED REFDR EXTENSION6 V4.0"
DETECTOR_ID = MEX_HRSC_RED
EVENT_TYPE = "MARS-REGIONAL-MAPPING-Pf-Eo"
INSTRUMENT_HOST_ID = MEX
INSTRUMENT_HOST_NAME = "MARS EXPRESS"
INSTRUMENT_ID = HRSC
INSTRUMENT_NAME = "HIGH RESOLUTION STEREO CAMERA"
MISSION_NAME = "MARS EXPRESS"
MISSION_PHASE_NAME = ME_Phase_38
PROCESSING_LEVEL_ID = 4
PRODUCT_CREATION_TIME = 2023-01-29T08:20:11.000Z
PRODUCT_ID = "HI141_0000_RE4.TIF"
RELEASE_ID = 0004
REVISION_ID = 0000
/* QUALITY DATA ELEMENTS */
DATA_QUALITY_ID = 1
DATA_QUALITY_DESC = "Data calculated based on original SPICE kernels"
/* TIME DATA ELEMENTS */
SPACECRAFT_CLOCK_START_COUNT = "1/0473401034.23923"
SPACECRAFT_CLOCK_STOP_COUNT = "1/0473401287.14817"
START_TIME = 2018-05-03T04:18:53.353Z
STOP_TIME = 2018-05-03T04:21:48.221Z
/* ORBITAL DATA ELEMENTS */
ASCENDING_NODE_LONGITUDE = 233.67
MAXIMUM_RESOLUTION = 0.0798
FOOTPRINT_POINT_LATITUDE = (71.3048,71.2799,71.2511,71.22,71.1866, 71.1511,71.0859,71.0834,71.2368,70.9125 ,70.5883,70.1564,69.7175,69.3864, 69.0555,68.6157,68.3908,68.1656,67.8274 ,67.6025,67.3781,67.1513,66.9217, 66.6924,66.3482,66.1189,65.8866,65.6526 ,65.419,65.1852,64.9515,64.5943,64.3559 ,63.9985,63.6369,63.3939,63.1511, 62.9085,62.5445,62.302,62.0597,61.8174, 61.5753,61.3333,61.0915,60.8498,60.6082 ,60.246,60.0047,59.7633,59.6427,59.5316 ,59.573,59.619,59.645,59.6659,59.6967, 59.6978,59.6995,60.0625,60.4257,60.6679 ,60.9104,61.2743,61.5169,61.7599, 62.0032,62.2462,62.489,62.7322,62.9759, 63.2197,63.4635,63.7074,64.0727,64.3121 ,64.5516,64.7911,65.1499,65.3847, 65.6196,65.8547,66.0899,66.3233,66.5538 ,66.8998,67.1307,67.4769,67.7031, 67.9294,68.1562,68.496,68.8358,69.2799, 69.725,70.281,70.7171,71.263,71.3722, 71.3048)
FOOTPRINT_POINT_LONGITUDE = (140.687,139.983,139.239,138.5,137.767, 137.04,135.824,135.779,135.635,135.793, 135.946,136.141,136.33,136.466,136.598, 136.764,136.847,136.928,137.045,137.121 ,137.195,137.268,137.34,137.411,137.513 ,137.58,137.646,137.71,137.773,137.835, 137.895,137.985,138.043,138.128,138.211 ,138.265,138.317,138.369,138.444, 138.493,138.54,138.587,138.632,138.677, 138.72,138.763,138.804,138.865,138.904, 138.943,138.962,138.979,139.751,140.707 ,141.315,141.855,142.762,142.798,142.81 ,142.773,142.735,142.709,142.682, 142.642,142.614,142.586,142.558,142.529 ,142.498,142.468,142.437,142.406, 142.374,142.342,142.292,142.259,142.225 ,142.19,142.137,142.101,142.064,142.027 ,141.989,141.951,141.913,141.853, 141.813,141.75,141.709,141.666,141.623, 141.555,141.486,141.392,141.294,141.165 ,141.059,140.918,140.889,140.687)
ORBIT_NUMBER = 18141
ORBITAL_ECCENTRICITY = 0.57
ORBITAL_INCLINATION = 86.97
ORBITAL_SEMIMAJOR_AXIS = 8753.37
PERIAPSIS_ALTITUDE = 387.52
PERIAPSIS_ARGUMENT_ANGLE = 93.55
PERIAPSIS_TIME = 2018-05-03T04:14:09.000Z
SPACECRAFT_ORIENTATION = (0.0,-1.0,0.0)
^MEX_ORIENTATION_DESC = "MEX_ORIENTATION_DESC.TXT"
SPACECRAFT_POINTING_MODE = INERT
^MEX_POINTING_DESC = "MEX_POINTING_DESC.TXT"
RIGHT_ASCENSION = 145.367
DECLINATION = -53.718
OFFSET_ANGLE = -1e+32
SPACECRAFT_SOLAR_DISTANCE = 2.2302e+08
TARGET_NAME = MARS
/* CAMERA DATA ELEMENTS */
DETECTOR_TEMPERATURE = 18.9822
FOCAL_PLANE_TEMPERATURE = 7.3599
INST_CMPRS_NAME = "DISCRETE COSINE TRANSFORMATION (DCT)"
INST_CMPRS_RATIO = 25.7942
INST_CMPRS_QUALITY = 0
INST_CMPRS_QUANTZ_TBL_ID = 0
INSTRUMENT_TEMPERATURE = 10.8262
LENS_TEMPERATURE = 8.7872
MACROPIXEL_SIZE = 4
MISSING_FRAMES = 0
PIXEL_SUBSAMPLING_FLAG = N
SIGNAL_CHAIN_ID = 2
/* RADIOMETRIC DATA ELEMENTS */
BANDWIDTH = 48.0
CENTER_FILTER_WAVELENGTH = 748.0
RADIANCE_OFFSET = 0.974774
RADIANCE_SCALING_FACTOR = 0.00274446
REFLECTANCE_SCALING_FACTOR = 0.000311507
MEX:REFLECTANCE_OFFSET = 0.110641
/* IMAGE OBJECT DEFINITIONS */
OBJECT = IMAGE
  INTERCHANGE_FORMAT = BINARY
  LINES = 14115
  LINE_SAMPLES = 3306
  SAMPLE_TYPE = UNSIGNED_INTEGER
  SAMPLE_BITS = 8
  BANDS = 1
  BAND_STORAGE_TYPE = BAND_SEQUENTIAL
  MAXIMUM = 255
  MEAN = 116.739
  MINIMUM = 1
  STANDARD_DEVIATION = 40.5757
END_OBJECT = IMAGE
/* MAP OBJECT DEFINITIONS */
OBJECT = IMAGE_MAP_PROJECTION
  ^DATA_SET_MAP_PROJECTION_CATALOG= "DSMAP.CAT"
  A_AXIS_RADIUS = 3396.0
  B_AXIS_RADIUS = 3396.0
  C_AXIS_RADIUS = 3396.0
  CENTER_LATITUDE = 0.0
  CENTER_LONGITUDE = 140.0
  COORDINATE_SYSTEM_NAME = PLANETOGRAPHIC
  COORDINATE_SYSTEM_TYPE = "BODY-FIXED ROTATING"
  EASTERNMOST_LONGITUDE = 142.81
  FIRST_STANDARD_PARALLEL = "N/A"
  LINE_FIRST_PIXEL = 1
  LINE_LAST_PIXEL = 14115
  LINE_PROJECTION_OFFSET = 84681.625
  MAP_PROJECTION_ROTATION = 0.0
  MAP_PROJECTION_TYPE = SINUSOIDAL
  MAP_RESOLUTION = 1185.42760773333
  MAP_SCALE = 0.05
  MAXIMUM_LATITUDE = 71.37220000000001
  MINIMUM_LATITUDE = 59.5316
  POSITIVE_LONGITUDE_DIRECTION = EAST
  REFERENCE_LATITUDE = "N/A"
  REFERENCE_LONGITUDE = "N/A"
  SAMPLE_FIRST_PIXEL = 1
  SAMPLE_LAST_PIXEL = 3306
  SAMPLE_PROJECTION_OFFSET = 1644.875
  SECOND_STANDARD_PARALLEL = "N/A"
  WESTERNMOST_LONGITUDE = 135.635
END_OBJECT = IMAGE_MAP_PROJECTION
END
