PDS_VERSION_ID = PDS3
/* FILE DATA ELEMENTS */
RECORD_TYPE = UNDEFINED
/* POINTERS TO DATA OBJECTS */
^IMAGE = ("HI391_0000_GR4.TIF")
/* IDENTIFICATION DATA ELEMENTS */
DATA_SET_ID = "MEX-M-HRSC-4-REFDR-MAPPROJECT-EXT6-V4.0"
DATA_SET_NAME = "MARS EXPRESS HRSC MAP PROJECTED REFDR EXTENSION6 V4.0"
DETECTOR_ID = MEX_HRSC_GREEN
EVENT_TYPE = "MARS-TERMINATOR-CALIBRATION-Tc"
INSTRUMENT_HOST_ID = MEX
INSTRUMENT_HOST_NAME = "MARS EXPRESS"
INSTRUMENT_ID = HRSC
INSTRUMENT_NAME = "HIGH RESOLUTION STEREO CAMERA"
MISSION_NAME = "MARS EXPRESS"
MISSION_PHASE_NAME = ME_Phase_39
PROCESSING_LEVEL_ID = 4
PRODUCT_CREATION_TIME = 2023-01-29T08:20:11.000Z
PRODUCT_ID = "HI391_0000_GR4.TIF"
RELEASE_ID = 0004
REVISION_ID = 0000
/* QUALITY DATA ELEMENTS */
DATA_QUALITY_ID = 1
DATA_QUALITY_DESC = "Data calculated based on original SPICE kernels"
/* TIME DATA ELEMENTS */
SPACECRAFT_CLOCK_START_COUNT = "1/0479694339.25667"
SPACECRAFT_CLOCK_STOP_COUNT = "1/0479694842.26063"
START_TIME = 2018-07-15T00:27:51.469Z
STOP_TIME = 2018-07-15T00:31:59.471Z
/* ORBITAL DATA ELEMENTS */
ASCENDING_NODE_LONGITUDE = 229.08
MAXIMUM_RESOLUTION = 0.7716
FOOTPRINT_POINT_LATITUDE = (-58.3666,-58.3533,-58.4076,-62.6797, -65.3055,-68.7114,-70.8715,-72.7527, -75.1801,-78.844,-82.3286,-83.6278, -82.8131,-79.8532,-76.589,-73.4952, -71.2087,-66.4238,-63.2062,-59.0791, -53.7845,-50.3765,-47.7476,-44.041, -41.5216,-39.1209,-36.2415,-33.0584, -30.6597,-27.3333,-24.4465,-20.6884, -17.7126,-15.2344,-12.4793,-8.44646, -3.91063,-1.19486,2.1765,5.0824,7.73209 ,11.297,14.2978,18.0827,22.6599,23.7415 ,27.1886,27.8009,30.1619,32.5888, 32.9963,33.8943,34.6479,37.2797,36.7878 ,37.5655,38.5925,40.7835,37.1195, 31.0445,27.1975,24.372,21.1598,16.7896, 13.7556,9.61522,6.50967,2.70256, -0.426826,-3.63084,-6.07111,-9.69609, -14.3426,-17.1786,-21.2394,-23.2614, -26.0516,-28.4664,-31.9875,-35.5027, -37.4441,-38.8749,-40.9619,-41.9456, -42.7679,-43.124,-42.9147,-42.4638, -41.8598,-40.7211,-39.484,-38.3916, -41.0256,-43.7083,-47.6834,-49.8731, -51.413,-55.3288,-58.3666)
FOOTPRINT_POINT_LONGITUDE = (29.5144,29.4266,29.5985,25.9798, 21.1812,12.7721,4.939,353.254,357.648, 7.99646,30.1083,57.9386,95.3013,119.331 ,130.732,137.188,140.728,146.157, 148.965,151.975,155.269,157.172,158.565 ,160.434,161.657,162.813,164.185,165.68 ,166.817,168.384,169.776,171.612, 173.109,174.389,175.843,178.052,180.697 ,182.378,184.586,186.612,188.577, 191.438,194.081,196.648,195.243,191.497 ,189.459,186.225,183.149,180.549, 179.539,178.112,174.474,169.819,166.501 ,162.295,157.828,152.883,151.875, 150.552,149.612,148.901,148.012,146.734 ,145.777,144.382,143.26,141.781,140.46, 139.018,137.796,135.896,133.094,131.154 ,127.993,126.226,123.514,120.841, 116.265,110.485,106.472,102.897,96.0406 ,91.3676,85.3329,77.4645,72.0875, 67.7119,63.8783,58.7373,54.5475,49.28, 47.0021,44.917,44.5125,42.2665,38.2394, 35.1497,29.5144)
ORBIT_NUMBER = 18391
ORBITAL_ECCENTRICITY = 0.572
ORBITAL_INCLINATION = 86.97
ORBITAL_SEMIMAJOR_AXIS = 8791.11
PERIAPSIS_ALTITUDE = 375.55
PERIAPSIS_ARGUMENT_ANGLE = 50.39
PERIAPSIS_TIME = 2018-07-14T22:00:19.000Z
SPACECRAFT_ORIENTATION = (0.0,1.0,0.0)
^MEX_ORIENTATION_DESC = "MEX_ORIENTATION_DESC.TXT"
SPACECRAFT_POINTING_MODE = FIXED
^MEX_POINTING_DESC = "MEX_POINTING_DESC.TXT"
RIGHT_ASCENSION = -1e+32
DECLINATION = -1e+32
OFFSET_ANGLE = -1e+32
SPACECRAFT_SOLAR_DISTANCE = 2.10836e+08
TARGET_NAME = MARS
/* CAMERA DATA ELEMENTS */
DETECTOR_TEMPERATURE = 18.1666
FOCAL_PLANE_TEMPERATURE = 8.5833
INST_CMPRS_NAME = "DISCRETE COSINE TRANSFORMATION (DCT)"
INST_CMPRS_RATIO = 9.95122
INST_CMPRS_QUALITY = 0
INST_CMPRS_QUANTZ_TBL_ID = 0
INSTRUMENT_TEMPERATURE = 11.4379
LENS_TEMPERATURE = 9.195
MACROPIXEL_SIZE = 2
MISSING_FRAMES = 0
PIXEL_SUBSAMPLING_FLAG = N
SIGNAL_CHAIN_ID = 2
/* RADIOMETRIC DATA ELEMENTS */
BANDWIDTH = 88.0
CENTER_FILTER_WAVELENGTH = 538.0
RADIANCE_OFFSET = 0.0
RADIANCE_SCALING_FACTOR = 0.0211225
REFLECTANCE_SCALING_FACTOR = 0.000808302
MEX:REFLECTANCE_OFFSET = 0.0
/* IMAGE OBJECT DEFINITIONS */
OBJECT = IMAGE
  INTERCHANGE_FORMAT = BINARY
  LINES = 9290
  LINE_SAMPLES = 9490
  SAMPLE_TYPE = UNSIGNED_INTEGER
  SAMPLE_BITS = 8
  BANDS = 1
  BAND_STORAGE_TYPE = BAND_SEQUENTIAL
  MAXIMUM = 254
  MEAN = 184.502
  MINIMUM = 1
  STANDARD_DEVIATION = 60.64
END_OBJECT = IMAGE
/* MAP OBJECT DEFINITIONS */
OBJECT = IMAGE_MAP_PROJECTION
  ^DATA_SET_MAP_PROJECTION_CATALOG= "DSMAP.CAT"
  A_AXIS_RADIUS = 3396.0
  B_AXIS_RADIUS = 3396.0
  C_AXIS_RADIUS = 3396.0
  CENTER_LATITUDE = 0.0
  CENTER_LONGITUDE = 143.0
  COORDINATE_SYSTEM_NAME = PLANETOGRAPHIC
  COORDINATE_SYSTEM_TYPE = "BODY-FIXED ROTATING"
  EASTERNMOST_LONGITUDE = 360.0
  FIRST_STANDARD_PARALLEL = "N/A"
  LINE_FIRST_PIXEL = 1
  LINE_LAST_PIXEL = 9290
  LINE_PROJECTION_OFFSET = 3042.0
  MAP_PROJECTION_ROTATION = 0.0
  MAP_PROJECTION_TYPE = SINUSOIDAL
  MAP_RESOLUTION = 74.08922548333329
  MAP_SCALE = 0.8
  MAXIMUM_LATITUDE = 40.7835
  MINIMUM_LATITUDE = -90.0
  POSITIVE_LONGITUDE_DIRECTION = EAST
  REFERENCE_LATITUDE = "N/A"
  REFERENCE_LONGITUDE = "N/A"
  SAMPLE_FIRST_PIXEL = 1
  SAMPLE_LAST_PIXEL = 9490
  SAMPLE_PROJECTION_OFFSET = 5539.0
  SECOND_STANDARD_PARALLEL = "N/A"
  WESTERNMOST_LONGITUDE = 0.0
END_OBJECT = IMAGE_MAP_PROJECTION
END
