PDS_VERSION_ID = PDS3
/* FILE DATA ELEMENTS */
RECORD_TYPE = UNDEFINED
/* POINTERS TO DATA OBJECTS */
^IMAGE = ("HI424_0000_IR4.TIF")
/* IDENTIFICATION DATA ELEMENTS */
DATA_SET_ID = "MEX-M-HRSC-4-REFDR-MAPPROJECT-EXT6-V4.0"
DATA_SET_NAME = "MARS EXPRESS HRSC MAP PROJECTED REFDR EXTENSION6 V4.0"
DETECTOR_ID = MEX_HRSC_IR
EVENT_TYPE = "MARS-TERMINATOR-CALIBRATION-Tc"
INSTRUMENT_HOST_ID = MEX
INSTRUMENT_HOST_NAME = "MARS EXPRESS"
INSTRUMENT_ID = HRSC
INSTRUMENT_NAME = "HIGH RESOLUTION STEREO CAMERA"
MISSION_NAME = "MARS EXPRESS"
MISSION_PHASE_NAME = ME_Phase_39
PROCESSING_LEVEL_ID = 4
PRODUCT_CREATION_TIME = 2023-01-29T08:20:11.000Z
PRODUCT_ID = "HI424_0000_IR4.TIF"
RELEASE_ID = 0004
REVISION_ID = 0000
/* QUALITY DATA ELEMENTS */
DATA_QUALITY_ID = 1
DATA_QUALITY_DESC = "Data calculated based on original SPICE kernels"
/* TIME DATA ELEMENTS */
SPACECRAFT_CLOCK_START_COUNT = "1/0480524237.24931"
SPACECRAFT_CLOCK_STOP_COUNT = "1/0480524737.25004"
START_TIME = 2018-07-24T14:57:48.472Z
STOP_TIME = 2018-07-24T15:01:54.466Z
/* ORBITAL DATA ELEMENTS */
ASCENDING_NODE_LONGITUDE = 228.47
MAXIMUM_RESOLUTION = 0.7816
FOOTPRINT_POINT_LATITUDE = (-58.3663,-58.367,-59.5647,-63.2086, -67.3526,-70.518,-74.655,-78.1975, -79.2482,-79.1593,-78.0877,-75.7581, -73.5526,-71.1426,-67.1127,-64.3974, -62.1716,-59.468,-55.855,-52.4625, -50.0747,-47.1329,-44.1117,-38.5338, -34.9372,-31.2793,-26.5443,-21.266, -18.1356,-15.6321,-11.5372,-8.57754, -4.13131,-1.96855,0.348312,3.75211, 6.11803,8.1941,11.1503,13.7247,15.9018, 17.7123,20.2548,22.5546,26.535,29.4797, 30.1029,33.5193,35.2176,36.1921,36.5524 ,38.1981,39.3586,41.1502,44.0699, 42.0061,42.8875,42.8405,39.4108,35.7548 ,32.2831,29.6811,26.344,23.234,18.7024, 14.5896,11.7406,9.39695,4.00774, -1.15375,-4.49528,-7.22158,-9.98452, -12.7528,-15.7401,-17.8515,-22.4077, -25.0271,-27.8557,-30.4754,-32.2482, -33.5962,-35.8183,-37.0142,-38.3584, -38.8548,-39.3049,-39.3224,-39.0995, -38.7501,-38.0159,-37.2743,-36.5141, -40.8305,-43.0495,-45.1806,-48.0883, -49.5231,-53.4848,-58.3663)
FOOTPRINT_POINT_LONGITUDE = (267.182,267.117,266.562,262.279, 260.119,252.955,247.079,265.024,280.256 ,309.622,323.889,339.111,347.719, 354.334,362.111,366.035,368.749,371.627 ,374.942,377.666,379.418,381.431, 383.391,386.764,388.841,390.897,393.533 ,396.457,398.231,399.669,402.076, 403.879,406.712,408.153,409.754,412.229 ,414.048,415.728,418.261,420.652, 422.817,424.733,427.651,425.883,423.642 ,420.762,417.734,415.797,413.203, 412.135,411.089,407.776,401.867,397.631 ,393.426,391.374,387.705,383.628, 382.625,381.545,380.501,379.686,378.611 ,377.566,375.974,374.429,373.292, 372.321,369.915,367.325,365.473,363.83, 362.035,360.079,357.753,355.955,351.519 ,348.516,344.772,340.656,337.395, 334.536,328.751,324.682,318.375,314.676 ,308.42,303.925,299.979,296.61,292.009, 288.626,283.083,282.499,279.802,277.549 ,277.981,274.619,273.862,267.182)
ORBIT_NUMBER = 18424
ORBITAL_ECCENTRICITY = 0.573
ORBITAL_INCLINATION = 86.96
ORBITAL_SEMIMAJOR_AXIS = 8804.9
PERIAPSIS_ALTITUDE = 371.54
PERIAPSIS_ARGUMENT_ANGLE = 44.7
PERIAPSIS_TIME = 2018-07-24T12:26:55.000Z
SPACECRAFT_ORIENTATION = (0.0,1.0,0.0)
^MEX_ORIENTATION_DESC = "MEX_ORIENTATION_DESC.TXT"
SPACECRAFT_POINTING_MODE = FIXED
^MEX_POINTING_DESC = "MEX_POINTING_DESC.TXT"
RIGHT_ASCENSION = -1e+32
DECLINATION = -1e+32
OFFSET_ANGLE = -1e+32
SPACECRAFT_SOLAR_DISTANCE = 2.09711e+08
TARGET_NAME = MARS
/* CAMERA DATA ELEMENTS */
DETECTOR_TEMPERATURE = 17.7588
FOCAL_PLANE_TEMPERATURE = 9.195
INST_CMPRS_NAME = "DISCRETE COSINE TRANSFORMATION (DCT)"
INST_CMPRS_RATIO = 7.04309
INST_CMPRS_QUALITY = 0
INST_CMPRS_QUANTZ_TBL_ID = 0
INSTRUMENT_TEMPERATURE = 12.0496
LENS_TEMPERATURE = 9.3989
MACROPIXEL_SIZE = 2
MISSING_FRAMES = 0
PIXEL_SUBSAMPLING_FLAG = N
SIGNAL_CHAIN_ID = 1
/* RADIOMETRIC DATA ELEMENTS */
BANDWIDTH = 81.0
CENTER_FILTER_WAVELENGTH = 955.5
RADIANCE_OFFSET = 0.0
RADIANCE_SCALING_FACTOR = 0.0183104
REFLECTANCE_SCALING_FACTOR = 0.00173708
MEX:REFLECTANCE_OFFSET = 0.0
/* IMAGE OBJECT DEFINITIONS */
OBJECT = IMAGE
  INTERCHANGE_FORMAT = BINARY
  LINES = 9417
  LINE_SAMPLES = 9534
  SAMPLE_TYPE = UNSIGNED_INTEGER
  SAMPLE_BITS = 8
  BANDS = 1
  BAND_STORAGE_TYPE = BAND_SEQUENTIAL
  MAXIMUM = 254
  MEAN = 145.714
  MINIMUM = 1
  STANDARD_DEVIATION = 66.3341
END_OBJECT = IMAGE
/* MAP OBJECT DEFINITIONS */
OBJECT = IMAGE_MAP_PROJECTION
  ^DATA_SET_MAP_PROJECTION_CATALOG= "DSMAP.CAT"
  A_AXIS_RADIUS = 3396.0
  B_AXIS_RADIUS = 3396.0
  C_AXIS_RADIUS = 3396.0
  CENTER_LATITUDE = 0.0
  CENTER_LONGITUDE = 12.0
  COORDINATE_SYSTEM_NAME = PLANETOGRAPHIC
  COORDINATE_SYSTEM_TYPE = "BODY-FIXED ROTATING"
  EASTERNMOST_LONGITUDE = 67.651
  FIRST_STANDARD_PARALLEL = "N/A"
  LINE_FIRST_PIXEL = 1
  LINE_LAST_PIXEL = 9417
  LINE_PROJECTION_OFFSET = 3325.0
  MAP_PROJECTION_ROTATION = 0.0
  MAP_PROJECTION_TYPE = SINUSOIDAL
  MAP_RESOLUTION = 74.08922548333329
  MAP_SCALE = 0.8
  MAXIMUM_LATITUDE = 44.0699
  MINIMUM_LATITUDE = -79.2482
  POSITIVE_LONGITUDE_DIRECTION = EAST
  REFERENCE_LATITUDE = "N/A"
  REFERENCE_LONGITUDE = "N/A"
  SAMPLE_FIRST_PIXEL = 1
  SAMPLE_LAST_PIXEL = 9534
  SAMPLE_PROJECTION_OFFSET = 5429.0
  SECOND_STANDARD_PARALLEL = "N/A"
  WESTERNMOST_LONGITUDE = -112.921
END_OBJECT = IMAGE_MAP_PROJECTION
END
