PDS_VERSION_ID = PDS3
/* FILE DATA ELEMENTS */
RECORD_TYPE = UNDEFINED
/* POINTERS TO DATA OBJECTS */
^IMAGE = ("HI432_0009_GR4.TIF")
/* IDENTIFICATION DATA ELEMENTS */
DATA_SET_ID = "MEX-M-HRSC-4-REFDR-MAPPROJECT-EXT6-V4.0"
DATA_SET_NAME = "MARS EXPRESS HRSC MAP PROJECTED REFDR EXTENSION6 V4.0"
DETECTOR_ID = MEX_HRSC_GREEN
EVENT_TYPE = "MARS-TERMINATOR-CALIBRATION-Tc"
INSTRUMENT_HOST_ID = MEX
INSTRUMENT_HOST_NAME = "MARS EXPRESS"
INSTRUMENT_ID = HRSC
INSTRUMENT_NAME = "HIGH RESOLUTION STEREO CAMERA"
MISSION_NAME = "MARS EXPRESS"
MISSION_PHASE_NAME = ME_Phase_39
PROCESSING_LEVEL_ID = 4
PRODUCT_CREATION_TIME = 2023-01-29T08:20:11.000Z
PRODUCT_ID = "HI432_0009_GR4.TIF"
RELEASE_ID = 0004
REVISION_ID = 0000
/* QUALITY DATA ELEMENTS */
DATA_QUALITY_ID = 1
DATA_QUALITY_DESC = "Data calculated based on original SPICE kernels"
/* TIME DATA ELEMENTS */
SPACECRAFT_CLOCK_START_COUNT = "1/0480726865.24903"
SPACECRAFT_CLOCK_STOP_COUNT = "1/0480727354.24467"
START_TIME = 2018-07-26T23:16:36.472Z
STOP_TIME = 2018-07-26T23:20:31.462Z
/* ORBITAL DATA ELEMENTS */
ASCENDING_NODE_LONGITUDE = 228.32
MAXIMUM_RESOLUTION = 0.8217
FOOTPRINT_POINT_LATITUDE = (-55.6215,-55.5956,-55.7878,-58.585, -61.522,-63.4571,-65.6881,-68.7331, -67.5965,-69.3872,-72.6541,-76.2798, -80.1772,-82.3911,-83.6125,-83.6909, -82.4919,-80.1653,-75.4081,-72.4199, -68.4342,-65.2365,-60.448,-56.4855, -53.168,-50.4473,-47.4822,-42.8545, -39.0706,-35.0065,-30.7008,-27.7318, -24.1338,-20.5143,-15.6164,-11.8093, -7.15416,-2.92328,0.52532,4.23748, 8.64288,13.1314,16.4157,16.5252,21.641, 22.9479,25.8194,26.0885,30.8747,31.2853 ,32.3122,34.4365,35.189,37.1223,36.8965 ,39.6942,39.5936,33.0209,28.1343, 24.8878,22.2276,18.1971,13.7232,10.8152 ,6.75503,4.42078,0.501088,-2.68205, -6.14856,-8.71864,-13.4489,-16.5235, -20.8926,-23.8379,-27.2264,-30.042, -33.6141,-35.8003,-37.0748,-38.7129, -39.6169,-40.4259,-41.0331,-41.4767, -41.3441,-40.999,-40.1934,-39.1698, -36.9107,-34.3342,-37.1191,-35.5961, -37.3152,-38.0361,-41.163,-42.4226, -45.539,-50.4572,-54.1095,-55.6215)
FOOTPRINT_POINT_LONGITUDE = (153.426,153.323,153.613,150.724, 143.131,137.592,132.055,129.729,122.828 ,116.276,120.606,127.462,140.71,156.57, 177.046,208.923,230.935,247.942,263.077 ,268.373,273.415,276.523,280.297, 282.921,284.889,286.393,287.971,290.33, 292.19,294.167,296.251,297.694,299.466, 301.295,303.893,305.956,308.66,311.287, 313.582,316.245,319.723,323.714,327.014 ,323.495,321.101,317.172,316.052, 312.971,308.281,307.227,303.679,296.247 ,292.709,290.119,284.476,280.611, 279.754,278.05,276.87,276.028,275.298, 274.12,272.705,271.714,270.222,269.305, 267.644,266.175,264.429,263.001,260.094 ,257.924,254.388,251.596,247.9,244.257, 238.554,234.116,231.01,226.085,222.653, 218.644,214.388,207.672,201.565,197.447 ,192.106,187.534,180.485,174.647, 176.975,173.721,176.871,172.201,172.263 ,168.3,167.859,162.956,157.556,153.426)
ORBIT_NUMBER = 18432
ORBITAL_ECCENTRICITY = 0.573
ORBITAL_INCLINATION = 86.97
ORBITAL_SEMIMAJOR_AXIS = 8805.57
PERIAPSIS_ALTITUDE = 370.99
PERIAPSIS_ARGUMENT_ANGLE = 43.32
PERIAPSIS_TIME = 2018-07-26T20:18:57.000Z
SPACECRAFT_ORIENTATION = (0.0,1.0,0.0)
^MEX_ORIENTATION_DESC = "MEX_ORIENTATION_DESC.TXT"
SPACECRAFT_POINTING_MODE = FIXED
^MEX_POINTING_DESC = "MEX_POINTING_DESC.TXT"
RIGHT_ASCENSION = -1e+32
DECLINATION = -1e+32
OFFSET_ANGLE = -1e+32
SPACECRAFT_SOLAR_DISTANCE = 2.09461e+08
TARGET_NAME = MARS
/* CAMERA DATA ELEMENTS */
DETECTOR_TEMPERATURE = 18.1666
FOCAL_PLANE_TEMPERATURE = 8.3794
INST_CMPRS_NAME = "DISCRETE COSINE TRANSFORMATION (DCT)"
INST_CMPRS_RATIO = 12.6763
INST_CMPRS_QUALITY = 0
INST_CMPRS_QUANTZ_TBL_ID = 0
INSTRUMENT_TEMPERATURE = 11.234
LENS_TEMPERATURE = 8.5833
MACROPIXEL_SIZE = 2
MISSING_FRAMES = 0
PIXEL_SUBSAMPLING_FLAG = N
SIGNAL_CHAIN_ID = 2
/* RADIOMETRIC DATA ELEMENTS */
BANDWIDTH = 88.0
CENTER_FILTER_WAVELENGTH = 538.0
RADIANCE_OFFSET = 0.0
RADIANCE_SCALING_FACTOR = 0.0212935
REFLECTANCE_SCALING_FACTOR = 0.000804255
MEX:REFLECTANCE_OFFSET = 0.0
/* IMAGE OBJECT DEFINITIONS */
OBJECT = IMAGE
  INTERCHANGE_FORMAT = BINARY
  LINES = 9192
  LINE_SAMPLES = 9951
  SAMPLE_TYPE = UNSIGNED_INTEGER
  SAMPLE_BITS = 8
  BANDS = 1
  BAND_STORAGE_TYPE = BAND_SEQUENTIAL
  MAXIMUM = 255
  MEAN = 166.848
  MINIMUM = 1
  STANDARD_DEVIATION = 66.4831
END_OBJECT = IMAGE
/* MAP OBJECT DEFINITIONS */
OBJECT = IMAGE_MAP_PROJECTION
  ^DATA_SET_MAP_PROJECTION_CATALOG= "DSMAP.CAT"
  A_AXIS_RADIUS = 3396.0
  B_AXIS_RADIUS = 3396.0
  C_AXIS_RADIUS = 3396.0
  CENTER_LATITUDE = 0.0
  CENTER_LONGITUDE = 269.0
  COORDINATE_SYSTEM_NAME = PLANETOGRAPHIC
  COORDINATE_SYSTEM_TYPE = "BODY-FIXED ROTATING"
  EASTERNMOST_LONGITUDE = 327.014
  FIRST_STANDARD_PARALLEL = "N/A"
  LINE_FIRST_PIXEL = 1
  LINE_LAST_PIXEL = 9192
  LINE_PROJECTION_OFFSET = 2930.0
  MAP_PROJECTION_ROTATION = 0.0
  MAP_PROJECTION_TYPE = SINUSOIDAL
  MAP_RESOLUTION = 74.08922548333329
  MAP_SCALE = 0.8
  MAXIMUM_LATITUDE = 39.6942
  MINIMUM_LATITUDE = -83.6909
  POSITIVE_LONGITUDE_DIRECTION = EAST
  REFERENCE_LATITUDE = "N/A"
  REFERENCE_LONGITUDE = "N/A"
  SAMPLE_FIRST_PIXEL = 1
  SAMPLE_LAST_PIXEL = 9951
  SAMPLE_PROJECTION_OFFSET = 5795.0
  SECOND_STANDARD_PARALLEL = "N/A"
  WESTERNMOST_LONGITUDE = 116.276
END_OBJECT = IMAGE_MAP_PROJECTION
END
